BEGIN:VCALENDAR
VERSION:2.0
PRODID:-//Notorious Jazz - ECPv6.15.17//NONSGML v1.0//EN
CALSCALE:GREGORIAN
METHOD:PUBLISH
X-WR-CALNAME:Notorious Jazz
X-ORIGINAL-URL:https://notoriousjazz.com
X-WR-CALDESC:Events for Notorious Jazz
REFRESH-INTERVAL;VALUE=DURATION:PT1H
X-Robots-Tag:noindex
X-PUBLISHED-TTL:PT1H
BEGIN:VTIMEZONE
TZID:America/New_York
BEGIN:DAYLIGHT
TZOFFSETFROM:-0500
TZOFFSETTO:-0400
TZNAME:EDT
DTSTART:20250309T070000
END:DAYLIGHT
BEGIN:STANDARD
TZOFFSETFROM:-0400
TZOFFSETTO:-0500
TZNAME:EST
DTSTART:20251102T060000
END:STANDARD
BEGIN:DAYLIGHT
TZOFFSETFROM:-0500
TZOFFSETTO:-0400
TZNAME:EDT
DTSTART:20260308T070000
END:DAYLIGHT
BEGIN:STANDARD
TZOFFSETFROM:-0400
TZOFFSETTO:-0500
TZNAME:EST
DTSTART:20261101T060000
END:STANDARD
BEGIN:DAYLIGHT
TZOFFSETFROM:-0500
TZOFFSETTO:-0400
TZNAME:EDT
DTSTART:20270314T070000
END:DAYLIGHT
BEGIN:STANDARD
TZOFFSETFROM:-0400
TZOFFSETTO:-0500
TZNAME:EST
DTSTART:20271107T060000
END:STANDARD
END:VTIMEZONE
BEGIN:VEVENT
DTSTART;TZID=America/New_York:20260220T080000
DTEND;TZID=America/New_York:20260221T170000
DTSTAMP:20260421T090759
CREATED:20260209T050024Z
LAST-MODIFIED:20260209T050024Z
UID:48875-1771574400-1771693200@notoriousjazz.com
SUMMARY:JEREMY PELT & ENDEA OWENS
DESCRIPTION:Jeremy Pelt\, celebrated for his virtuosic trumpet playing and collaborations with legends like Roy Hargrove and Cassandra Wilson\, draws on his extensive experience as a bandleader and composer to create music that is both thoughtful and bold. This richly textural\, Afro-futuristic work is centered on the stories and mysticism of masks\, examining the folklore surrounding them and the spiritual power they hold. Featuring vocalist Candice Hoyes\, the piece takes on an operatic dimension\, with the human voice heightening its drama\, ritual\, and emotional scope. \nEndea Owens\, a member of The Late Show with Stephen Colbert band and a Juilliard graduate who has worked with Wynton Marsalis\, Jon Batiste\, and Diana Ross\, infuses her music with passion and purpose shaped by her Detroit roots and deep commitment to community. Her work incorporates vocalists as well as dance company Sekou McMiller + Friends\, adding a powerful physical and visual layer that brings the music’s themes of ancestry\, grounding\, and resilience vividly to life. This composition draws from multiple genres\, blending elements of R&B\, Gospel\, Blues\, and beyond. \nJeremy Pelt’s Masks: The Folklore of the Mystics\nJeremy Pelt- trumpet/leader\nCandice Hoyes- vocals\nJalen Baker- vibraphone & marimba\nMisha Mendelenko- guitar\nLasse Corson- keyboards/piano\nLeighton Harrell- bass\nJared Spears- drums\nMarie-Ann Hedonia- synthesizer\nCharlie Pelt – flute \nEndea Owens\nEndea Owens – Bass/leader\nIrwin Hall – sax\nAlphonso Horne – trumpet\nJeffery Miller – trombone\nKeith Brown – piano\, Fender Rhodes\nCV Dashiell – drums\nTBD – vocals \nTickets: $62.00 ~ $97.00 | February 20 & 21 @ 7:00pm\nTickets: $52.00 ~ $77.00 | February 21 @ 4:30pm
URL:https://notoriousjazz.com/event/jeremy-pelt-endea-owens
LOCATION:The Appel Room | Jazz At Lincoln Center\, 10 Columbus Circle\, New York City\, NY\, 10019\, United States
CATEGORIES:Club
ATTACH;FMTTYPE=image/png:https://notoriousjazz.com/wp-content/uploads/2026/02/JEREMY-PELT-ENDEA-OWENS-@-APPEL-ROOM.png
END:VEVENT
END:VCALENDAR