BEGIN:VCALENDAR
VERSION:2.0
PRODID:-//Notorious Jazz - ECPv6.15.17//NONSGML v1.0//EN
CALSCALE:GREGORIAN
METHOD:PUBLISH
X-WR-CALNAME:Notorious Jazz
X-ORIGINAL-URL:https://notoriousjazz.com
X-WR-CALDESC:Events for Notorious Jazz
REFRESH-INTERVAL;VALUE=DURATION:PT1H
X-Robots-Tag:noindex
X-PUBLISHED-TTL:PT1H
BEGIN:VTIMEZONE
TZID:America/New_York
BEGIN:DAYLIGHT
TZOFFSETFROM:-0500
TZOFFSETTO:-0400
TZNAME:EDT
DTSTART:20250309T070000
END:DAYLIGHT
BEGIN:STANDARD
TZOFFSETFROM:-0400
TZOFFSETTO:-0500
TZNAME:EST
DTSTART:20251102T060000
END:STANDARD
BEGIN:DAYLIGHT
TZOFFSETFROM:-0500
TZOFFSETTO:-0400
TZNAME:EDT
DTSTART:20260308T070000
END:DAYLIGHT
BEGIN:STANDARD
TZOFFSETFROM:-0400
TZOFFSETTO:-0500
TZNAME:EST
DTSTART:20261101T060000
END:STANDARD
BEGIN:DAYLIGHT
TZOFFSETFROM:-0500
TZOFFSETTO:-0400
TZNAME:EDT
DTSTART:20270314T070000
END:DAYLIGHT
BEGIN:STANDARD
TZOFFSETFROM:-0400
TZOFFSETTO:-0500
TZNAME:EST
DTSTART:20271107T060000
END:STANDARD
END:VTIMEZONE
BEGIN:VEVENT
DTSTART;TZID=America/New_York:20260619T180000
DTEND;TZID=America/New_York:20260620T220000
DTSTAMP:20260421T093220
CREATED:20260314T163849Z
LAST-MODIFIED:20260314T164157Z
UID:49105-1781892000-1781992800@notoriousjazz.com
SUMMARY:DEE DEE BRIDGEWATER
DESCRIPTION:Two-time Grammy Winner & NEA Jazz Master Dee Dee Bridgewater Sings the Music of Abbey Lincoln! \nOver the course of a multifaceted career spanning four decades\, Grammy and Tony Award-winning NEA Jazz Master Dee Dee Bridgewater has ascended to the upper echelon of vocalists\, putting her unique spin on standards\, as well as taking intrepid leaps of faith in re-envisioning jazz classics. Bridgewater’s career has always bridged musical genres. She earned her first professional experience as a member of the legendary Thad Jones/Mel Louis Big Band\, and throughout the 70s she performed with such jazz notables as Max Roach\, Sonny Rollins\, Dexter Gordon and Dizzy Gillespie. After a foray into the pop world during the 1980s\, she relocated to Paris and began to turn her attention back to Jazz. \nStrongly influenced by jazz icons Billie Holiday and Louis Armstrong\, both of whom she met early in her career\, NEA Jazz Master Abbey Lincoln’s distinctive vocal style\, thought-provoking writing\, and spirited personality secured her a place among the jazz luminaries. Over the years\, she has worked with some of the biggest names in jazz\, including Benny Garter\, Max Roach\, Sonny Rollins\, Eric Dolphy\, Coleman Hawkins\, Miles Davis\, Jackie McLean\, Clark Terry\, and Stan Getz. The recipient of numerous civic and community awards for her work with the poor and disadvantaged\, Ms. Lincoln resisted the bleak side of life to emerge as a genuine carrier of celebration through music. \nDee Dee Bridgewater ~ vocals\nAlexis Lombre ~ piano & keyboard\nLiany Mateo ~ bass\nShirazette Tinnin ~ drums \nTickets: $65.00 ~ %75.00 +fee | Streaming: $20.00 +fee
URL:https://notoriousjazz.com/event/dee-dee-bridgewater-3
LOCATION:Keystone Korner Baltimore\, 1350 Lancaster Street\, Baltimore\, MD\, 21231\, United States
CATEGORIES:Club
ATTACH;FMTTYPE=image/png:https://notoriousjazz.com/wp-content/uploads/2026/03/DEE-DEE-BRIDGEWATER-@-KEYSTONE-KORNER.png
END:VEVENT
END:VCALENDAR