BEGIN:VCALENDAR
VERSION:2.0
PRODID:-//Notorious Jazz - ECPv6.15.17//NONSGML v1.0//EN
CALSCALE:GREGORIAN
METHOD:PUBLISH
X-ORIGINAL-URL:https://notoriousjazz.com
X-WR-CALDESC:Events for Notorious Jazz
REFRESH-INTERVAL;VALUE=DURATION:PT1H
X-Robots-Tag:noindex
X-PUBLISHED-TTL:PT1H
BEGIN:VTIMEZONE
TZID:Europe/Paris
BEGIN:DAYLIGHT
TZOFFSETFROM:+0100
TZOFFSETTO:+0200
TZNAME:CEST
DTSTART:20210328T010000
END:DAYLIGHT
BEGIN:STANDARD
TZOFFSETFROM:+0200
TZOFFSETTO:+0100
TZNAME:CET
DTSTART:20211031T010000
END:STANDARD
BEGIN:DAYLIGHT
TZOFFSETFROM:+0100
TZOFFSETTO:+0200
TZNAME:CEST
DTSTART:20220327T010000
END:DAYLIGHT
BEGIN:STANDARD
TZOFFSETFROM:+0200
TZOFFSETTO:+0100
TZNAME:CET
DTSTART:20221030T010000
END:STANDARD
BEGIN:DAYLIGHT
TZOFFSETFROM:+0100
TZOFFSETTO:+0200
TZNAME:CEST
DTSTART:20230326T010000
END:DAYLIGHT
BEGIN:STANDARD
TZOFFSETFROM:+0200
TZOFFSETTO:+0100
TZNAME:CET
DTSTART:20231029T010000
END:STANDARD
END:VTIMEZONE
BEGIN:VTIMEZONE
TZID:America/New_York
BEGIN:DAYLIGHT
TZOFFSETFROM:-0500
TZOFFSETTO:-0400
TZNAME:EDT
DTSTART:20210314T070000
END:DAYLIGHT
BEGIN:STANDARD
TZOFFSETFROM:-0400
TZOFFSETTO:-0500
TZNAME:EST
DTSTART:20211107T060000
END:STANDARD
BEGIN:DAYLIGHT
TZOFFSETFROM:-0500
TZOFFSETTO:-0400
TZNAME:EDT
DTSTART:20220313T070000
END:DAYLIGHT
BEGIN:STANDARD
TZOFFSETFROM:-0400
TZOFFSETTO:-0500
TZNAME:EST
DTSTART:20221106T060000
END:STANDARD
BEGIN:DAYLIGHT
TZOFFSETFROM:-0500
TZOFFSETTO:-0400
TZNAME:EDT
DTSTART:20230312T070000
END:DAYLIGHT
BEGIN:STANDARD
TZOFFSETFROM:-0400
TZOFFSETTO:-0500
TZNAME:EST
DTSTART:20231105T060000
END:STANDARD
END:VTIMEZONE
BEGIN:VTIMEZONE
TZID:America/Los_Angeles
BEGIN:DAYLIGHT
TZOFFSETFROM:-0800
TZOFFSETTO:-0700
TZNAME:PDT
DTSTART:20210314T100000
END:DAYLIGHT
BEGIN:STANDARD
TZOFFSETFROM:-0700
TZOFFSETTO:-0800
TZNAME:PST
DTSTART:20211107T090000
END:STANDARD
BEGIN:DAYLIGHT
TZOFFSETFROM:-0800
TZOFFSETTO:-0700
TZNAME:PDT
DTSTART:20220313T100000
END:DAYLIGHT
BEGIN:STANDARD
TZOFFSETFROM:-0700
TZOFFSETTO:-0800
TZNAME:PST
DTSTART:20221106T090000
END:STANDARD
BEGIN:DAYLIGHT
TZOFFSETFROM:-0800
TZOFFSETTO:-0700
TZNAME:PDT
DTSTART:20230312T100000
END:DAYLIGHT
BEGIN:STANDARD
TZOFFSETFROM:-0700
TZOFFSETTO:-0800
TZNAME:PST
DTSTART:20231105T090000
END:STANDARD
END:VTIMEZONE
BEGIN:VEVENT
DTSTART;TZID=Europe/Paris:20221201T190000
DTEND;TZID=Europe/Paris:20221201T210000
DTSTAMP:20260423T214626
CREATED:20221125T172557Z
LAST-MODIFIED:20221128T011950Z
UID:32846-1669921200-1669928400@notoriousjazz.com
SUMMARY:DEENE TRIO
DESCRIPTION:The Deene Trio fronted by vocalist Delphine Nérot is accompanied by accordion and double bass. \nReservations: contact@laciotatculture.com \nInfo: 06 09 49 03 24 | www.facebook.com/laciotatculture
URL:https://notoriousjazz.com/event/deene-trio
LOCATION:Chapelle des Minimes\, Place Guibert\, 13600\, La Ciotat\, France
CATEGORIES:Concert
ATTACH;FMTTYPE=image/jpeg:https://notoriousjazz.com/wp-content/uploads/2022/11/DEENE-TRIO.jpg
END:VEVENT
BEGIN:VEVENT
DTSTART;TZID=America/New_York:20221202T193000
DTEND;TZID=America/New_York:20221202T210000
DTSTAMP:20260423T214626
CREATED:20221129T140557Z
LAST-MODIFIED:20221129T140557Z
UID:32915-1670009400-1670014800@notoriousjazz.com
SUMMARY:JOHN BROWN LITTLE BIG BAND FEATURING NNENA FREELON
DESCRIPTION:Six-Time Grammy Award Nominee Nnenna Freelon is known worldwide as a compelling and captivating live performer. The John Brown Big Band is a professional large jazz ensemble made up of top musicians\, specializing in performances of traditional compositions from the Great American Songbook and today’s cutting-edge arrangements. Together\, these two forces will bring an unforgettable evening of music to the JPAC as they perform all your favorite Holiday favorites such as “Let it Snow\, “Jingle Bells” and “Silent Night.” John Brown ~ Bass. \nDoors Open: 6:45 PM \nJohn Brown “Little” Big Band Featuring Special Guest Nnenna Freelon Holiday Show – Pre-Concert Hors d’oeuvres Reception** ~ $35.00 | 5:30
URL:https://notoriousjazz.com/event/john-brown-little-big-band-featuring-nnena-freelon
LOCATION:Seby B. Jones Performing Arts Center\, 501 N. Main Street\, Louisburg\, NC\, 27549\, United States
CATEGORIES:Concert
ATTACH;FMTTYPE=image/jpeg:https://notoriousjazz.com/wp-content/uploads/2022/11/NNENA-FREELON-JOHN-BROWN.jpg
END:VEVENT
BEGIN:VEVENT
DTSTART;TZID=America/New_York:20221207T190000
DTEND;TZID=America/New_York:20221207T210000
DTSTAMP:20260423T214626
CREATED:20221109T214621Z
LAST-MODIFIED:20221110T012844Z
UID:32581-1670439600-1670446800@notoriousjazz.com
SUMMARY:EMMET COHEN TRIO
DESCRIPTION:Multifaceted American jazz pianist and composer Emmet Cohen is one of his generation’s pivotal artistic figures. Downbeat praised the “nimble touch\, measured stride and warm harmonic vocabulary” he employs to communicate with other musicians and audiences at “the deepest level of humanity and individuality.” Cohen plays with the command and passion of an artist fully devoted to his medium. \nHe presents jazz performance lectures through the YoungArts Foundation and Lincoln Center’s “Jazz for Young People” program. Cohen has appeared at the Monterey\, Newport\, North Sea\, Bern\, and Edinburgh jazz festivals\, among others\, and at many famous music venues\, including Rose Hall and the Kennedy Center. \nHe has also played in legendary international nightspots\, such as Birdland\, the Blue Note\, Dizzy’s Club Coca-Cola\, Jazzhaus Montmartre\, Ronnie Scott’s and is the Hammond B-3 organist-in-residence at Harlem’s Smoke jazz club. Cohen holds jazz piano degrees from the Manhattan School of Music (M.M.) and the University of Miami (B.M.). In 2019 he won the American Pianists Association’s Cole Porter Fellowship and in 2011 the Thelonious Monk International Piano Competition. He has performed or collaborated with Debbie Allen\, Ron Carter\, Jimmy Cobb\, Lea DeLaria\, Kurt Elling\, Billy Hart\, Jimmy Heath\, Ali Jackson\, Bill T. Jones\, Brian Lynch\, Christian McBride\, and Herlin Riley. Learn more about Emmet at www.emmetcohen.com
URL:https://notoriousjazz.com/event/emmet-cohen
LOCATION:Amaturo Theater At The Broward Center For The Performing Arts\, 201 SW 5th Avenue\, Ft. Lauderdale\, FL\, 33312\, United States
CATEGORIES:Concert
ATTACH;FMTTYPE=image/jpeg:https://notoriousjazz.com/wp-content/uploads/2022/11/EMMET-COHEN.jpeg
END:VEVENT
BEGIN:VEVENT
DTSTART;TZID=America/New_York:20221213T200000
DTEND;TZID=America/New_York:20221213T220000
DTSTAMP:20260423T214626
CREATED:20221210T173311Z
LAST-MODIFIED:20221210T174108Z
UID:33096-1670961600-1670968800@notoriousjazz.com
SUMMARY:GRAND GATHERING
DESCRIPTION:The Institute of Jazz and Gender Justice Presents: Grand Gathering \nIn celebration of the release of New Standards: 101 Lead Sheets by Women Composers and its accompanying album\, the Berklee Institute of Jazz and Gender Justice will present Grand Gathering\, showcasing all eleven of its ensembles\, ranging from modern to mainstream and free to electronic jazz\, featuring original compositions and music by contemporary composers. Featuring Kris Davis\, Linda May Han~Oh\, Val Jeanty\, and special guests include Tia Fuller and Marquis Hill. \n\nAdmission: $15-20 advance / $20-25 day of show\n\n\nDiscounted admission with Berklee ID: Free-$5 in advance / $5-10 day of show
URL:https://notoriousjazz.com/event/grand-gathering
LOCATION:Berklee Performance Center\, 136 Massachusetts Avenue\, Boston\, MA\, 02115\, United States
CATEGORIES:Concert
ATTACH;FMTTYPE=image/jpeg:https://notoriousjazz.com/wp-content/uploads/2022/12/GRAND-GATHERING.jpg
END:VEVENT
BEGIN:VEVENT
DTSTART;TZID=America/New_York:20221214T193000
DTEND;TZID=America/New_York:20221214T204500
DTSTAMP:20260423T214626
CREATED:20221214T002346Z
LAST-MODIFIED:20221214T002620Z
UID:33182-1671046200-1671050700@notoriousjazz.com
SUMMARY:TAL COHEN TRIO
DESCRIPTION:Grammy Award-winning Miami jazz pianist Tal Cohen has received much acclaim\, winning the Barry Harris National Piano Competition and receiving the prestigious Freedman Fellowship. He performed to a sold-out crowd at the Sydney Opera House. \nRecently\, Cohen played across the globe with Terence Blanchard\, Greg Osby\, Ignacio Berroa\, Joe Lovano and others. He currently leads his own ensemble\, which has performed at iconic jazz festivals and venues such as Jazz Bez in Ukraine\, Detroit Jazz Festival\, Melbourne Jazz Festival in Australia and a three-week residency at the Black Cat in San Francisco. His most recent album\, Gentle Giants\, has received international acclaim and many reviews\, including a four-star review from DownBeat magazine. \nCohen is among the most in-demand pianists as he continues to tour the globe with his blend of Jewish melodies\, traditional jazz harmonies and impeccable rhythmic palette. \nLive on the Plaza is a series of outdoor concerts on our Parker and Vann Thomson Plaza for the Arts. \nPlease note: Tables can be purchased for 1\, 2\, 3 or 4 guests. Ticket prices are per person. Locations are assigned in the order of purchase in parties of up to four guests based on reservation type. \nDoors open at 6 p.m. with light bites and beverage service.\nHappy hour pricing available until 7 p.m.\nPerformance starts at 7:30 p.m.
URL:https://notoriousjazz.com/event/tal-cohen
LOCATION:Adrienne Arsht Center | Thomson Plaza for the Arts\, 1300 Biscayne Avenue\, Miami\, FL\, 33132\, United States
CATEGORIES:Concert
ATTACH;FMTTYPE=image/jpeg:https://notoriousjazz.com/wp-content/uploads/2022/12/TAL-COHEN.jpeg
END:VEVENT
BEGIN:VEVENT
DTSTART;TZID=America/New_York:20221216T193000
DTEND;TZID=America/New_York:20221216T210000
DTSTAMP:20260423T214626
CREATED:20221123T160059Z
LAST-MODIFIED:20221123T161829Z
UID:32816-1671219000-1671224400@notoriousjazz.com
SUMMARY:CURTIS STIGERS
DESCRIPTION:An intimate evening of songs and stories by the critically-acclaimed\, Emmy-nominated singer\, songwriter\, saxophonist and guitarist Curtis Stigers and his band. His string of hit singles\, millions of albums sold\, and a 28-year recording career aside\, his commitment to artistic growth\, and to bringing new tunes to the Great American Songbook\, has become unparalleled in modern music. Along the way\, this musician has redefined the constitution of contemporary jazz singing.
URL:https://notoriousjazz.com/event/curtis-stigers
LOCATION:The Argyros\, 120 Main Street S\, Ketchum\, ID\, 83340\, United States
CATEGORIES:Concert
ATTACH;FMTTYPE=image/jpeg:https://notoriousjazz.com/wp-content/uploads/2022/11/CURTIS-STIGERS.jpg
END:VEVENT
BEGIN:VEVENT
DTSTART;TZID=America/New_York:20221216T200000
DTEND;TZID=America/New_York:20221217T220000
DTSTAMP:20260423T214626
CREATED:20221212T040708Z
LAST-MODIFIED:20221212T040923Z
UID:33160-1671220800-1671314400@notoriousjazz.com
SUMMARY:RANEE LEE
DESCRIPTION:DARK DIVAS ~ A  musical journey about the lives and times of a few of the many popular Black female entertainers of an era! Featuring music and songs by Josephine Baker\, Billie Holiday\, Lena Horne\, Pearl Bailey\, Dinah Washington\, Sarah Vaughan\, and Ella Fitzgerald. \nRanee Lee\, CM (born October 26\, 1942 in Brooklyn\, New York City) is an American jazz singer and musician who resides in Montreal\, Quebec. She is also an actor\, author\, educator and television host. Referred as “Montreal’s Queen of Jazz”\, Lee is a Juno Award winner\, two-time Top Canadian Female Jazz Vocalist by Jazz Report Magazine[2] and was honored with the International Association of Jazz Educators Awards for her outstanding contribution to jazz music.
URL:https://notoriousjazz.com/event/ranee-lee
LOCATION:Centaur Theatre\, 453 Saint Francois Xavier Street\, Montreal\, Quebec\, H2Y 2T2\, Canada
CATEGORIES:Concert
ATTACH;FMTTYPE=image/jpeg:https://notoriousjazz.com/wp-content/uploads/2022/12/RANEE-LEE.jpg
END:VEVENT
BEGIN:VEVENT
DTSTART;TZID=America/Los_Angeles:20221217T190000
DTEND;TZID=America/Los_Angeles:20221218T210000
DTSTAMP:20260423T214626
CREATED:20221215T154548Z
LAST-MODIFIED:20221215T200755Z
UID:33237-1671303600-1671397200@notoriousjazz.com
SUMMARY:MARC CARY
DESCRIPTION:In a jazz world brimming with brilliant and adventurous pianists\, Marc Cary stands apart by way of pedigree and design as one of New York’s best jazz pianists. None of his prestigious peer group ever set the groove behind the drums in Washington DC go-go bands\, nor are they graduates of both Betty Carter and Abbey Lincoln’s daunting bandstand academies. \n\n\n\n“There isn’t much in the modern-jazz-musician tool kit that Marc Cary hasn’t mastered\, but he has a particular subspecialty in the area of groove…with a range of rhythmic strategies\, from a deep-house pulse to a swinging churn.” — New York Times
URL:https://notoriousjazz.com/event/marc-cary
LOCATION:The 222\, 222 Healdsburg Avenue\, Healdsburg\, CA\, 95448\, United States
CATEGORIES:Concert
ATTACH;FMTTYPE=image/jpeg:https://notoriousjazz.com/wp-content/uploads/2022/12/MARC-CARY.jpg
END:VEVENT
BEGIN:VEVENT
DTSTART;TZID=America/New_York:20221217T193000
DTEND;TZID=America/New_York:20221217T210000
DTSTAMP:20260423T214626
CREATED:20221123T162523Z
LAST-MODIFIED:20221124T003943Z
UID:32819-1671305400-1671310800@notoriousjazz.com
SUMMARY:ALAN PASQUA TRIO
DESCRIPTION:Alan Pasqua is an American rock and jazz pianist\, a Steinway Piano Artist\, Grammy Nominee and Professor of Jazz Studies at USC Thornton School of Music. He has been a member of the bands of Bob Dylan and Santana\, played and recorded with jazz artists including Tony Williams\, Jack DeJohnette\, Paul Motian\, Dave Holland\, Michael Brecker\, Randy Brecker\, Joe Henderson\, Stanley Clarke\, Gary Burton and worked with composers John Williams\, Quincy Jones\, Dave Grusin\, Jerry Goldsmith and Henry Mancini.
URL:https://notoriousjazz.com/event/alan-pasqua-trio
LOCATION:The Argyros\, 120 Main Street S\, Ketchum\, ID\, 83340\, United States
CATEGORIES:Concert
ATTACH;FMTTYPE=image/jpeg:https://notoriousjazz.com/wp-content/uploads/2022/11/ALAN-PASQUA.jpg
END:VEVENT
BEGIN:VEVENT
DTSTART;TZID=America/New_York:20221222T200000
DTEND;TZID=America/New_York:20221222T230000
DTSTAMP:20260423T214626
CREATED:20221130T172748Z
LAST-MODIFIED:20221130T173845Z
UID:32941-1671739200-1671750000@notoriousjazz.com
SUMMARY:HARRY CONNICK JR.
DESCRIPTION:GRAMMY and Emmy Award-winning musician\, singer\, composer\, legendary live performer\, and multi-platinum best-selling artist\, Harry Connick\, Jr.\, invites you to celebrate the holidays with him and his band as he crosses the country in concert this holiday season. \nLong regarded as one of America’s finest vocalists and pianists\, Harry has continued to establish himself as one of the most beloved artists performing holiday music to date\, thrilling audiences around the world for decades with his definitive take on Christmas classics\, as well as his own originals and fan favorites like “(It Must’ve Been Ol’) Santa Claus” and “When My Heart Finds Christmas.” \nHarry Connick\, Jr. has exemplified excellence in every aspect of the entertainment world. He has received recognition with multiple GRAMMY and Emmy Awards as well as Tony nominations for his live and recorded musical performances\, his achievements on screens large and small\, and his appearances on Broadway as both an actor and a composer. He has sold millions of holiday albums\, which have become the soundtrack to Christmas for fans around the world.
URL:https://notoriousjazz.com/event/harry-connick-jr-2
LOCATION:Arlene Schnitzer Concert Hall\, 1037 SW Broadway Avenue\, Portland\, OR\, 97205\, United States
CATEGORIES:Concert
ATTACH;FMTTYPE=image/jpeg:https://notoriousjazz.com/wp-content/uploads/2022/11/HARRY-CONNICK-JR..jpg
END:VEVENT
BEGIN:VEVENT
DTSTART;TZID=America/New_York:20221223T180000
DTEND;TZID=America/New_York:20221223T210000
DTSTAMP:20260423T214626
CREATED:20221205T145129Z
LAST-MODIFIED:20221206T044153Z
UID:32989-1671818400-1671829200@notoriousjazz.com
SUMMARY:BOBBY FELDER ~ CHRISTMAS JAZZ GALA
DESCRIPTION:Bobby Felder\, trombone \nHerb Scott\, alto saxophone \nBen Sands\, tenor saxophone \nMichael Thomas\, trumpet \nJon Ozment\, piano \nWes Biles\, bass \nDavid Cole\, guitar \nGreg Holloway\, drums \nBradley Thomas\, Gail Shipp\, Tya Ade\, Dick Smith\, vocals
URL:https://notoriousjazz.com/event/bobby-felder-christmas-jazz-gala
LOCATION:Westminster Presbyterian Church\, 400 I Street SW\, Washington\, DC\, 20024\, United States
CATEGORIES:Concert
ATTACH;FMTTYPE=image/jpeg:https://notoriousjazz.com/wp-content/uploads/2022/12/BOBBY-FELDER.jpeg
END:VEVENT
BEGIN:VEVENT
DTSTART;TZID=America/New_York:20221229T223000
DTEND;TZID=America/New_York:20221229T235900
DTSTAMP:20260423T214626
CREATED:20221130T182611Z
LAST-MODIFIED:20221130T183856Z
UID:32947-1672353000-1672358340@notoriousjazz.com
SUMMARY:CHRIS BOTTI
DESCRIPTION:Since his rise to prominence in the early 2000’s\, Chris Botti has reserved his spot as the best~selling American instrumental artist with Grammy~winning albums. Four of his albums have reached #1 on the Bilboard chart for jazz albums. \nTicket prices add fees from $8.32 ~ $17.63
URL:https://notoriousjazz.com/event/chris-botti
LOCATION:Blue Note ~ New York\, 131 W. 3rd Street\, New York City\, NY\, 10012\, United States
CATEGORIES:Concert
ATTACH;FMTTYPE=image/jpeg:https://notoriousjazz.com/wp-content/uploads/2022/11/CHRIS-BOTTI.jpg
END:VEVENT
BEGIN:VEVENT
DTSTART;TZID=America/New_York:20221230T180000
DTEND;TZID=America/New_York:20221230T210000
DTSTAMP:20260423T214626
CREATED:20221205T145351Z
LAST-MODIFIED:20221206T044254Z
UID:32991-1672423200-1672434000@notoriousjazz.com
SUMMARY:ANTONIO PARKER & FRIENDS
DESCRIPTION:Antonio Parker\, saxophone \nReginald Cyntje\, trombone \nHope Udobi\, piano \nCheney Thomas\, bass \nKeith Killgo\, drums
URL:https://notoriousjazz.com/event/antonio-parker-friends
LOCATION:Westminster Presbyterian Church\, 400 I Street SW\, Washington\, DC\, 20024\, United States
CATEGORIES:Concert
ATTACH;FMTTYPE=image/jpeg:https://notoriousjazz.com/wp-content/uploads/2022/12/ANTONIO-PARKER.jpeg
END:VEVENT
BEGIN:VEVENT
DTSTART;TZID=America/New_York:20221230T200000
DTEND;TZID=America/New_York:20221230T220000
DTSTAMP:20260423T214626
CREATED:20221212T033414Z
LAST-MODIFIED:20221212T033703Z
UID:33152-1672430400-1672437600@notoriousjazz.com
SUMMARY:JOE LOVANO
DESCRIPTION:JOE LOVANO AND FRIENDS: A CELEBRATION OF LIFE AND MUSIC @ BOP STOP \n\nWe are excited to close out 2022 with one of Cleveland’s favorite sons\, renowned saxophonist Joe Lovano\, in a special New Years Eve Eve performance featuring a host of local talent. Join us as we celebrate all that 2022 has taught us\, and all that 2023 has to offer. Tickets to this final BOP STOP show of the year are $35. This concert will not be livestreamed. \nFeaturing: \n\nJudi Silvano\, voice\nAnthony Fuoco\, piano\nAidan Plank\, bass\nCarmen Castaldi\, drums\nJamey Haddad\, drums\nGary Jenkins\, drums\nAnthony Lovano\, drums\nDavid Thomas\, organ\n\nAnd special guest appearances: \n\nErnie Krivda\, tenor saxophone\nDominick Farinacci\, trumpet\n\nHailed by the New York Times as “one of the greatest musicians in jazz history\,” Grammy Award winning saxophone giant Joe Lovano has distinguished himself for some three decades as a prescient and path finding force in the arena of creative music. The secret to Lovano’s success is his fearless ability to push the conceptual and thematic choices he has made in his quest to find new modes of artistic expression within the jazz idiom. \nSince 2009\, Lovano’s main vehicle for his exploration has been Us Five a dynamic young band—which features drummers Otis Brown III and Francisco Mela\, bassist Esperanza Spalding\, and pianist James Weidman The band’s most recent release – Bird Songs— Lovano’s 22nd album for Blue Note Records (the release of which marked his 20th year on the label) is an exploration of the Charlie Parker songbook that breaks the mold of Bird tribute records. “I didn’t approach this as a tribute record\,” states Joe Lovano\, dispelling right off the bat any preconception that his latest album is a mere retread. In 2011 the JJA (Jazz Journalist’s Association) named Bird Songs Recording of the the Year and named Us Five Small Ensemble of the Year. It was also the Downbeat Editor’s Pick for Album of the Year. Us Five’s debut recording—2009’s Folk Art—was a wide-ranging set of Lovano’s original compositions that resulted in Us Five being awarded Best Small Ensemble of the Year at the 2010 JJA Jazz Awards and winning the Best Jazz Group of the Year category in the 2010 DownBeat Critics Poll. Lovano completed a double-triple of awards by also winning the JJA’s Musician and Tenor Saxophonist of the Year\, and DownBeat’s Jazz Artist and Tenor Saxophonist of the Year.
URL:https://notoriousjazz.com/event/joe-lovano
LOCATION:Bop Stop At The Settlement\, 2920 Detroit Avenue\, Cleveland\, OH\, 44133\, United States
CATEGORIES:Concert
ATTACH;FMTTYPE=image/jpeg:https://notoriousjazz.com/wp-content/uploads/2022/12/JOE-LOVANO.jpg
END:VEVENT
BEGIN:VEVENT
DTSTART;TZID=America/New_York:20221231T190000
DTEND;TZID=America/New_York:20221231T223000
DTSTAMP:20260423T214626
CREATED:20221014T160925Z
LAST-MODIFIED:20221016T010243Z
UID:32180-1672513200-1672525800@notoriousjazz.com
SUMMARY:CARMEN LUNDY & FRIENDS
DESCRIPTION:Ring in 2023 in style when our always popular A Jazz New Year’s Eve returns to the Terrace Theater! This year stars the incomparable vocalist Carmen Lundy and\, in Lundy’s own words\, “a reunion of friends with some of the finest musical talent of our era.” \nLundy is renowned worldwide for her coolly expert\, classic-to-contemporary sound. The Evening Standard describes it best: “in a world of pretenders\, Carmen Lundy is a genuine Jazz Singer.” The vocalist and composer will be joined by special guests including vibraphonist Warren Wolf and VSA International Young Soloist and Betty Carter’s Jazz Ahead alumnus Matthew Whitaker.
URL:https://notoriousjazz.com/event/carmen-lundy-3
LOCATION:Kennedy Center | Terrace Theater\, 2700 F Street\, NW\, Washington\, DC\, 20566\, United States
CATEGORIES:Concert
ATTACH;FMTTYPE=image/jpeg:https://notoriousjazz.com/wp-content/uploads/2022/10/CARMEN-LUNDY.jpeg
END:VEVENT
END:VCALENDAR