BEGIN:VCALENDAR
VERSION:2.0
PRODID:-//Notorious Jazz - ECPv6.15.17//NONSGML v1.0//EN
CALSCALE:GREGORIAN
METHOD:PUBLISH
X-ORIGINAL-URL:https://notoriousjazz.com
X-WR-CALDESC:Events for Notorious Jazz
REFRESH-INTERVAL;VALUE=DURATION:PT1H
X-Robots-Tag:noindex
X-PUBLISHED-TTL:PT1H
BEGIN:VTIMEZONE
TZID:America/New_York
BEGIN:DAYLIGHT
TZOFFSETFROM:-0500
TZOFFSETTO:-0400
TZNAME:EDT
DTSTART:20220313T070000
END:DAYLIGHT
BEGIN:STANDARD
TZOFFSETFROM:-0400
TZOFFSETTO:-0500
TZNAME:EST
DTSTART:20221106T060000
END:STANDARD
BEGIN:DAYLIGHT
TZOFFSETFROM:-0500
TZOFFSETTO:-0400
TZNAME:EDT
DTSTART:20230312T070000
END:DAYLIGHT
BEGIN:STANDARD
TZOFFSETFROM:-0400
TZOFFSETTO:-0500
TZNAME:EST
DTSTART:20231105T060000
END:STANDARD
BEGIN:DAYLIGHT
TZOFFSETFROM:-0500
TZOFFSETTO:-0400
TZNAME:EDT
DTSTART:20240310T070000
END:DAYLIGHT
BEGIN:STANDARD
TZOFFSETFROM:-0400
TZOFFSETTO:-0500
TZNAME:EST
DTSTART:20241103T060000
END:STANDARD
END:VTIMEZONE
BEGIN:VTIMEZONE
TZID:America/Chicago
BEGIN:DAYLIGHT
TZOFFSETFROM:-0600
TZOFFSETTO:-0500
TZNAME:CDT
DTSTART:20220313T080000
END:DAYLIGHT
BEGIN:STANDARD
TZOFFSETFROM:-0500
TZOFFSETTO:-0600
TZNAME:CST
DTSTART:20221106T070000
END:STANDARD
BEGIN:DAYLIGHT
TZOFFSETFROM:-0600
TZOFFSETTO:-0500
TZNAME:CDT
DTSTART:20230312T080000
END:DAYLIGHT
BEGIN:STANDARD
TZOFFSETFROM:-0500
TZOFFSETTO:-0600
TZNAME:CST
DTSTART:20231105T070000
END:STANDARD
BEGIN:DAYLIGHT
TZOFFSETFROM:-0600
TZOFFSETTO:-0500
TZNAME:CDT
DTSTART:20240310T080000
END:DAYLIGHT
BEGIN:STANDARD
TZOFFSETFROM:-0500
TZOFFSETTO:-0600
TZNAME:CST
DTSTART:20241103T070000
END:STANDARD
END:VTIMEZONE
BEGIN:VEVENT
DTSTART;TZID=America/New_York:20230201T193000
DTEND;TZID=America/New_York:20230201T230000
DTSTAMP:20260423T185010
CREATED:20221230T043637Z
LAST-MODIFIED:20221230T043637Z
UID:33448-1675279800-1675292400@notoriousjazz.com
SUMMARY:FRED HERSCH & ESPERANZA SPALDING
DESCRIPTION:Pianist and composer Fred Hersch\, called “a living legend” by The New Yorker\, and vocalist esperanza spalding\, whom NPR cites as “the 21st Century’s first jazz genius\,” present an exhilarating evening of songs from the Great American Songbook\, music from Brazil\, and brand-new compositions. \nShowtimes ~ 7:40pm | 9:30pm
URL:https://notoriousjazz.com/event/fred-hersch-esperanza-spalding
LOCATION:Kennedy Center | Studio K\, 2700 F St NW\,\, Washington\, DC\, 20566\, United States
CATEGORIES:Concert
ATTACH;FMTTYPE=image/jpeg:https://notoriousjazz.com/wp-content/uploads/2022/12/FRED-HERSCH-ESPERANZA-SPALDING.jpeg
END:VEVENT
BEGIN:VEVENT
DTSTART;TZID=America/New_York:20230202T193000
DTEND;TZID=America/New_York:20230202T204500
DTSTAMP:20260423T185010
CREATED:20221214T004402Z
LAST-MODIFIED:20221214T004402Z
UID:33195-1675366200-1675370700@notoriousjazz.com
SUMMARY:LESLIE CARTAYA
DESCRIPTION:Cuban singer-songwriter Leslie Cartaya carries the rhythms of her land in her blood\, as well as the influence of American jazz and funk\, which has shaped her artistic personality. Dubbed “La Princesa del Son\,” Cartaya debuted as a soloist with the 2012 album No Pares\, on which Caribbean\, Afro-American\, Afro-Cuban and Latin American rhythms fuse together. In 2013\, she was nominated for a Latin Grammy Award for Best New Artist. Her philosophy is that no dream is impossible\, and she feels blessed to have sung alongside greats such Luis Enrique\, Marisela Verena\, Larry Harlow\, Ed Calle and Steve Roitstein. The Miami Herald wrote that “Leslie Cartaya no para” — Leslie doesn’t stop. \nLa canta/autora cubano americana Leslie Cartaya lleva en su sangre los ritmos de su tierra\, y a la vez\, la influencia del jazz y el funk americano que han moldeado su personalidad artística para alcanzar su propio estilo. En el 2013 llego a ser nominada como Best New Artist en los Latin Grammy. \nLa princesa del Son se presenta como solista con su primera producción discográfica denominada “No Pares”. Los ritmos de la música caribeña\, afroamericana\, afrocubana y Latinoamericana se fusionan de forma armónica en este álbum que contiene 19 temas\, de los cuales 18 son escritos por Leslie. Para Leslie\, cantar es su mejor terapia. A través de la música ella aprendió desde muy pequeña a expresar claramente sus sentimientos\, alegrías\, pasiones\, tristezas e incluso estados de melancolía. Para Cartaya\, cuya filosofía de vida parte de la premisa de que no hay sueño imposible\, cantar junto a los grandes como Luis Enrique\, Marisela Verena\, Larry Harlow\, Ed Calle y Steve Roitstein fue una bendición. El destacado periodista Arturo Arias del Miami Herald comentó “Leslie Cartaya no para\,” y tales apreciaciones son un estímulo para continuar haciendo buena música. \nCon el lanzamiento oficial de “No Pares” Leslie Cartaya subió a la posición número siete en los charts latinos de Reverbnation en Miami y logró el reconocimiento de la industria al ser nominada como Best New Artist en el 14mo Latin Grammy. Cartaya sigue trabajando en la promoción de “No Pares” mientras se prepara para próximas presentaciones y giras promocionales por varios países de Latinoamérica. \nLive on the Plaza is a series of outdoor concerts on our Parker and Vann Thomson Plaza for the Arts. \nPlease note: Tables can be purchased for 1\, 2\, 3 or 4 guests. Ticket prices are per person. Locations are assigned in the order of purchase in parties of up to four guests based on reservation type. \nDoors open at 6 p.m. with light bites and beverage service.\nHappy hour pricing available until 7 p.m.\nPerformance starts at 7:30 p.m.
URL:https://notoriousjazz.com/event/leslie-cartaya
LOCATION:Adrienne Arsht Center | Thomson Plaza for the Arts\, 1300 Biscayne Avenue\, Miami\, FL\, 33132\, United States
CATEGORIES:Concert
ATTACH;FMTTYPE=image/jpeg:https://notoriousjazz.com/wp-content/uploads/2022/12/LESLIE-CARTAYA.jpeg
END:VEVENT
BEGIN:VEVENT
DTSTART;TZID=America/New_York:20230203T200000
DTEND;TZID=America/New_York:20230203T220000
DTSTAMP:20260423T185010
CREATED:20220905T230228Z
LAST-MODIFIED:20230107T163905Z
UID:31524-1675454400-1675461600@notoriousjazz.com
SUMMARY:CÉCILE MCLORIN SALVANT
DESCRIPTION:Three-time Grammy Award winner and MacArthur Fellow Cécile McLorin Salvant joins the 22-23 Jazz Roots season with her latest project\, Ghost Song. Opening for Salvant is emerging jazz force Christian Sands and his trio.
URL:https://notoriousjazz.com/event/cecile-mclorin-salvant
LOCATION:Adrienne Arsht Center | Knight Concert Hall\, 1300 Biscayne Boulevard\, Miami\, FL\, 33132\, United States
CATEGORIES:Concert
ATTACH;FMTTYPE=image/png:https://notoriousjazz.com/wp-content/uploads/2022/09/CÉCILE-MCLORIN-SALVANT.png
END:VEVENT
BEGIN:VEVENT
DTSTART;TZID=America/New_York:20230208T190000
DTEND;TZID=America/New_York:20230208T210000
DTSTAMP:20260423T185010
CREATED:20221110T012107Z
LAST-MODIFIED:20221110T012524Z
UID:32598-1675882800-1675890000@notoriousjazz.com
SUMMARY:DELFEAYO MARSALIS QUINTET
DESCRIPTION:Delfeayo Marsalis is one of the top trombonists\, composers and producers in jazz today.  He is known for his “technical excellence\, inventive mind and frequent touches of humor” says Leonard Feather of the Los Angeles Times.  According to Philip Elwood\, San Francisco Examiner\, Marsalis is “one of the best\, most imaginative and musical of the trombonists of his generation.”  In January 2011\, Delfeayo and the Marsalis family (father Ellis and brothers Branford\, Wynton and Jason) earned the nation’s highest jazz honor\, a National Endowment for the Arts Jazz Masters Award. \nBorn in New Orleans on July 28\, 1965\, Marsalis was destined to a life in music. “I remember my dad (Ellis Marsalis) playing piano at the house\, and me laying underneath the piano as a child\, listening to him play. After briefly trying bass and drums\, in sixth grade I gravitated towards the trombone\, which was an extension of my personality. Early on my influences and inspirations included J.J. Johnson\, Curtis Fuller\, Al Grey\, Tyree Glenn and Tommy Dorsey.” Marsalis attended the New Orleans Center for Creative Arts high school\, was classically trained at the Eastern Music Festival and Tanglewood Institute\, and majored in both performance and audio production at the Berklee College of Music. \nFrom the age of 17 until the present\, Marsalis has produced over 100 recordings for major artists including Harry Connick\, Jr\, Marcus Roberts\, Spike Lee\, Terence Blanchard\, Marcus Roberts\, Adam Makowicz\, Nicholas Payton\, the Preservation Hall Jazz Band and the projects of Ellis\, Branford and Wynton Marsalis. \nMarsalis has also been long involved in work as an educator. He lectured in schools in 1995 on behalf of the Dallas Opera and the Bravo cable network. Marsalis served as director of the Foundation for Artistic and Musical Excellence summer program in Lawrenceville\, New Jersey (1998-2002)\, founded the Uptown Music Theatre in 2000\, and implemented its Kidstown After School in three New Orleans grammar schools in 2009. He has composed over 80 songs that help introduce kids to jazz. Learn more about Delfeayo at www.dmarsalis.com
URL:https://notoriousjazz.com/event/delfeayo-marsalis-quintet
LOCATION:Amaturo Theater At The Broward Center For The Performing Arts\, 201 SW 5th Avenue\, Ft. Lauderdale\, FL\, 33312\, United States
CATEGORIES:Concert
ATTACH;FMTTYPE=image/jpeg:https://notoriousjazz.com/wp-content/uploads/2022/11/DELFEAYO-MARSALIS.jpg
END:VEVENT
BEGIN:VEVENT
DTSTART;TZID=America/Chicago:20230210T200000
DTEND;TZID=America/Chicago:20230210T213000
DTSTAMP:20260423T185010
CREATED:20221012T170830Z
LAST-MODIFIED:20221206T045105Z
UID:32127-1676059200-1676064600@notoriousjazz.com
SUMMARY:CÉCILE MCLORIN SALVANT
DESCRIPTION:In just under a decade\, Cécile McLorin Salvant has emerged as one of the most prescient and fearless voices in music today\, evolving from a competition winner and favorite of jazz critics\, to a three-time Grammy Award winner and MacArthur fellow. Her recording The Window topped best of the year lists everywhere from Jazzwise magazine and Rolling Stone to the NPR Music Jazz Critics Poll and The New York Times and her latest recording Ghost Song is sure to follow a similar path. Be there for her triumphant return to the DACAMERA stage\, where she debuted early in her career in 2014.
URL:https://notoriousjazz.com/event/cecile-mclorin-salvant-2
LOCATION:Cullen Theater\, 501 Texas Avenue\, Houston\, TX\, 77002\, United States
CATEGORIES:Concert
ATTACH;FMTTYPE=image/jpeg:https://notoriousjazz.com/wp-content/uploads/2022/10/CÉCILE-MCLORIN-SALVANT-1.jpg
END:VEVENT
BEGIN:VEVENT
DTSTART;TZID=America/New_York:20230210T200000
DTEND;TZID=America/New_York:20230210T213000
DTSTAMP:20260423T185010
CREATED:20230129T121959Z
LAST-MODIFIED:20230129T122858Z
UID:33937-1676059200-1676064600@notoriousjazz.com
SUMMARY:JOE GRANSDEN
DESCRIPTION:BACK BY POPULAR DEMAND! Joe Gransden returns to Serenbe with his quintet and all the sultry and romantic songs we love to hear. Avoid the crowds and book an early dinner reservation and then join us in an intimate fireside setting at the Lakeside Pavilion. Bring your special Valentine and enjoy the classic sounds of Sinatra\, Bennett\, Connick and Cole as you warm up for this special holiday. \nThis night of amazing music and drinks will get you in the Valentine’s spirit. \nComplete with pre-purchase champagne option\, this is an event that you and the special people in your life should not miss. This event will feature cabaret seating. Grab your spot before it is too late. \n**Please note the Lakeside Pavilion will be enclosed and heated.  
URL:https://notoriousjazz.com/event/joe-gransden
LOCATION:The Lakeside Pavilion At Serenbe\, 10950 Hutcheson Ferry Road\, Chattahoochee Hills\, GA\, 30268\, United States
CATEGORIES:Concert
ATTACH;FMTTYPE=image/jpeg:https://notoriousjazz.com/wp-content/uploads/2023/01/JOE-GRANSDEN.jpg
END:VEVENT
BEGIN:VEVENT
DTSTART;TZID=America/New_York:20230210T200000
DTEND;TZID=America/New_York:20230211T220000
DTSTAMP:20260423T185010
CREATED:20230128T224811Z
LAST-MODIFIED:20230128T225641Z
UID:33910-1676059200-1676152800@notoriousjazz.com
SUMMARY:DIANNE REEVES: LOVE IS IN THE AIR
DESCRIPTION:One of the world’s top jazz vocalists returns to mesmerize audiences with her beloved Valentine’s Day shows in Rose Theater. An intimate\, powerful performance by a master vocalist and hypnotizing storyteller. \nAnother JALC perennial is a Valentine’s Day tradition\, on which Dianne Reeves sings on the subject of love\, fulfilled and unrequited\, carnal and spiritual\, illuminating the complexities attendant to matters of the heart with a warm\, dazzling contralto\, spanning registers with no apparent strain\, conveying emotional nuance through exquisitely calibrated tonal color and phrasing. “I just want to tell the story\,” Reeves says. “My instrument is an extension of my soul.”
URL:https://notoriousjazz.com/event/dianne-reeves-love-is-in-the-air
LOCATION:Rose Theater | Jazz At Lincoln Center\, 10 Columbus Circle\, New York City\, NY\, 10019\, United States
CATEGORIES:Concert
ATTACH;FMTTYPE=image/jpeg:https://notoriousjazz.com/wp-content/uploads/2023/01/DIANNE-REEVES.jpg
END:VEVENT
BEGIN:VEVENT
DTSTART;TZID=America/New_York:20230218T200000
DTEND;TZID=America/New_York:20230218T220000
DTSTAMP:20260423T185010
CREATED:20230102T183652Z
LAST-MODIFIED:20230104T185929Z
UID:33523-1676750400-1676757600@notoriousjazz.com
SUMMARY:RUSSELL GUNN & THE ROYAL KRUNK JAZZ ORCHESTRA
DESCRIPTION:Celebrating 60 Years of Amira Baraka’s Blues People \n“Where the music goes\, that’s where the people go. The music reflects the people.” – Amiri Baraka\n\nThe Apollo Theater NYC present: Russell Gunn & The Royal Krunk Jazz Orkestra w/ special guests. “The Blues and It’s People – Valley of Dry Bones” opus 4. no 3.\n\n\n\nSpecial Guests: Weedie Braimah\, Stefon Harris\, Jazzmeia Horn\, and more. \nJoin us for The Blues and Its People\, an electrifying evening-length concert featuring critically acclaimed composer and trumpeter Russell Gunn and his Royal Krunk Jazz Orkestra that brings to life poet and author Amiri Baraka’s groundbreaking work\, Blues People: Negro Music in White America. Special guests include Weedie Braimah\, Davell Crawford\, Miles Griffith\, Craig Harris\, Stefon Harris\, Jazzmeia Horn\, Oliver Lake\, jessica care Moore\, and Leon Timbo. This exciting one-night-only exploration of jazz\, gospel\, and blues\, commissioned by the Apollo\, traverses Baraka’s text through song and readings curated by Fredara Hadley\, Ph.D\, ethnomusicologist at The Julliard School of Music. \nDon’t miss this special celebration of the 60th Anniversary of Baraka’s revolutionary text and the enduring legacy of Black music as only the Apollo could tell it. The Blues and Its People is a continuation of the Apollo’s 2022-2023 season\, The Next Movement\, an exploration of what’s new\, now and next in music\, dance\, art and ideas.
URL:https://notoriousjazz.com/event/russell-gunn-the-royal-krunk-jazz-orchestra
LOCATION:The Apollo\, 253 W 125th Street\, New York City\, NY\, 10027\, United States
CATEGORIES:Concert
ATTACH;FMTTYPE=image/jpeg:https://notoriousjazz.com/wp-content/uploads/2023/01/RUSSELL-GUNN.jpeg
END:VEVENT
END:VCALENDAR