BEGIN:VCALENDAR
VERSION:2.0
PRODID:-//Notorious Jazz - ECPv6.15.17//NONSGML v1.0//EN
CALSCALE:GREGORIAN
METHOD:PUBLISH
X-ORIGINAL-URL:https://notoriousjazz.com
X-WR-CALDESC:Events for Notorious Jazz
REFRESH-INTERVAL;VALUE=DURATION:PT1H
X-Robots-Tag:noindex
X-PUBLISHED-TTL:PT1H
BEGIN:VTIMEZONE
TZID:America/New_York
BEGIN:DAYLIGHT
TZOFFSETFROM:-0500
TZOFFSETTO:-0400
TZNAME:EDT
DTSTART:20240310T070000
END:DAYLIGHT
BEGIN:STANDARD
TZOFFSETFROM:-0400
TZOFFSETTO:-0500
TZNAME:EST
DTSTART:20241103T060000
END:STANDARD
BEGIN:DAYLIGHT
TZOFFSETFROM:-0500
TZOFFSETTO:-0400
TZNAME:EDT
DTSTART:20250309T070000
END:DAYLIGHT
BEGIN:STANDARD
TZOFFSETFROM:-0400
TZOFFSETTO:-0500
TZNAME:EST
DTSTART:20251102T060000
END:STANDARD
BEGIN:DAYLIGHT
TZOFFSETFROM:-0500
TZOFFSETTO:-0400
TZNAME:EDT
DTSTART:20260308T070000
END:DAYLIGHT
BEGIN:STANDARD
TZOFFSETFROM:-0400
TZOFFSETTO:-0500
TZNAME:EST
DTSTART:20261101T060000
END:STANDARD
END:VTIMEZONE
BEGIN:VEVENT
DTSTART;TZID=America/New_York:20250306T200000
DTEND;TZID=America/New_York:20250306T230000
DTSTAMP:20260421T221144
CREATED:20250217T040848Z
LAST-MODIFIED:20250303T053802Z
UID:44656-1741291200-1741302000@notoriousjazz.com
SUMMARY:LIFE\, LOVE & LENNY
DESCRIPTION:A Celebration of the life and music of Lenny White \nThe iconic Grammy-winning drummer\, who is among jazz music’s most prolific and celebrated artists\, producers\, composers and sidemen — will be fêted at a one-night-only celebration filled with music and memories at Jazz at Lincoln Center’s Frederick P. Rose Hall. \nPresented by Tzedakah 4 All\, the event will feature performances in multiple combinations – Return to Forever w/ Stanley Clarke\, Al DiMeola and orchestra conducted by Maestro Steve Mecurio\, Miles Davis Bitches Brew\, Red Clay\, Echoes of an Era\, as well as exploring material from his illustrious five + decade career. Laurence Fishburne will serve as emcee with appearances from fellow artists Buster Williams\, Omar Hakim\, Patrice Rushen\, Al Foster\, Mike Clark\, Billy Hart\, and Billy Drummond. \nTickets: $175.00~$250.00
URL:https://notoriousjazz.com/event/life-love-lenny
LOCATION:Rose Theater | Jazz At Lincoln Center\, 10 Columbus Circle\, New York City\, NY\, 10019\, United States
CATEGORIES:Concert
ATTACH;FMTTYPE=image/png:https://notoriousjazz.com/wp-content/uploads/2025/02/LENNY-WHITE-@-LINCOLN-CENTER.png
END:VEVENT
BEGIN:VEVENT
DTSTART;TZID=America/New_York:20250308T080000
DTEND;TZID=America/New_York:20250308T170000
DTSTAMP:20260421T221144
CREATED:20250228T202942Z
LAST-MODIFIED:20250302T155116Z
UID:44809-1741420800-1741453200@notoriousjazz.com
SUMMARY:SPANISH HARLEM ORCHESTRA
DESCRIPTION:Add a little sauce to the spice of life\, with the Spanish Harlem Orchestra! Led by band leader Oscar Hernandez\, this three-time Grammy-winning band sets the standard for authentic New York-style salsa and Latin jazz. Feel their high-energy performances and musical precision firsthand!\n\nThe orchestra’s energy on stage\, rich sound and musical precision leave audiences mesmerized until the last note is played. With an unwavering respect for Latin music’s rich history\, thirteen world-class musicians and vocalists come together to create an unparalleled musical experience.\n\nOscar Hernandez and Spanish Harlem Orchestra continue to raise the bar of excellence in their music.  The orchestra recently released their fifth album\, featuring two of America’s great jazz icons\, saxophonist Joe Lovano and the late pianist Chick Corea.\n\nTickets: $40.00 – $55.00 | VIP: $75  | Ages 13-22 : $5 tickets via Culture Shock Miami
URL:https://notoriousjazz.com/event/spanish-harlem-orchestra
LOCATION:The Moss Center | Black Box\, 10950 SW 211 Street\, Cutler Bay\, FL\, 33189\, United States
CATEGORIES:Concert
ATTACH;FMTTYPE=image/png:https://notoriousjazz.com/wp-content/uploads/2025/02/SPANISH-HARLEM-ORCHESTRA-@-MOSS-THEATER.png
END:VEVENT
BEGIN:VEVENT
DTSTART;TZID=America/New_York:20250308T190000
DTEND;TZID=America/New_York:20250308T210000
DTSTAMP:20260421T221144
CREATED:20250224T024326Z
LAST-MODIFIED:20250224T024416Z
UID:44734-1741460400-1741467600@notoriousjazz.com
SUMMARY:RYAN PETERSON TRIO
DESCRIPTION:Ryan Peterson is a jazz guitarist\, band leader\, and educator based in Central New York. Since moving to New York in 2023\, Ryan is quickly becoming an in-demand guitarist and had the pleasure of leading his quartet as the opening act on the main stage at the Northeast Jazz and. Wine Festival in Syracuse\, NY in July 2023 – a festival with a history of attracting over 66\,000 festival-goers to downtown Syracuse every summer. In April 2024\, Ryan led his band at the. 2024 “Scott LaFaro” Geneva Jazz Festival in Geneva\, NY .\n\nAs a band leader\, Ryan leads the Ryan Peterson Trio in performances in Central New York\, the. Finger Lakes region\, and throughout the Northeast. Having been called a “wunderkind” by CNY Jazz Arts Foundation\, Ryan’s bands perform decidedly modern\, virtuosic\, and forward-thinking. interpretations of Great American Songbook standards.\n\nRyan completed his Master of Music in Jazz Performance at the prestigious University of North Texas College of Music in May 2023 where he was the Graduate Teaching Fellow in the Jazz Guitar studio. Ryan’s student combo was recognized in DownBeat Magazine and won the. award for “Outstanding Performance.\n\n\nTickets: $20.00
URL:https://notoriousjazz.com/event/ryan-peterson-trio
LOCATION:The Buttonwood Tree\, 605 Main Street\, Middletown\, CT\, 06457\, United States
CATEGORIES:Concert
ATTACH;FMTTYPE=image/png:https://notoriousjazz.com/wp-content/uploads/2025/02/RYAN-PETERSON-@-BUTTONWOOD-TREE.png
END:VEVENT
BEGIN:VEVENT
DTSTART;TZID=America/New_York:20250312T120000
DTEND;TZID=America/New_York:20250312T130000
DTSTAMP:20260421T221144
CREATED:20250307T195832Z
LAST-MODIFIED:20250307T195832Z
UID:44926-1741780800-1741784400@notoriousjazz.com
SUMMARY:JEAN CAZE
DESCRIPTION:Jean Caze\, a Haitian American trumpeter from Queens\, N.Y.\, is one of today’s most captivating new musicians in jazz. He has performed with legends including Herbie Hancock\, Aretha Franklin\, Michael Bublé and Mariah Carey. Caze’s unique style blends his Haitian roots with his American jazz education\, offering audiences an unparalleled musical experience. \nStarting trumpet at age 9\, Caze quickly developed a passion that led to numerous scholarships and awards\, including at the National Trumpet Jazz Competition and the International Trumpet Guild Jazz Competition. He earned his bachelor’s degree from the Manhattan School of Music and a master’s from Florida International University (FIU). \nCaze has toured globally with Bublé and released two self-produced albums\, Miami Jazz Scene and Amédé. He is also a dedicated educator\, teaching at institutions including the Litchfield Jazz Camp and FIU. Caze continues to inspire and elevate the jazz world with his sophisticated and rootsy style. \nAdmission: Free
URL:https://notoriousjazz.com/event/jean-caze
LOCATION:Wolfson Auditorium\, 300 NE 2nd Ave\, Miami\, FL\, 33132\, United States
CATEGORIES:Concert
ATTACH;FMTTYPE=image/png:https://notoriousjazz.com/wp-content/uploads/2025/03/JEAN-CAZE-@-WOLFSON.png
END:VEVENT
END:VCALENDAR