BEGIN:VCALENDAR
VERSION:2.0
PRODID:-//Notorious Jazz - ECPv6.15.17//NONSGML v1.0//EN
CALSCALE:GREGORIAN
METHOD:PUBLISH
X-WR-CALNAME:Notorious Jazz
X-ORIGINAL-URL:https://notoriousjazz.com
X-WR-CALDESC:Events for Notorious Jazz
REFRESH-INTERVAL;VALUE=DURATION:PT1H
X-Robots-Tag:noindex
X-PUBLISHED-TTL:PT1H
BEGIN:VTIMEZONE
TZID:America/New_York
BEGIN:DAYLIGHT
TZOFFSETFROM:-0500
TZOFFSETTO:-0400
TZNAME:EDT
DTSTART:20240310T070000
END:DAYLIGHT
BEGIN:STANDARD
TZOFFSETFROM:-0400
TZOFFSETTO:-0500
TZNAME:EST
DTSTART:20241103T060000
END:STANDARD
BEGIN:DAYLIGHT
TZOFFSETFROM:-0500
TZOFFSETTO:-0400
TZNAME:EDT
DTSTART:20250309T070000
END:DAYLIGHT
BEGIN:STANDARD
TZOFFSETFROM:-0400
TZOFFSETTO:-0500
TZNAME:EST
DTSTART:20251102T060000
END:STANDARD
BEGIN:DAYLIGHT
TZOFFSETFROM:-0500
TZOFFSETTO:-0400
TZNAME:EDT
DTSTART:20260308T070000
END:DAYLIGHT
BEGIN:STANDARD
TZOFFSETFROM:-0400
TZOFFSETTO:-0500
TZNAME:EST
DTSTART:20261101T060000
END:STANDARD
END:VTIMEZONE
BEGIN:VEVENT
DTSTART;TZID=America/New_York:20250607T200000
DTEND;TZID=America/New_York:20250607T220000
DTSTAMP:20260421T170023
CREATED:20250606T005414Z
LAST-MODIFIED:20250606T010252Z
UID:46065-1749326400-1749333600@notoriousjazz.com
SUMMARY:EUGENIE JONES
DESCRIPTION:ONE NIGHT ONLY!  \nThe Kookaburra Lounge presents international fan-based singer-songwriter Eugenie Jones in an evening of original jazz and reimagined jazz and soul classics from her #4 Jazz Week charted album – Eugenie! Hip\, slick musical accompaniment provided by LA’s Charles Love on piano\, Jeff Littleton on bass & Akira Yamada on drums. \nKnown for her dynamic stage presence and passionate singing style\, Jones has established herself as one of our time’s most evocative\, powerful\, and compelling jazz artists. In a recent review\, Paris Move USA correspondent Thierry De Clemensat described Jones as “one of the most beautiful voices in the United States.” \nLA Jazz Scene/Scott Yanow describes Jones saying she is\, “..a powerful singer whose vocalizing explores the soulful side of jazz.” \nFormer John Coltrane bassist and NEA JAZZ MASTER Reggie Workman refers to Jones as…”An extraordinary singer-songwriter.” \nTickets: \nGeneral Admission ~ $25.00 + $5.00 fee | Early General Admission Seating ~ $35.00 + $5.00 fee | VIP ~ $90.00 (Front Row Table for 2) + $8.00 fee \nParty Booth ~ $40.00 per person (seats 2-10)  + $5.00 fee | VIP Couch ~ $250.00 (seats 5) + $15.00 fee | Katie’s Booth ~ $300.00 (seats 5) + $15.00 fee \n~ 2 Drink Minimum | Wine\, Alcohol & Non-Alcoholic beverages \n~ Parking is $3 in the Ovation Garage with validation.
URL:https://notoriousjazz.com/event/eugenie-jones-15
LOCATION:Kookaburra Lounge\, 6801 Hollywood Boulevard\, 4th Floor\, Hollywood\, CA\, 90028\, United States
CATEGORIES:Concert
ATTACH;FMTTYPE=image/png:https://notoriousjazz.com/wp-content/uploads/2025/06/EUGENIE-JONES-@-KOOKABURRA-LOUNGE.png
END:VEVENT
BEGIN:VEVENT
DTSTART;TZID=America/New_York:20250608T160000
DTEND;TZID=America/New_York:20250608T180000
DTSTAMP:20260421T170023
CREATED:20250606T143233Z
LAST-MODIFIED:20250606T143241Z
UID:46084-1749398400-1749405600@notoriousjazz.com
SUMMARY:JOE GRANSDEN
DESCRIPTION:Joe Gransden celebrates The Good Life: A Musical Tribute to the Artistry of Tony Bennett! \nJoe and the band as they take you on a swingin’ stroll through the life and career of Tony Bennett! One of the greatest performers of the American Songbook\, Tony Bennett’s tone\, phrasing and feel set him apart from other vocalists of his era. \nTickets: $40.50 
URL:https://notoriousjazz.com/event/joe-gransden-5
LOCATION:Roswell Cultural Arts Center\, 950 Forrest Street\, Roswell\, GA\, 30075\, United States
CATEGORIES:Concert
ATTACH;FMTTYPE=image/png:https://notoriousjazz.com/wp-content/uploads/2025/06/JOE-GRANSDEN-@-ROSWELL-CULTURAL-ARTS-CENTER.png
END:VEVENT
BEGIN:VEVENT
DTSTART;TZID=America/New_York:20250621T170000
DTEND;TZID=America/New_York:20250621T190000
DTSTAMP:20260421T170023
CREATED:20250606T014646Z
LAST-MODIFIED:20250606T014646Z
UID:46074-1750525200-1750532400@notoriousjazz.com
SUMMARY:EUGENIE JONES
DESCRIPTION:Join us at Fountainhead Gallery for an exciting event that combines the elegance of Chris Hopkin’s fine art painting with the exquisite music of award-winning vocalist Eugenie Jones! Experience the flow of creativity and emotive rhythms at this unique live jazz concert. \nA raffle will be held at the end of the performance\, giving ticket holders in the audience a chance to win this stunning art piece. Increase your chances of winning by purchasing extra raffle tickets before the drawing. \nThis event supports the 2025 Jackson Street Jazz Walk\, so don’t miss out on this one-of-a-kind experience that unites art\, music and community in a truly jazzy way! \nThe Band: Peter Adams on piano | Ryan Donnelly on bass | John Stout on drums
URL:https://notoriousjazz.com/event/eugenie-jones-16
LOCATION:Fountainhead Gallery\,  625 W McGraw Street\, Seattle\, WA\, 98119\, United States
CATEGORIES:Concert
ATTACH;FMTTYPE=image/png:https://notoriousjazz.com/wp-content/uploads/2025/06/EUGENIE-JONES-@-FOUNTAINHEAD-GALLERY.png
END:VEVENT
END:VCALENDAR