BEGIN:VCALENDAR
VERSION:2.0
PRODID:-//Notorious Jazz - ECPv6.15.17//NONSGML v1.0//EN
CALSCALE:GREGORIAN
METHOD:PUBLISH
X-ORIGINAL-URL:https://notoriousjazz.com
X-WR-CALDESC:Events for Notorious Jazz
REFRESH-INTERVAL;VALUE=DURATION:PT1H
X-Robots-Tag:noindex
X-PUBLISHED-TTL:PT1H
BEGIN:VTIMEZONE
TZID:America/New_York
BEGIN:DAYLIGHT
TZOFFSETFROM:-0500
TZOFFSETTO:-0400
TZNAME:EDT
DTSTART:20240310T070000
END:DAYLIGHT
BEGIN:STANDARD
TZOFFSETFROM:-0400
TZOFFSETTO:-0500
TZNAME:EST
DTSTART:20241103T060000
END:STANDARD
BEGIN:DAYLIGHT
TZOFFSETFROM:-0500
TZOFFSETTO:-0400
TZNAME:EDT
DTSTART:20250309T070000
END:DAYLIGHT
BEGIN:STANDARD
TZOFFSETFROM:-0400
TZOFFSETTO:-0500
TZNAME:EST
DTSTART:20251102T060000
END:STANDARD
BEGIN:DAYLIGHT
TZOFFSETFROM:-0500
TZOFFSETTO:-0400
TZNAME:EDT
DTSTART:20260308T070000
END:DAYLIGHT
BEGIN:STANDARD
TZOFFSETFROM:-0400
TZOFFSETTO:-0500
TZNAME:EST
DTSTART:20261101T060000
END:STANDARD
END:VTIMEZONE
BEGIN:VEVENT
DTSTART;TZID=America/New_York:20251016T193000
DTEND;TZID=America/New_York:20251016T210000
DTSTAMP:20260421T090734
CREATED:20251016T192124Z
LAST-MODIFIED:20251020T001730Z
UID:47671-1760643000-1760648400@notoriousjazz.com
SUMMARY:SEAN JONES w/ FROST JAZZ ORCHESTRA & SEEK THE SOURCE
DESCRIPTION:Singing and performing as a child with the church choir in his hometown of Warren\, Ohio\, Sean switched from the drums to the trumpet at the age of 10. \nSean is a musical chameleon and is comfortable in any musical setting no matter what the role or the genre. He is equally adept in being a member of an ensemble as he is at being a bandleader. Sean turned a 6-month stint with the Jazz at Lincoln Center Orchestra into an offer from Wynton Marsalis for a permanent position as lead trumpeter\, a post he held from 2004 until 2010. In 2015 Jones was tapped to become a member of the SFJAZZ Collective. During this time\, Sean has managed to keep a core group of talented musicians together under his leadership forming the foundation for his groups that have produced and released eight recordings on the Mack Avenue Records\, the latest is his 2017 release Sean Jones: Live from the Jazz Bistro. \nSean has been prominently featured with a number of artists\, recording and/or performing with many major figures in jazz\, including Illinois Jacquet\, Jimmy Heath\, Frank Foster\, Nancy Wilson\, Dianne Reeves\, Gerald Wilson and Marcus Miller. Sean was selected by Miller\, Herbie Hancock and Wayne Shorter for their Tribute to Miles tour in 2011. \nThe Band:\nJohn Daversa\, director\nMarcus Strickland\, director\nSean Jones\, trumpet \nTicket: $40.00 | $35.00 | $15.00
URL:https://notoriousjazz.com/event/sean-jones-w-frost-jazz-orchestra-seek-the-source
LOCATION:Gusman Concert Hall\, 1314 Miller Drive\, Coral Gables\, FL\, 33146\, United States
CATEGORIES:Concert
ATTACH;FMTTYPE=image/png:https://notoriousjazz.com/wp-content/uploads/2025/10/SEAN-JONES-@-GUSMAN.png
END:VEVENT
BEGIN:VEVENT
DTSTART;TZID=America/New_York:20251018T193000
DTEND;TZID=America/New_York:20251018T210000
DTSTAMP:20260421T090734
CREATED:20251016T010159Z
LAST-MODIFIED:20251020T000803Z
UID:47642-1760815800-1760821200@notoriousjazz.com
SUMMARY:CORNELL JAZZ ENSEMBLE & BILL EASLEY
DESCRIPTION:Cornell Jazz Ensemble with guest saxophonist and multi-instrumentalist Bill Easley\, who  plays saxophone\, flute\, and clarinet.  plays saxophone\, flute\, and clarinet. He has worked with George Benson in the late 1960s and with Isaac Hayes in the 1970s. He also did sessions at Stax and Hi Records with Ann Peebles and Al Green. \nHe has also worked with Roland Hanna\, Jimmy McGriff\, Jimmy Smith\, Ruth Brown\, James Williams\, Bill Mobley\, George Caldwell\, Mulgrew Miller\, Grady Tate\, Victor Gaskin\, Panama Francis\, Mercer Ellington\, and Billy Higgins. \nSongs by Oliver Nelson\, Thad Jones\, Duke Ellington\, Freddie Hubbard\, and Ned Washington with arrangements by Melba Liston\, Frank Foster\, and John LaBarbera. \nStudent composition premieres by Turner Aldrich and Cedric Orton-Urbina. \nTickets: Free
URL:https://notoriousjazz.com/event/cornell-jazz-ensemble-bill-easley
LOCATION:Bailey Hall | Cornell University\, 230 Garden Ave\,\, Ithaca\, NY\, 14850\, United States
CATEGORIES:Concert
ATTACH;FMTTYPE=image/png:https://notoriousjazz.com/wp-content/uploads/2025/10/BILL-EASLEY-@-BAILEY-HALL-1.png
END:VEVENT
BEGIN:VEVENT
DTSTART;TZID=America/New_York:20251023T193000
DTEND;TZID=America/New_York:20251023T205000
DTSTAMP:20260421T090734
CREATED:20251019T032300Z
LAST-MODIFIED:20251020T000944Z
UID:47687-1761247800-1761252600@notoriousjazz.com
SUMMARY:ETIENNE CHARLES
DESCRIPTION: San Juan Hill: A New York Story  \nCreated by composer and trumpeter Etienne Charles\, it is an immersive multimedia creation that celebrates a vital chapter of New York’s past. Through music\, visuals\, and first-person accounts\, this powerful work shines a light on the historic communities of the area where Lincoln Center stands today. Blending diverse musical styles—including ragtime\, jazz\, stride piano\, swing\, blues\, mambo\, paseo\, Antillean waltz\, calypso\, funk\, disco\, and Hip-Hop—with historical film and compelling narratives\, the work showcases the myriad cultures that migrants brought to New York from the American South and the Caribbean. \nHe is joined by the University of Miami’s Frost Symphony Orchestra\, where Charles teaches and serves as the Director of the Frost Studio Jazz Band\, and special guests\, this piece is a testament to the enduring spirit and forgotten stories of a community that helped shape the city’s cultural landscape. \nThe Program: \nLenape | Where Two or More are Gathered | Zora & Percy | Swing Culture | The Destroyer | Riot 1905 | Negro Enchantress — The Story of Hannah Elias | Charleston at the Jungles | Urban Removal — 1949–1959 | House Rent Party \nCreole Soul:\nEtienne Charles ~ Trumpet\nGodwin Louis ~ Alto\, Soprano Saxophones\nTori Trinity Flute\nChristian Sands ~ Piano\nAlex Wintz ~ Guitar\nLino Piquero Bueno ~ Bass\nBrenten Handfield ~ Drums \nFeature: \nUniversity of Miami Frost Symphony Orchestra\nMaestro Gerard Schwarz ~ Director \nSpecial Guests:\nDJ Logic ~ Turntables\nEljon Wardally\, Carl Hancock Rux ~ Spoken Word \nTickets: Currently No Availability
URL:https://notoriousjazz.com/event/etienne-charles-2
LOCATION:Alice Tully Hall\, 1941 Broadway\, New York City\, NY\, 10023\, United States
CATEGORIES:Concert
ATTACH;FMTTYPE=image/png:https://notoriousjazz.com/wp-content/uploads/2025/10/ETIENNE-CHARLES-@-ALICE-TULLY-HALL-1.png
END:VEVENT
END:VCALENDAR