BEGIN:VCALENDAR
VERSION:2.0
PRODID:-//Notorious Jazz - ECPv6.15.17//NONSGML v1.0//EN
CALSCALE:GREGORIAN
METHOD:PUBLISH
X-ORIGINAL-URL:https://notoriousjazz.com
X-WR-CALDESC:Events for Notorious Jazz
REFRESH-INTERVAL;VALUE=DURATION:PT1H
X-Robots-Tag:noindex
X-PUBLISHED-TTL:PT1H
BEGIN:VTIMEZONE
TZID:America/New_York
BEGIN:DAYLIGHT
TZOFFSETFROM:-0500
TZOFFSETTO:-0400
TZNAME:EDT
DTSTART:20210314T070000
END:DAYLIGHT
BEGIN:STANDARD
TZOFFSETFROM:-0400
TZOFFSETTO:-0500
TZNAME:EST
DTSTART:20211107T060000
END:STANDARD
BEGIN:DAYLIGHT
TZOFFSETFROM:-0500
TZOFFSETTO:-0400
TZNAME:EDT
DTSTART:20220313T070000
END:DAYLIGHT
BEGIN:STANDARD
TZOFFSETFROM:-0400
TZOFFSETTO:-0500
TZNAME:EST
DTSTART:20221106T060000
END:STANDARD
BEGIN:DAYLIGHT
TZOFFSETFROM:-0500
TZOFFSETTO:-0400
TZNAME:EDT
DTSTART:20230312T070000
END:DAYLIGHT
BEGIN:STANDARD
TZOFFSETFROM:-0400
TZOFFSETTO:-0500
TZNAME:EST
DTSTART:20231105T060000
END:STANDARD
END:VTIMEZONE
BEGIN:VEVENT
DTSTART;TZID=America/New_York:20221112T193000
DTEND;TZID=America/New_York:20221112T213000
DTSTAMP:20260424T005317
CREATED:20221014T165242Z
LAST-MODIFIED:20230107T163312Z
UID:32191-1668281400-1668288600@notoriousjazz.com
SUMMARY:CÉCILE MCLORIN SALVANT | OGRESSE
DESCRIPTION:“She falls in love. She eats the guy. She dies.” \nJazz meets theater in Ogresse\, a new musical journey of myth and song created by award-winning vocalist and master storyteller Cécile McLorin Salvant. With its dark\, romantic “fairytale-like” story\, Ogresse is a delightfully poignant and playful addition to Salvant’s\, award-winning\, eclectic body of work. \n“There’s this monstrous vile strength in her\, a little bit of madness\,” Salvant says of the titular beast. “The songs are these beautifully matched beads on a necklace that hang together so well\, conjuring archetypes and exploring matters of race and sexuality\, and our fears and prejudices. It’s one of my most thrilling moments as a singer.”
URL:https://notoriousjazz.com/event/cecile-mclorin-salvant-ogresse
LOCATION:KennedY Center | Eisenhower Theater\, 2700 F Street\, NW\, Washington\, DC\, 20566\, United States
CATEGORIES:Concert
ATTACH;FMTTYPE=image/jpeg:https://notoriousjazz.com/wp-content/uploads/2022/10/CÉCILE-MCLORIN-SALVANT.jpg
END:VEVENT
END:VCALENDAR