BEGIN:VCALENDAR
VERSION:2.0
PRODID:-//Notorious Jazz - ECPv6.15.17//NONSGML v1.0//EN
CALSCALE:GREGORIAN
METHOD:PUBLISH
X-WR-CALNAME:Notorious Jazz
X-ORIGINAL-URL:https://notoriousjazz.com
X-WR-CALDESC:Events for Notorious Jazz
REFRESH-INTERVAL;VALUE=DURATION:PT1H
X-Robots-Tag:noindex
X-PUBLISHED-TTL:PT1H
BEGIN:VTIMEZONE
TZID:America/Chicago
BEGIN:DAYLIGHT
TZOFFSETFROM:-0600
TZOFFSETTO:-0500
TZNAME:CDT
DTSTART:20220313T080000
END:DAYLIGHT
BEGIN:STANDARD
TZOFFSETFROM:-0500
TZOFFSETTO:-0600
TZNAME:CST
DTSTART:20221106T070000
END:STANDARD
BEGIN:DAYLIGHT
TZOFFSETFROM:-0600
TZOFFSETTO:-0500
TZNAME:CDT
DTSTART:20230312T080000
END:DAYLIGHT
BEGIN:STANDARD
TZOFFSETFROM:-0500
TZOFFSETTO:-0600
TZNAME:CST
DTSTART:20231105T070000
END:STANDARD
BEGIN:DAYLIGHT
TZOFFSETFROM:-0600
TZOFFSETTO:-0500
TZNAME:CDT
DTSTART:20240310T080000
END:DAYLIGHT
BEGIN:STANDARD
TZOFFSETFROM:-0500
TZOFFSETTO:-0600
TZNAME:CST
DTSTART:20241103T070000
END:STANDARD
END:VTIMEZONE
BEGIN:VTIMEZONE
TZID:America/New_York
BEGIN:DAYLIGHT
TZOFFSETFROM:-0500
TZOFFSETTO:-0400
TZNAME:EDT
DTSTART:20220313T070000
END:DAYLIGHT
BEGIN:STANDARD
TZOFFSETFROM:-0400
TZOFFSETTO:-0500
TZNAME:EST
DTSTART:20221106T060000
END:STANDARD
BEGIN:DAYLIGHT
TZOFFSETFROM:-0500
TZOFFSETTO:-0400
TZNAME:EDT
DTSTART:20230312T070000
END:DAYLIGHT
BEGIN:STANDARD
TZOFFSETFROM:-0400
TZOFFSETTO:-0500
TZNAME:EST
DTSTART:20231105T060000
END:STANDARD
BEGIN:DAYLIGHT
TZOFFSETFROM:-0500
TZOFFSETTO:-0400
TZNAME:EDT
DTSTART:20240310T070000
END:DAYLIGHT
BEGIN:STANDARD
TZOFFSETFROM:-0400
TZOFFSETTO:-0500
TZNAME:EST
DTSTART:20241103T060000
END:STANDARD
END:VTIMEZONE
BEGIN:VEVENT
DTSTART;TZID=America/Chicago:20230303T200000
DTEND;TZID=America/Chicago:20230303T213000
DTSTAMP:20260423T185137
CREATED:20221012T172140Z
LAST-MODIFIED:20230228T080531Z
UID:32129-1677873600-1677879000@notoriousjazz.com
SUMMARY:CHRISTIAN MCBRIDE'S NEW JAWN
DESCRIPTION:Eight-time Grammy Award-winning jazz bassist Christian McBride is a force of nature\, fusing the fire and fury of a virtuoso with the depth and grounding of a seasoned journeyman. Powered by a relentless energy and a boundless love of swing\, McBride’s path has described a continuous positive arc since his arrival on the scene. With a career now blazing into its third decade\, the Philadelphia native has become one of the most requested\, most recorded\, and most respected figures in the music world today. Drawing from the lexicon of his hometown\, Philadelphia\, McBride calls his pianoless quartet The New Jawn.
URL:https://notoriousjazz.com/event/christian-mcbrides-new-jawn
LOCATION:Cullen Theater\, 501 Texas Avenue\, Houston\, TX\, 77002\, United States
CATEGORIES:Concert
ATTACH;FMTTYPE=image/jpeg:https://notoriousjazz.com/wp-content/uploads/2022/10/CHRISTIAN-MCBRIDE.jpg
END:VEVENT
BEGIN:VEVENT
DTSTART;TZID=America/New_York:20230303T200000
DTEND;TZID=America/New_York:20230303T220000
DTSTAMP:20260423T185137
CREATED:20220905T230848Z
LAST-MODIFIED:20221012T172341Z
UID:31529-1677873600-1677880800@notoriousjazz.com
SUMMARY:AN EVENING WITH BRANFORD MARSALIS
DESCRIPTION:The NEA Jazz Master\, Grammy Award winner and Tony Award nominee is equally at home performing concertos with symphony orchestras and sitting in with members of the Grateful Dead\, but the core of his musical universe remains the Branford Marsalis Quartet. The quartet that saxophonist Branford Marsalis has led for the past three decades has always been a model of daring\, no-apologies artistry\, of ever-widening musical horizons and deepening collective identity.
URL:https://notoriousjazz.com/event/an-evening-with-branford-marsalis
LOCATION:Adrienne Arsht Center | Knight Concert Hall\, 1300 Biscayne Boulevard\, Miami\, FL\, 33132\, United States
CATEGORIES:Concert
ATTACH;FMTTYPE=image/png:https://notoriousjazz.com/wp-content/uploads/2022/09/Screen-Shot-2022-09-05-at-7.07.33-PM.png
END:VEVENT
END:VCALENDAR