BEGIN:VCALENDAR
VERSION:2.0
PRODID:-//Notorious Jazz - ECPv6.15.17//NONSGML v1.0//EN
CALSCALE:GREGORIAN
METHOD:PUBLISH
X-WR-CALNAME:Notorious Jazz
X-ORIGINAL-URL:https://notoriousjazz.com
X-WR-CALDESC:Events for Notorious Jazz
REFRESH-INTERVAL;VALUE=DURATION:PT1H
X-Robots-Tag:noindex
X-PUBLISHED-TTL:PT1H
BEGIN:VTIMEZONE
TZID:America/New_York
BEGIN:DAYLIGHT
TZOFFSETFROM:-0500
TZOFFSETTO:-0400
TZNAME:EDT
DTSTART:20220313T070000
END:DAYLIGHT
BEGIN:STANDARD
TZOFFSETFROM:-0400
TZOFFSETTO:-0500
TZNAME:EST
DTSTART:20221106T060000
END:STANDARD
BEGIN:DAYLIGHT
TZOFFSETFROM:-0500
TZOFFSETTO:-0400
TZNAME:EDT
DTSTART:20230312T070000
END:DAYLIGHT
BEGIN:STANDARD
TZOFFSETFROM:-0400
TZOFFSETTO:-0500
TZNAME:EST
DTSTART:20231105T060000
END:STANDARD
BEGIN:DAYLIGHT
TZOFFSETFROM:-0500
TZOFFSETTO:-0400
TZNAME:EDT
DTSTART:20240310T070000
END:DAYLIGHT
BEGIN:STANDARD
TZOFFSETFROM:-0400
TZOFFSETTO:-0500
TZNAME:EST
DTSTART:20241103T060000
END:STANDARD
END:VTIMEZONE
BEGIN:VEVENT
DTSTART;TZID=America/New_York:20230322T200000
DTEND;TZID=America/New_York:20230322T220000
DTSTAMP:20260423T185136
CREATED:20230308T041037Z
LAST-MODIFIED:20230308T041037Z
UID:34438-1679515200-1679522400@notoriousjazz.com
SUMMARY:VANESSA RUBIN
DESCRIPTION:All That Jazz\nNaples Philharmonic Jazz Orchestra\nwith special guest Vanessa Rubin\n\nRevered as a torchbearer and storyteller\, jazz vocalist Vanessa Rubin lends her voice to the Naples Philharmonic Jazz Orchestra as the ensemble performs popular selections from the jazz repertoire. Rubin possesses a voice hailed for crystalline clarity\, hearth-like warmth and playful sass\, with influences from her Trinidadian mother and Louisiana-born father. With her multicultural upbringing\, diverse influences and wealth of experience\, Rubin can seamlessly transition between styles and settings — from the Great American Songbook to bebop and modern jazz — making her a powerful addition to any jazz ensemble. \nVanessa Rubin\, vocalist\nLuciano Morello\, founding producer\nLew Del Gatto\, artistic director\, tenor saxophone\nRandy Sandke\, trumpet\nMike Harvey\, drums\nChuck Bergeron\, bass\nJerry Stawski\, co-bandleader\, vocals\, piano
URL:https://notoriousjazz.com/event/vanessa-rubin-3
LOCATION:Daniels Pavilion at Artis\, 5833 Pelican Bay Boulevard\, Naples\, FL\, 34108\, United States
CATEGORIES:Concert
ATTACH;FMTTYPE=image/jpeg:https://notoriousjazz.com/wp-content/uploads/2023/03/VANESSA-RUBIN.jpg
END:VEVENT
END:VCALENDAR