BEGIN:VCALENDAR
VERSION:2.0
PRODID:-//Notorious Jazz - ECPv6.15.17//NONSGML v1.0//EN
CALSCALE:GREGORIAN
METHOD:PUBLISH
X-WR-CALNAME:Notorious Jazz
X-ORIGINAL-URL:https://notoriousjazz.com
X-WR-CALDESC:Events for Notorious Jazz
REFRESH-INTERVAL;VALUE=DURATION:PT1H
X-Robots-Tag:noindex
X-PUBLISHED-TTL:PT1H
BEGIN:VTIMEZONE
TZID:America/New_York
BEGIN:DAYLIGHT
TZOFFSETFROM:-0500
TZOFFSETTO:-0400
TZNAME:EDT
DTSTART:20220313T070000
END:DAYLIGHT
BEGIN:STANDARD
TZOFFSETFROM:-0400
TZOFFSETTO:-0500
TZNAME:EST
DTSTART:20221106T060000
END:STANDARD
BEGIN:DAYLIGHT
TZOFFSETFROM:-0500
TZOFFSETTO:-0400
TZNAME:EDT
DTSTART:20230312T070000
END:DAYLIGHT
BEGIN:STANDARD
TZOFFSETFROM:-0400
TZOFFSETTO:-0500
TZNAME:EST
DTSTART:20231105T060000
END:STANDARD
BEGIN:DAYLIGHT
TZOFFSETFROM:-0500
TZOFFSETTO:-0400
TZNAME:EDT
DTSTART:20240310T070000
END:DAYLIGHT
BEGIN:STANDARD
TZOFFSETFROM:-0400
TZOFFSETTO:-0500
TZNAME:EST
DTSTART:20241103T060000
END:STANDARD
END:VTIMEZONE
BEGIN:VEVENT
DTSTART;TZID=America/New_York:20230402T190000
DTEND;TZID=America/New_York:20230402T203000
DTSTAMP:20260423T171835
CREATED:20230210T005525Z
LAST-MODIFIED:20230210T011305Z
UID:34084-1680462000-1680467400@notoriousjazz.com
SUMMARY:TAL COHEN TRIO
DESCRIPTION:SONGS FROM A CHILDHOOD IN ISRAEL \nTal Cohen is a Grammy Award winning jazz pianist currently located in Miami. He has received much acclaim during his young career including winning the Barry Harris National Piano Competition and was the recipient of the prestigious Freedman Fellowship performed to a sold out crowd at the Sydney Opera House. \nRecently\, Tal Cohen has been playing around the Globe with Terence Blanchard\, Greg Osby\, Ignacio Berroa\, Joe Lovano and others. He currently leads his own ensemble\, which has performed at Iconic jazz festivals and venues that include Jazzbez Jazz Festival (Ukraine)\, Detroit Jazz Festival\, Melbourne Jazz Festival (Australia)\, and a three-week residency at the Black Cat (San Francisco). \nHis most recent album- “Gentle Giants” has received international acclaim including a 4 star review from the historic Downbeat Magazine. \nCohen’s become one of the most in demand pianists around as he continues to tour the globe with his unique blend of Jewish melodies\, traditional jazz Harmony and an impeccable rhythmic palette forging a path to be remembered. \nBAND MEMBERSDavid ChivertonTal CohenDIon Kerr
URL:https://notoriousjazz.com/event/tal-cohen-trio
LOCATION:Arts Garage\, 94 NE 2nd Avenue\, Delray Beach\, FL\, 33444\, United States
CATEGORIES:Concert
ATTACH;FMTTYPE=image/png:https://notoriousjazz.com/wp-content/uploads/2023/02/TAL-COHEN.png
END:VEVENT
END:VCALENDAR