BEGIN:VCALENDAR
VERSION:2.0
PRODID:-//Notorious Jazz - ECPv6.15.17//NONSGML v1.0//EN
CALSCALE:GREGORIAN
METHOD:PUBLISH
X-ORIGINAL-URL:https://notoriousjazz.com
X-WR-CALDESC:Events for Notorious Jazz
REFRESH-INTERVAL;VALUE=DURATION:PT1H
X-Robots-Tag:noindex
X-PUBLISHED-TTL:PT1H
BEGIN:VTIMEZONE
TZID:America/Los_Angeles
BEGIN:DAYLIGHT
TZOFFSETFROM:-0800
TZOFFSETTO:-0700
TZNAME:PDT
DTSTART:20220313T100000
END:DAYLIGHT
BEGIN:STANDARD
TZOFFSETFROM:-0700
TZOFFSETTO:-0800
TZNAME:PST
DTSTART:20221106T090000
END:STANDARD
BEGIN:DAYLIGHT
TZOFFSETFROM:-0800
TZOFFSETTO:-0700
TZNAME:PDT
DTSTART:20230312T100000
END:DAYLIGHT
BEGIN:STANDARD
TZOFFSETFROM:-0700
TZOFFSETTO:-0800
TZNAME:PST
DTSTART:20231105T090000
END:STANDARD
BEGIN:DAYLIGHT
TZOFFSETFROM:-0800
TZOFFSETTO:-0700
TZNAME:PDT
DTSTART:20240310T100000
END:DAYLIGHT
BEGIN:STANDARD
TZOFFSETFROM:-0700
TZOFFSETTO:-0800
TZNAME:PST
DTSTART:20241103T090000
END:STANDARD
END:VTIMEZONE
BEGIN:VTIMEZONE
TZID:America/New_York
BEGIN:DAYLIGHT
TZOFFSETFROM:-0500
TZOFFSETTO:-0400
TZNAME:EDT
DTSTART:20220313T070000
END:DAYLIGHT
BEGIN:STANDARD
TZOFFSETFROM:-0400
TZOFFSETTO:-0500
TZNAME:EST
DTSTART:20221106T060000
END:STANDARD
BEGIN:DAYLIGHT
TZOFFSETFROM:-0500
TZOFFSETTO:-0400
TZNAME:EDT
DTSTART:20230312T070000
END:DAYLIGHT
BEGIN:STANDARD
TZOFFSETFROM:-0400
TZOFFSETTO:-0500
TZNAME:EST
DTSTART:20231105T060000
END:STANDARD
BEGIN:DAYLIGHT
TZOFFSETFROM:-0500
TZOFFSETTO:-0400
TZNAME:EDT
DTSTART:20240310T070000
END:DAYLIGHT
BEGIN:STANDARD
TZOFFSETFROM:-0400
TZOFFSETTO:-0500
TZNAME:EST
DTSTART:20241103T060000
END:STANDARD
END:VTIMEZONE
BEGIN:VEVENT
DTSTART;TZID=America/Los_Angeles:20230428T190000
DTEND;TZID=America/Los_Angeles:20230428T203000
DTSTAMP:20260423T172234
CREATED:20221215T200458Z
LAST-MODIFIED:20221215T200919Z
UID:33246-1682708400-1682713800@notoriousjazz.com
SUMMARY:NILSON MATTA & JOVINO SANTOS NETO
DESCRIPTION:Nilson Matta & Jovino Santos Neto with Ami Molinelli \n\n\n\n\nTwo Brazilian musicians with successful international careers join forces to present a new project with original music and new interpretations of pieces by renowned Brazilian composers. \nMulti-GRAMMY® nominee Nilson Matta\, known for his work with Trio da Paz\, Don Pullen African Brazilian Connection\, Joe Henderson\, Yo Yo Ma\, and Nilson Matta’s Brazilian Voyage\, teams up with three-time Latin GRAMMY® nominee Jovino Santos Neto: master pianist\, flutist\, composer\, arranger\, and conductor from Rio de Janeiro. Percussionist Ami Molinelli joins them as a special guest\, enriching the contagious rhythm of the dynamic duo for this rare collaboration. \n\n\n\n\nTHE 222 is a small intimate venue. All seats are very good and have a clear view of the stage. \nSeating for this concert is club style with round tables that seat four people. Seating will be assigned by the date of purchase\, so the sooner you buy your tickets the closer you will be within the ticket level you purchase from. \nGOLD SEATING – FRONT MIDDLE TABLES\nSILVER SEATING – SURROUNDING FRONT TABLES\nGENERAL SEATING – REMAINDER
URL:https://notoriousjazz.com/event/nilson-matta-jovino-santos-neto
LOCATION:The 222\, 222 Healdsburg Avenue\, Healdsburg\, CA\, 95448\, United States
CATEGORIES:Concert
ATTACH;FMTTYPE=image/jpeg:https://notoriousjazz.com/wp-content/uploads/2022/12/NILSON-MATTA.jpg
END:VEVENT
BEGIN:VEVENT
DTSTART;TZID=America/New_York:20230428T200000
DTEND;TZID=America/New_York:20230428T220000
DTSTAMP:20260423T172234
CREATED:20221104T014536Z
LAST-MODIFIED:20221104T014646Z
UID:32501-1682712000-1682719200@notoriousjazz.com
SUMMARY:DJAVAN
DESCRIPTION:After a 13-year hiatus\, one of the greatest icons of Brazilian music announces his return to the US for a major tour. Four-time Latin GRAMMY winner Djavan will present a brand-new show with his full band\, featuring songs from his twenty-fifth studio album “D”\, as well as major hits from his 45-year career. Aside from new hit songs like “Iluminado” and “Num Mundo de Paz”\, the set list will also include major classics from Djavan’s legendary career\, such as “Se”\, “Flor de Lis”\, ““Eu te Devoro”\, “Samurai” and many others. \nDjavan was born in Maceió\, Alagoas\, Brazil to a white father of Dutch descent and a black mother. He later formed the group Luz\, Som\, Dimensão (LSD – “Light\, Sound\, Dimension”)\, playing Beatles’ material. In 1973\, Djavan moved to Rio de Janeiro and started singing soap opera soundtracks. His first album\, A Voz\, o Violão e a Arte de Djavan\, was recorded in 1976 and included the hit song “Flor de Lis”. Stevie Wonder was a guest on the album Luz. \nIn 1999\, his album Ao Vivo sold 1.2 million copies. In 2016\, he was nominated for the 2016 Latin Grammy Awards in the Record of the Year\, Album of the Year\, Best Portuguese Language Song and Best Singer-Songwriter Album categories. Djavan’s compositions have been recorded by numerous musicians\, including Al Jarreau\, Carmen McRae and The Manhattan Transfer. His album Vesúvio was ranked as the 35th best Brazilian album of 2018 by the Brazilian edition of Rolling Stone magazine.
URL:https://notoriousjazz.com/event/djavan
LOCATION:The Parker\, 707 NE 8th St\, \, FL\, Fort Lauderdale\, FL\, 33304\, United States
CATEGORIES:Concert
ATTACH;FMTTYPE=image/jpeg:https://notoriousjazz.com/wp-content/uploads/2022/11/DJAVAN.jpg
END:VEVENT
END:VCALENDAR