BEGIN:VCALENDAR
VERSION:2.0
PRODID:-//Notorious Jazz - ECPv6.15.17//NONSGML v1.0//EN
CALSCALE:GREGORIAN
METHOD:PUBLISH
X-ORIGINAL-URL:https://notoriousjazz.com
X-WR-CALDESC:Events for Notorious Jazz
REFRESH-INTERVAL;VALUE=DURATION:PT1H
X-Robots-Tag:noindex
X-PUBLISHED-TTL:PT1H
BEGIN:VTIMEZONE
TZID:America/New_York
BEGIN:DAYLIGHT
TZOFFSETFROM:-0500
TZOFFSETTO:-0400
TZNAME:EDT
DTSTART:20220313T070000
END:DAYLIGHT
BEGIN:STANDARD
TZOFFSETFROM:-0400
TZOFFSETTO:-0500
TZNAME:EST
DTSTART:20221106T060000
END:STANDARD
BEGIN:DAYLIGHT
TZOFFSETFROM:-0500
TZOFFSETTO:-0400
TZNAME:EDT
DTSTART:20230312T070000
END:DAYLIGHT
BEGIN:STANDARD
TZOFFSETFROM:-0400
TZOFFSETTO:-0500
TZNAME:EST
DTSTART:20231105T060000
END:STANDARD
BEGIN:DAYLIGHT
TZOFFSETFROM:-0500
TZOFFSETTO:-0400
TZNAME:EDT
DTSTART:20240310T070000
END:DAYLIGHT
BEGIN:STANDARD
TZOFFSETFROM:-0400
TZOFFSETTO:-0500
TZNAME:EST
DTSTART:20241103T060000
END:STANDARD
END:VTIMEZONE
BEGIN:VEVENT
DTSTART;TZID=America/New_York:20230514T160000
DTEND;TZID=America/New_York:20230514T180000
DTSTAMP:20260423T155409
CREATED:20230510T220719Z
LAST-MODIFIED:20230510T220858Z
UID:35220-1684080000-1684087200@notoriousjazz.com
SUMMARY:MARIA HOWELL: THE MUSIC OF ELLA FITZGERALD
DESCRIPTION:Mother’s Day\, May 14th brings together three fabulous ladies ~ Maria Howell and Ella Fitzgerald for an afternoon of stories and music about the iconic vocalist as only Howell can do it. It all takes place at the historic Strand Theatre in Marietta Square . The Music of Ella Fitzgerald will come to life with performances from the Jazz Legacy Project featuring vocalist Maria Howell\, a film and television star. This collaboration will include essential songs from Fitzgerald’s career and information about her approach to music and life. This will surely be a treat for mothers and everyone in the family. \nMaria’s career started with her singing jazz but her big break in entertainment came from the film adaptation of The Color Purple\, where her church solo\, though overtaken by Shug avery\, definitely stole the show. She muses about the fact that she played a singer. \nCreated in 2015 after an epiphany Justin Varnes had while teaching Jazz History at Georgia State University\, the Jazz Legacy Project has an ongoing residency at the Velvet Note jazz club in Alpharetta\, Georgia where they have been selling out their performances for 6 years and counting. Ditching a traditional textbook in favor of playing records and telling stories about the artists to college kids who knew little or nothing about jazz proved to be a big success. It turned out that performing the artist’s music and telling their stories in between proved to be an even bigger success. \nGet the velvet rope treatment with a VIP pass! VIP tickets include early access seating\, a meet and greet with the band\, two drink tickets\, and a signed poster from the band. \nSCHEDULE\n2:00pm – VIP doors to lobby open\n2:30pm – 3:30pm – VIP seating and VIP experience begins\n3:00pm – General admission doors\n3:30pm – General admission seating begins\n4:00pm – Showtime
URL:https://notoriousjazz.com/event/maria-howell-the-music-of-ella-fitzgerald
LOCATION:The Strand Theatre\, 117 N Park Square\, Marietta\, GA\, 30060\, United States
CATEGORIES:Concert
ATTACH;FMTTYPE=image/jpeg:https://notoriousjazz.com/wp-content/uploads/2023/05/MARIA-HOWELL.jpg
END:VEVENT
END:VCALENDAR