BEGIN:VCALENDAR
VERSION:2.0
PRODID:-//Notorious Jazz - ECPv6.15.17//NONSGML v1.0//EN
CALSCALE:GREGORIAN
METHOD:PUBLISH
X-ORIGINAL-URL:https://notoriousjazz.com
X-WR-CALDESC:Events for Notorious Jazz
REFRESH-INTERVAL;VALUE=DURATION:PT1H
X-Robots-Tag:noindex
X-PUBLISHED-TTL:PT1H
BEGIN:VTIMEZONE
TZID:America/New_York
BEGIN:DAYLIGHT
TZOFFSETFROM:-0500
TZOFFSETTO:-0400
TZNAME:EDT
DTSTART:20220313T070000
END:DAYLIGHT
BEGIN:STANDARD
TZOFFSETFROM:-0400
TZOFFSETTO:-0500
TZNAME:EST
DTSTART:20221106T060000
END:STANDARD
BEGIN:DAYLIGHT
TZOFFSETFROM:-0500
TZOFFSETTO:-0400
TZNAME:EDT
DTSTART:20230312T070000
END:DAYLIGHT
BEGIN:STANDARD
TZOFFSETFROM:-0400
TZOFFSETTO:-0500
TZNAME:EST
DTSTART:20231105T060000
END:STANDARD
BEGIN:DAYLIGHT
TZOFFSETFROM:-0500
TZOFFSETTO:-0400
TZNAME:EDT
DTSTART:20240310T070000
END:DAYLIGHT
BEGIN:STANDARD
TZOFFSETFROM:-0400
TZOFFSETTO:-0500
TZNAME:EST
DTSTART:20241103T060000
END:STANDARD
END:VTIMEZONE
BEGIN:VEVENT
DTSTART;TZID=America/New_York:20230614T190000
DTEND;TZID=America/New_York:20230614T210000
DTSTAMP:20260423T142308
CREATED:20230601T092403Z
LAST-MODIFIED:20230601T092526Z
UID:35501-1686769200-1686776400@notoriousjazz.com
SUMMARY:MELTON MUSTAFA: JUNETEENTH JUKE JOINT
DESCRIPTION:The Heritage Project: Juneteenth Juke Joint featuring Mustafa on Sax\n\nThe Arsht Center’s Heritage Committee is proud to present our second annual Juneteenth Juke Joint! The joint will start with a dope mix of Pan-African beats with DJ Shacia Päyne Marley. Back by popular demand\, world-renowned saxophonist\, producer and composer Melton Mustafa Jr. will be here with Mustafa on Sax. Arrive early to order a specially curated happy hour menu featuring delicious\, soul food-inspired bites and libations.\n\nJuneteenth Juke Joint pays homage to the rich history of Black music\, culture and food in the American South. For generations\, our country’s “second Independence Day” has been celebrated with gatherings\, cookouts\, music\, laughter and pride in Black freedom. We seek to create a space for Black joy and maintain an ever present\, always developing sense of community.\n\nLocation: Peacock Foundation Studio at the Arsht
URL:https://notoriousjazz.com/event/melton-mustafa-juneteenth-juke-joint
LOCATION:Adrienne Arsht Center | Knight Concert Hall\, 1300 Biscayne Boulevard\, Miami\, FL\, 33132\, United States
CATEGORIES:Concert
ATTACH;FMTTYPE=image/jpeg:https://notoriousjazz.com/wp-content/uploads/2023/06/MELTON-MUSTAFA-JR.jpg
END:VEVENT
END:VCALENDAR