BEGIN:VCALENDAR
VERSION:2.0
PRODID:-//Notorious Jazz - ECPv6.15.17//NONSGML v1.0//EN
CALSCALE:GREGORIAN
METHOD:PUBLISH
X-WR-CALNAME:Notorious Jazz
X-ORIGINAL-URL:https://notoriousjazz.com
X-WR-CALDESC:Events for Notorious Jazz
REFRESH-INTERVAL;VALUE=DURATION:PT1H
X-Robots-Tag:noindex
X-PUBLISHED-TTL:PT1H
BEGIN:VTIMEZONE
TZID:America/Los_Angeles
BEGIN:DAYLIGHT
TZOFFSETFROM:-0800
TZOFFSETTO:-0700
TZNAME:PDT
DTSTART:20220313T100000
END:DAYLIGHT
BEGIN:STANDARD
TZOFFSETFROM:-0700
TZOFFSETTO:-0800
TZNAME:PST
DTSTART:20221106T090000
END:STANDARD
BEGIN:DAYLIGHT
TZOFFSETFROM:-0800
TZOFFSETTO:-0700
TZNAME:PDT
DTSTART:20230312T100000
END:DAYLIGHT
BEGIN:STANDARD
TZOFFSETFROM:-0700
TZOFFSETTO:-0800
TZNAME:PST
DTSTART:20231105T090000
END:STANDARD
BEGIN:DAYLIGHT
TZOFFSETFROM:-0800
TZOFFSETTO:-0700
TZNAME:PDT
DTSTART:20240310T100000
END:DAYLIGHT
BEGIN:STANDARD
TZOFFSETFROM:-0700
TZOFFSETTO:-0800
TZNAME:PST
DTSTART:20241103T090000
END:STANDARD
END:VTIMEZONE
BEGIN:VTIMEZONE
TZID:America/New_York
BEGIN:DAYLIGHT
TZOFFSETFROM:-0500
TZOFFSETTO:-0400
TZNAME:EDT
DTSTART:20220313T070000
END:DAYLIGHT
BEGIN:STANDARD
TZOFFSETFROM:-0400
TZOFFSETTO:-0500
TZNAME:EST
DTSTART:20221106T060000
END:STANDARD
BEGIN:DAYLIGHT
TZOFFSETFROM:-0500
TZOFFSETTO:-0400
TZNAME:EDT
DTSTART:20230312T070000
END:DAYLIGHT
BEGIN:STANDARD
TZOFFSETFROM:-0400
TZOFFSETTO:-0500
TZNAME:EST
DTSTART:20231105T060000
END:STANDARD
BEGIN:DAYLIGHT
TZOFFSETFROM:-0500
TZOFFSETTO:-0400
TZNAME:EDT
DTSTART:20240310T070000
END:DAYLIGHT
BEGIN:STANDARD
TZOFFSETFROM:-0400
TZOFFSETTO:-0500
TZNAME:EST
DTSTART:20241103T060000
END:STANDARD
END:VTIMEZONE
BEGIN:VEVENT
DTSTART;TZID=America/Los_Angeles:20230811T193000
DTEND;TZID=America/Los_Angeles:20230811T213000
DTSTAMP:20260423T112017
CREATED:20230617T202245Z
LAST-MODIFIED:20230617T203945Z
UID:35730-1691782200-1691789400@notoriousjazz.com
SUMMARY:CHRIS ISAAK
DESCRIPTION:Over the course of his three-decade plus career\, Platinum-selling and GRAMMY-nominated singer & actor Chris Isaak has performed to sold-out crowds across the globe with his longtime band Silvertone. His music and film credits include thirteen critically acclaimed studio albums\, twelve chart-topping singles along with several motion pictures\, such as The Silence of the Lambs and That Thing You Do!. His work has also taken him behind the scenes\, creating music for multiple film soundtracks\, including Eyes Wide Shut\, True Romance\, Wild at Heart\, and Blue Velvet. Isaak has starred in his own critically acclaimed television series The Chris Isaak Show on SHOWTIME\, has previously served as a judge on The X Factor Australia\, and hosted the music talk show\, The Chris Isaak Hour on BIO. 2019 marked the 30th Anniversary of Isaak’s beloved Heart-Shaped World album\, which includes his breakthrough classic “Wicked Game”. Isaak was recently honored with a Lifetime Achievement Award for Performance by the Americana Honors. \nOpening Act: David Rosales \nParking: $30.00 advanced purchase | $35.00 day of \nValet: $40.00 advanced purchase | $45.00 day of (if not sold out)
URL:https://notoriousjazz.com/event/chris-isaak
LOCATION:Hyatt Regency Newport Beach\, 1107 Jamboree Road\, Newport Beach\, CA\, 92660\, United States
CATEGORIES:Concert
ATTACH;FMTTYPE=image/png:https://notoriousjazz.com/wp-content/uploads/2023/06/CHRIS-ISAAK.png
END:VEVENT
BEGIN:VEVENT
DTSTART;TZID=America/New_York:20230811T200000
DTEND;TZID=America/New_York:20230811T220000
DTSTAMP:20260423T112017
CREATED:20230210T013728Z
LAST-MODIFIED:20230210T013742Z
UID:34109-1691784000-1691791200@notoriousjazz.com
SUMMARY:HOT PANTS DE FRANCE
DESCRIPTION:Assembling some of the hottest talent from around the world\, touring/session guitarist (Maynard Ferguson\, NKOTB\, Kenny Loggins) and Emmy nominated film/tv composer Sam Kaufmann formed the Gypsy Jazz and Swing Group – Hot Pants de France. Sam has liberated himself from the Hot Jazz canon and presents his own uninhibited\, modern style with Hot Pants de France and highlights what is still to come. Well received by both listeners and the press\, the vision was to bring a fresh\, contemporary feel to hits from the ’70s\, ’80s and ’90s by arranging them in the style of jazz great Django Reinhardt. The intention was not to simply recapitulate the music\, but to interpret it with a uniqueness\, incorporating modern influences\, while remaining true to the innovative style created by Django and Stéphane Grappelli in Quintette du Hot Club de France\, one of the first all-string jazz bands. \nThe dichotomy between musical styles of the ’40s and the ’90s is bridged by our various vocalists including Lisa Rittner\, and Valeria Koka. Each elegantly bringing the music into the sound of “today”. Lisa honed her chops for a decade on the Queen Mary and the band Sound F/X. In addition to her voice\, Lisa gracefully adds her Saxophone prowess to Hot Pants’ samba-esque version of “Black Hole Sun”. While Valeria is best known for her vocal work with Ukranian Superstar Artem Pivovarov and her own Valeria Koka Sextet. \nHarkening back to the establishing sound of OG – Stéphane Grappelli\, Jane Young (2nd Place International Grand Prix of St. Petersburg\, Swiss Dream Circus\, NBC\, Nova/PBS) constructed excellent counterpoint to Sam’s guitar lines. The two play off each other like a conversation between old friends. \nFinally\, touring/session bassist Jack O’Roonie (Andre Williams\, Danny B Harvey\, Wanda Jackson and Labella Strings endorsee) outlines the harmony while controlling the dynamics and pace of the band with his fantastical yet proficient bass lines. \nYears of experience and effortless interaction are clear – noteworthy on the recordings as well as on stage. Standing on the works by Django Reinhardt\, it is this unique mix of pop\, jazz\, americana and inventive compositions that makes the unmistakable sound of the group. \nBAND MEMBERSSam Kaufmann – Reharmonizer and GuitarLisa Rittner – Vocals and SaxValeria Koka – VocalsJack O’Roonie – BassAndrea Reynolds and Jane Young – Violin
URL:https://notoriousjazz.com/event/hot-pants-de-france
LOCATION:Arts Garage\, 94 NE 2nd Avenue\, Delray Beach\, FL\, 33444\, United States
CATEGORIES:Concert
ATTACH;FMTTYPE=image/png:https://notoriousjazz.com/wp-content/uploads/2023/02/HOT-PANTS-DE-PARIS.png
END:VEVENT
END:VCALENDAR