BEGIN:VCALENDAR
VERSION:2.0
PRODID:-//Notorious Jazz - ECPv6.15.17//NONSGML v1.0//EN
CALSCALE:GREGORIAN
METHOD:PUBLISH
X-ORIGINAL-URL:https://notoriousjazz.com
X-WR-CALDESC:Events for Notorious Jazz
REFRESH-INTERVAL;VALUE=DURATION:PT1H
X-Robots-Tag:noindex
X-PUBLISHED-TTL:PT1H
BEGIN:VTIMEZONE
TZID:America/New_York
BEGIN:DAYLIGHT
TZOFFSETFROM:-0500
TZOFFSETTO:-0400
TZNAME:EDT
DTSTART:20230312T070000
END:DAYLIGHT
BEGIN:STANDARD
TZOFFSETFROM:-0400
TZOFFSETTO:-0500
TZNAME:EST
DTSTART:20231105T060000
END:STANDARD
BEGIN:DAYLIGHT
TZOFFSETFROM:-0500
TZOFFSETTO:-0400
TZNAME:EDT
DTSTART:20240310T070000
END:DAYLIGHT
BEGIN:STANDARD
TZOFFSETFROM:-0400
TZOFFSETTO:-0500
TZNAME:EST
DTSTART:20241103T060000
END:STANDARD
BEGIN:DAYLIGHT
TZOFFSETFROM:-0500
TZOFFSETTO:-0400
TZNAME:EDT
DTSTART:20250309T070000
END:DAYLIGHT
BEGIN:STANDARD
TZOFFSETFROM:-0400
TZOFFSETTO:-0500
TZNAME:EST
DTSTART:20251102T060000
END:STANDARD
END:VTIMEZONE
BEGIN:VEVENT
DTSTART;TZID=America/New_York:20240314T200000
DTEND;TZID=America/New_York:20240314T213000
DTSTAMP:20260422T194014
CREATED:20231203T130037Z
LAST-MODIFIED:20240311T130401Z
UID:38119-1710446400-1710451800@notoriousjazz.com
SUMMARY:LISA HILTON
DESCRIPTION:Award-winning composer and critically acclaimed pianist Lisa Hilton comes to Weill Recital Hall accompanied by her quartet for an evening that features uplifting new music from the group’s latest release\, Coincidental Moment. A prolific composer inspired by the soundscape of jazz and blues\, Hilton will share stories behind the creative process from the stage. \nThe Lisa Hilton Quartet\n~Lisa Hilton\, Piano\n~ Igmar Thomas\, Trumpet\n~ Luques Curtis\, Bass\n~ Rudy Royston\, Drums \nTickets have $9.00 fee
URL:https://notoriousjazz.com/event/lisa-hilton
LOCATION:Weill Recital Hall @ Carnegie Hall\, 881 7th Ave\,\, New York City\, NY\, 10019\, United States
CATEGORIES:Concert
ATTACH;FMTTYPE=image/jpeg:https://notoriousjazz.com/wp-content/uploads/2023/12/LISA-HILTON.jpg
END:VEVENT
END:VCALENDAR