BEGIN:VCALENDAR
VERSION:2.0
PRODID:-//Notorious Jazz - ECPv6.15.17//NONSGML v1.0//EN
CALSCALE:GREGORIAN
METHOD:PUBLISH
X-ORIGINAL-URL:https://notoriousjazz.com
X-WR-CALDESC:Events for Notorious Jazz
REFRESH-INTERVAL;VALUE=DURATION:PT1H
X-Robots-Tag:noindex
X-PUBLISHED-TTL:PT1H
BEGIN:VTIMEZONE
TZID:Europe/Copenhagen
BEGIN:DAYLIGHT
TZOFFSETFROM:+0100
TZOFFSETTO:+0200
TZNAME:CEST
DTSTART:20230326T010000
END:DAYLIGHT
BEGIN:STANDARD
TZOFFSETFROM:+0200
TZOFFSETTO:+0100
TZNAME:CET
DTSTART:20231029T010000
END:STANDARD
BEGIN:DAYLIGHT
TZOFFSETFROM:+0100
TZOFFSETTO:+0200
TZNAME:CEST
DTSTART:20240331T010000
END:DAYLIGHT
BEGIN:STANDARD
TZOFFSETFROM:+0200
TZOFFSETTO:+0100
TZNAME:CET
DTSTART:20241027T010000
END:STANDARD
BEGIN:DAYLIGHT
TZOFFSETFROM:+0100
TZOFFSETTO:+0200
TZNAME:CEST
DTSTART:20250330T010000
END:DAYLIGHT
BEGIN:STANDARD
TZOFFSETFROM:+0200
TZOFFSETTO:+0100
TZNAME:CET
DTSTART:20251026T010000
END:STANDARD
END:VTIMEZONE
BEGIN:VEVENT
DTSTART;TZID=Europe/Copenhagen:20241030T193000
DTEND;TZID=Europe/Copenhagen:20241030T210000
DTSTAMP:20260422T063100
CREATED:20241027T165155Z
LAST-MODIFIED:20241103T003008Z
UID:43113-1730316600-1730322000@notoriousjazz.com
SUMMARY:SINNE EEG & TIVOLI BIG BAND
DESCRIPTION:A Tribute to Tivoli’s Jazz History with Duke Ellington\, Ella Fitzgerald and Sarah Vaughan \nTivoli’s Big Band and Sinne Eeg celebrate Tivoli’s rich jazz history and pay tribute to three of jazz’s greatest artists who performed regularly on Tivoli’s stages in the 1950s\, 60s and 70s. \nDuke Ellington and Ella Fitzgerald visited the Tivoli numerous times over those three decades\, and another of jazz’s greatest voices\, Sarah Vaughan\, recorded her personal masterpiece\, “Sassy Swings The Tivoli\,” in 1963\, with none other than Quincy Jones as producer. \nTivoli’s Big Band and Sinne Eeg delve into the rich repertoire from Ella Fitzgerald’s “Duke Ellington Songbook” album and recreate for the first time a handful of the titles from “Sassy Swings The Tivoli” in newly written big band arrangements. Inspired by how Quincy Jones might have written them\, these arrangements are created by Tivoli’s Grammy-nominated bandmaster and house arranger Peter Jensen. \nDKK 195.00 ($28.21) ~ DKK 325.00 ($47.02) Includes ticket fee and entrance to Tivoli Gardens.
URL:https://notoriousjazz.com/event/sinne-eeg-tivoli-big-band
LOCATION:The Glass Hall\, Vesterbrogade 3\, 1620 Copenhagen V\, Denmark
CATEGORIES:Concert
ATTACH;FMTTYPE=image/png:https://notoriousjazz.com/wp-content/uploads/2024/10/SINNE-EEG.png
END:VEVENT
END:VCALENDAR