BEGIN:VCALENDAR
VERSION:2.0
PRODID:-//Notorious Jazz - ECPv6.15.17//NONSGML v1.0//EN
CALSCALE:GREGORIAN
METHOD:PUBLISH
X-ORIGINAL-URL:https://notoriousjazz.com
X-WR-CALDESC:Events for Notorious Jazz
REFRESH-INTERVAL;VALUE=DURATION:PT1H
X-Robots-Tag:noindex
X-PUBLISHED-TTL:PT1H
BEGIN:VTIMEZONE
TZID:America/Los_Angeles
BEGIN:DAYLIGHT
TZOFFSETFROM:-0800
TZOFFSETTO:-0700
TZNAME:PDT
DTSTART:20240310T100000
END:DAYLIGHT
BEGIN:STANDARD
TZOFFSETFROM:-0700
TZOFFSETTO:-0800
TZNAME:PST
DTSTART:20241103T090000
END:STANDARD
BEGIN:DAYLIGHT
TZOFFSETFROM:-0800
TZOFFSETTO:-0700
TZNAME:PDT
DTSTART:20250309T100000
END:DAYLIGHT
BEGIN:STANDARD
TZOFFSETFROM:-0700
TZOFFSETTO:-0800
TZNAME:PST
DTSTART:20251102T090000
END:STANDARD
BEGIN:DAYLIGHT
TZOFFSETFROM:-0800
TZOFFSETTO:-0700
TZNAME:PDT
DTSTART:20260308T100000
END:DAYLIGHT
BEGIN:STANDARD
TZOFFSETFROM:-0700
TZOFFSETTO:-0800
TZNAME:PST
DTSTART:20261101T090000
END:STANDARD
END:VTIMEZONE
BEGIN:VEVENT
DTSTART;TZID=America/Los_Angeles:20250128T190000
DTEND;TZID=America/Los_Angeles:20250128T210000
DTSTAMP:20260422T032039
CREATED:20250111T222505Z
LAST-MODIFIED:20250111T222704Z
UID:44212-1738090800-1738098000@notoriousjazz.com
SUMMARY:JOHN GILBREATH
DESCRIPTION:After a celebrated career that spans more than three decades at Earshot Jazz\, John Gilbreath is retiring from his role as executive director. Let’s come together and celebrate with him. The evening includes mingling\, music\, and munchies. \nMusic by the Seattle Repertory Jazz Orchestra (SRJO) Septet. Lite bites provided. Cash bar. \nRegistration required. Admission is Free. Donations Appreciated In-person*
URL:https://notoriousjazz.com/event/john-gilbreath
LOCATION:The Great Town Hall\, 1119 8th Avenue\,  Seattle\, WA\, 98101\, United States
CATEGORIES:Concert
ATTACH;FMTTYPE=image/png:https://notoriousjazz.com/wp-content/uploads/2025/01/JOHN-GILBREATH-@-TOWN-HALL.png
END:VEVENT
END:VCALENDAR