BEGIN:VCALENDAR
VERSION:2.0
PRODID:-//Notorious Jazz - ECPv6.15.17//NONSGML v1.0//EN
CALSCALE:GREGORIAN
METHOD:PUBLISH
X-WR-CALNAME:Notorious Jazz
X-ORIGINAL-URL:https://notoriousjazz.com
X-WR-CALDESC:Events for Notorious Jazz
REFRESH-INTERVAL;VALUE=DURATION:PT1H
X-Robots-Tag:noindex
X-PUBLISHED-TTL:PT1H
BEGIN:VTIMEZONE
TZID:America/New_York
BEGIN:DAYLIGHT
TZOFFSETFROM:-0500
TZOFFSETTO:-0400
TZNAME:EDT
DTSTART:20240310T070000
END:DAYLIGHT
BEGIN:STANDARD
TZOFFSETFROM:-0400
TZOFFSETTO:-0500
TZNAME:EST
DTSTART:20241103T060000
END:STANDARD
BEGIN:DAYLIGHT
TZOFFSETFROM:-0500
TZOFFSETTO:-0400
TZNAME:EDT
DTSTART:20250309T070000
END:DAYLIGHT
BEGIN:STANDARD
TZOFFSETFROM:-0400
TZOFFSETTO:-0500
TZNAME:EST
DTSTART:20251102T060000
END:STANDARD
BEGIN:DAYLIGHT
TZOFFSETFROM:-0500
TZOFFSETTO:-0400
TZNAME:EDT
DTSTART:20260308T070000
END:DAYLIGHT
BEGIN:STANDARD
TZOFFSETFROM:-0400
TZOFFSETTO:-0500
TZNAME:EST
DTSTART:20261101T060000
END:STANDARD
END:VTIMEZONE
BEGIN:VEVENT
DTSTART;TZID=America/New_York:20250724T193000
DTEND;TZID=America/New_York:20250724T210000
DTSTAMP:20260421T221708
CREATED:20250720T194431Z
LAST-MODIFIED:20250720T194431Z
UID:46625-1753385400-1753390800@notoriousjazz.com
SUMMARY:DIANA WEST
DESCRIPTION:A Night with Dee Jazz \nVocalist Dee Jazz\, also known as Diana West\, steps into the spotlight with her highly anticipated breakout performance at Jazz St. Louis. A proud St. Louis native and dynamic young vocalist in her early 20s\, Dee brings a fresh\, soulful energy to the stage as she debuts her new name and musical vision. \nRooted in the tradition but unafraid to take bold steps forward\, Dee Jazz delivers each note with elegance\, emotional depth\, and an unmistakable sense of self. Her voice is rich with nuance—whether she’s interpreting jazz standards or introducing original material\, she sings with heart\, clarity\, and swing. \nCover: Sold Out
URL:https://notoriousjazz.com/event/diana-west
LOCATION:Harold & Dorothy Steward Center For Jazz\, 3536 Washington Avenue\, St. Louis\, MO\, 63103\, United States
CATEGORIES:Concert
ATTACH;FMTTYPE=image/png:https://notoriousjazz.com/wp-content/uploads/2025/07/DIANA-WEST-@-HAROLD-DOROTHY-STEWARD-CENTER-FOR-JAZZ.png
END:VEVENT
END:VCALENDAR