BEGIN:VCALENDAR
VERSION:2.0
PRODID:-//Notorious Jazz - ECPv6.15.17//NONSGML v1.0//EN
CALSCALE:GREGORIAN
METHOD:PUBLISH
X-WR-CALNAME:Notorious Jazz
X-ORIGINAL-URL:https://notoriousjazz.com
X-WR-CALDESC:Events for Notorious Jazz
REFRESH-INTERVAL;VALUE=DURATION:PT1H
X-Robots-Tag:noindex
X-PUBLISHED-TTL:PT1H
BEGIN:VTIMEZONE
TZID:America/New_York
BEGIN:DAYLIGHT
TZOFFSETFROM:-0500
TZOFFSETTO:-0400
TZNAME:EDT
DTSTART:20250309T070000
END:DAYLIGHT
BEGIN:STANDARD
TZOFFSETFROM:-0400
TZOFFSETTO:-0500
TZNAME:EST
DTSTART:20251102T060000
END:STANDARD
BEGIN:DAYLIGHT
TZOFFSETFROM:-0500
TZOFFSETTO:-0400
TZNAME:EDT
DTSTART:20260308T070000
END:DAYLIGHT
BEGIN:STANDARD
TZOFFSETFROM:-0400
TZOFFSETTO:-0500
TZNAME:EST
DTSTART:20261101T060000
END:STANDARD
BEGIN:DAYLIGHT
TZOFFSETFROM:-0500
TZOFFSETTO:-0400
TZNAME:EDT
DTSTART:20270314T070000
END:DAYLIGHT
BEGIN:STANDARD
TZOFFSETFROM:-0400
TZOFFSETTO:-0500
TZNAME:EST
DTSTART:20271107T060000
END:STANDARD
END:VTIMEZONE
BEGIN:VEVENT
DTSTART;TZID=America/New_York:20260426T160000
DTEND;TZID=America/New_York:20260426T173000
DTSTAMP:20260421T210117
CREATED:20260420T004023Z
LAST-MODIFIED:20260420T004512Z
UID:49370-1777219200-1777224600@notoriousjazz.com
SUMMARY:CHRISTIAN MCBRIDE & URSA MAJOR
DESCRIPTION:Eleven-time Grammy Award-winning bassist\, composer\, and bandleader Christian McBride will delight audiences with his unique musical style influenced by jazz\, R&B\, pop/rock\, neo soul\, and classical music. \nWhether behind the bass or away from it\, Christian McBride is always of the music. A luminary with one hand reaching for new heights and the other extended in fellowship\, McBride invites audiences to join in his love of jazz\, R&B\, pop/rock\, hip-hop\, neo soul\, and classical. An eleven-time Grammy Award-winning bassist\, composer\, and bandleader\, McBride has served as Artistic Director of the historic Newport Jazz Festival\, New Jersey Performing Arts center (NJPAC) and the TD James Moody Jazz Festival\, as well as the National Jazz Museum in Harlem. \nCover: $30.00 ~ $60.00 | VIP ~ $80.00
URL:https://notoriousjazz.com/event/christian-mcbride-ursa-major-2
LOCATION:Moss Center | Main Stage\, 10950 SW 211 Street\, Cutler Bay\, FL\, 33189\, United States
CATEGORIES:Concert
ATTACH;FMTTYPE=image/png:https://notoriousjazz.com/wp-content/uploads/2026/04/CHRISTIAN-MCBRIDE-@-MOSS-CENTER.png
END:VEVENT
END:VCALENDAR