BEGIN:VCALENDAR
VERSION:2.0
PRODID:-//Notorious Jazz - ECPv6.15.17//NONSGML v1.0//EN
CALSCALE:GREGORIAN
METHOD:PUBLISH
X-ORIGINAL-URL:https://notoriousjazz.com
X-WR-CALDESC:Events for Notorious Jazz
REFRESH-INTERVAL;VALUE=DURATION:PT1H
X-Robots-Tag:noindex
X-PUBLISHED-TTL:PT1H
BEGIN:VTIMEZONE
TZID:America/New_York
BEGIN:DAYLIGHT
TZOFFSETFROM:-0500
TZOFFSETTO:-0400
TZNAME:EDT
DTSTART:20220313T070000
END:DAYLIGHT
BEGIN:STANDARD
TZOFFSETFROM:-0400
TZOFFSETTO:-0500
TZNAME:EST
DTSTART:20221106T060000
END:STANDARD
BEGIN:DAYLIGHT
TZOFFSETFROM:-0500
TZOFFSETTO:-0400
TZNAME:EDT
DTSTART:20230312T070000
END:DAYLIGHT
BEGIN:STANDARD
TZOFFSETFROM:-0400
TZOFFSETTO:-0500
TZNAME:EST
DTSTART:20231105T060000
END:STANDARD
BEGIN:DAYLIGHT
TZOFFSETFROM:-0500
TZOFFSETTO:-0400
TZNAME:EDT
DTSTART:20240310T070000
END:DAYLIGHT
BEGIN:STANDARD
TZOFFSETFROM:-0400
TZOFFSETTO:-0500
TZNAME:EST
DTSTART:20241103T060000
END:STANDARD
END:VTIMEZONE
BEGIN:VEVENT
DTSTART;TZID=America/New_York:20230105T200000
DTEND;TZID=America/New_York:20230105T220000
DTSTAMP:20260422T202818
CREATED:20221212T031128Z
LAST-MODIFIED:20221212T031252Z
UID:33145-1672948800-1672956000@notoriousjazz.com
SUMMARY:EMMET COHEN
DESCRIPTION:Live From Emmet’s Place ~ Shelly Berg • Emmet Cohen • Wycliffe Gordon • James Morrison • Yasushi Nakamura • Lewis Nash • Ken Peplowski • Kyle Poole • Tierney Sutton \nAt the onset of the COVID pandemic\, Emmet Cohen created a weekly streaming jazz performance\, Live From EMMET’S PLACE\, which quickly became the most watched streaming series in the jazz world. \nNow\, as the world returns to live performances\, Emmet Cohen is bringing his trio and six jazz greats to the Miami Jazz Cooperative for an evening of jazz which will be remembered in South Florida for years. \nThis will be an intimate performance with fewer than 200 seats. \nReserved seats will be at tables of four closest to the stage and will be sold in groups of two. SOLD OUT!!! \nBehind the reserved seats will be rows of chairs for general admission. The last row of general admission seats will be approximately 40 feet from the stage. \nDiscounted early ticketing begins on December 1\, 2021. Prices will increase on December 15. Don’t miss out.
URL:https://notoriousjazz.com/event/emmet-cohen-2
LOCATION:THesis Hotel Miami\, 1350 South Dixie Highway\, Coral Gables\, FL\, 33146\, United States
CATEGORIES:Concert,Event
ATTACH;FMTTYPE=image/jpeg:https://notoriousjazz.com/wp-content/uploads/2022/12/EMMET-COHEN.jpg
END:VEVENT
BEGIN:VEVENT
DTSTART;TZID=America/New_York:20230114T120000
DTEND;TZID=America/New_York:20230114T183000
DTSTAMP:20260422T202818
CREATED:20221214T030228Z
LAST-MODIFIED:20230102T182123Z
UID:33209-1673697600-1673721000@notoriousjazz.com
SUMMARY:APAP ARTIST SHOWCASES
DESCRIPTION:Regular Registration Rate (after November 9\, 2022): $795\n\n\n\n\n\n\n\n\n\n\n\n\n\nGroup Rate for up to 10 attendees: Please inquire.\n\n\nStudent Rate: $200\n\n\nOnline-Only Access Pass*: $100\n\n\n\n\n\n\n\n\n\n\n\n\n\nShowcases: \nNicole Henry ~ Jazz Vocal | 11:30 am | https://www.nicolehenry.com \nYamandu Costa ~ Brazillian Guitarist | 12:oo pm | http://braziliannites.com/tours \nAcute Inflections ~ Jazz Vocal & Bass | 12:30 pm | http://acuteinflections.com       \nAllan Harris & Kates Soul Food ~ Soul\, Jazz Vocal\, Guitar | 1:00 pm | https://www.allanharris.com \nJo Harrop ~ UK Based Jazz Vocalist | 1:30 pm | http://joharrop.com \nThe String Queens ~ Dynamic String Trio | 2:00 pm | https://www.passionmusicgroup.net/the-string-queens \nG. Thomas Allen ~ Jazz Vocal | 2:30 pm | https://www.passionmusicgroup.net/gthomasallen \nSamuel Bonnet ~ Jazz Guitar | 3:00 pm | https://www.samuelbonnetguitar.com \nDave Sharp World Quartet ~ World Music Quartet | 3:30 pm | https://www.davesharp.com/ \nSanti Debriano ~ Jazz Bass | 4:00 pm | https://en.wikipedia.org/wiki/Santi_Debriano \nBrandon Goldberg ~ Jazz Piano | 4:30 pm | https://brandongoldbergpiano.com \nJorge Luis Pacheco ~ Jazz Piano | 5:00 pm | https://www.jorgeluispacheco.com/bio-2 \nDennis Jeter ~ Jazz Vocal & Trumpet | 5:30 pm | http://dennisjeter.com/index.cfm \nJuumane Smith ~ Jazz Trumpet & Vocal | 6:00 pm | http://jumaanesmith.com \nEugenie Jones ~ Jazz Vocal | 6:30 pm | https://www.eugeniejones.com
URL:https://notoriousjazz.com/event/apap-artist-showcases
LOCATION:New York Hilton | New York Suite\, 1335 Avenue Of The Americas\, New York City\, NY\, 10019\, United States
CATEGORIES:Event
ATTACH;FMTTYPE=image/jpeg:https://notoriousjazz.com/wp-content/uploads/2022/12/ALLAN-PAT-HARRIS.jpg
END:VEVENT
BEGIN:VEVENT
DTSTART;TZID=America/New_York:20230115T123000
DTEND;TZID=America/New_York:20230115T200000
DTSTAMP:20260422T202818
CREATED:20221214T030458Z
LAST-MODIFIED:20230102T182652Z
UID:33212-1673785800-1673812800@notoriousjazz.com
SUMMARY:APAP ARTIST SHOWCASES
DESCRIPTION:Regular Registration Rate (after November 9\, 2022): $795 \nGroup Rate for up to 10 attendees: Please inquire. \nStudent Rate: $200 \nOnline-Only Access Pass*: $100 \nShowcases: \nTatiana Eva~Marie & The Avalon Jazz Band ~ Djangology | 11:30 am | http://tatianaevamarie.com \nAcute Inflections ~ Jazz Vocal & Bass | 12:30 pm | acuteinflections.com \nEugenie Jones ~ Jazz Vocal | 1:00 pm | https://www.eugeniejones.com \nDennis Jeter ~ Jazz Vocal & Trumpet | 1:30 pm | dennisjeter.com/index.cfm \nYamandu Costa ~ Brazilian Guitarist | 3:00 pm | braziliannites.com/tours  \nJuumane Smith ~ Jazz Trumpet & Vocal | 5:00 pm | jumaanesmith.com \nJo Harrop ~ UK Based Jazz Vocalist | 7:00 pm |joharrop.com \nTatiana Eva~Marie & The Avalon Jazz Band ~ Djangology |7:30 pm | http://tatianaevamarie.com
URL:https://notoriousjazz.com/event/apap-artist-showcases-2
LOCATION:New York Hilton | New York Suite\, 1335 Avenue Of The Americas\, New York City\, NY\, 10019\, United States
CATEGORIES:Event
ATTACH;FMTTYPE=image/jpeg:https://notoriousjazz.com/wp-content/uploads/2022/12/ALLAN-PAT-HARRIS.jpg
END:VEVENT
END:VCALENDAR