BEGIN:VCALENDAR
VERSION:2.0
PRODID:-//Notorious Jazz - ECPv6.15.17//NONSGML v1.0//EN
CALSCALE:GREGORIAN
METHOD:PUBLISH
X-WR-CALNAME:Notorious Jazz
X-ORIGINAL-URL:https://notoriousjazz.com
X-WR-CALDESC:Events for Notorious Jazz
REFRESH-INTERVAL;VALUE=DURATION:PT1H
X-Robots-Tag:noindex
X-PUBLISHED-TTL:PT1H
BEGIN:VTIMEZONE
TZID:America/New_York
BEGIN:DAYLIGHT
TZOFFSETFROM:-0500
TZOFFSETTO:-0400
TZNAME:EDT
DTSTART:20230312T070000
END:DAYLIGHT
BEGIN:STANDARD
TZOFFSETFROM:-0400
TZOFFSETTO:-0500
TZNAME:EST
DTSTART:20231105T060000
END:STANDARD
BEGIN:DAYLIGHT
TZOFFSETFROM:-0500
TZOFFSETTO:-0400
TZNAME:EDT
DTSTART:20240310T070000
END:DAYLIGHT
BEGIN:STANDARD
TZOFFSETFROM:-0400
TZOFFSETTO:-0500
TZNAME:EST
DTSTART:20241103T060000
END:STANDARD
BEGIN:DAYLIGHT
TZOFFSETFROM:-0500
TZOFFSETTO:-0400
TZNAME:EDT
DTSTART:20250309T070000
END:DAYLIGHT
BEGIN:STANDARD
TZOFFSETFROM:-0400
TZOFFSETTO:-0500
TZNAME:EST
DTSTART:20251102T060000
END:STANDARD
END:VTIMEZONE
BEGIN:VEVENT
DTSTART;TZID=America/New_York:20241129T193000
DTEND;TZID=America/New_York:20241129T223000
DTSTAMP:20260421T041348
CREATED:20241110T031430Z
LAST-MODIFIED:20241110T031430Z
UID:43357-1732908600-1732919400@notoriousjazz.com
SUMMARY:DEE DANIELS
DESCRIPTION:We are absolutely thrilled to be performing our annual Christmas concert with international artiste\, the inimitable DEE DANIELS! We will get you in a festive holiday mood as well as serve up some wonderfully arranged Jazz classics. Join us for an unforgettable evening! Silent Night \nPlaylist: 1. O Holy Night | 2. God Rest Ye Merry Gentlemen | 3. Ode To Joy | 4. Carol Of The Bells | 5. Hark The Herald Angels Sing | 6. Ella Fitzgerald Medley | 7. Send In The Clowns | 8. There’ll Be Some Changes Made | 9. I Got It Bad (and that ain’t good) | 10. I Cant Give You Anything But Love | 11. Bill Bailey | 12. The Ballad Of John Lewis (The Freedom Song) | 13. Gimme A Pigfoo \nTickets: $10.00 Children\, $25.00 Seniors\, $35.00 Adult (+ fees for all tickets)
URL:https://notoriousjazz.com/event/dee-daniels
LOCATION:Peace Portal Alliance Church\, 15128 27b Avenue\, Surrey\, British Columbia\, V4P 1P2\,\, Canada
CATEGORIES:Event
ATTACH;FMTTYPE=image/png:https://notoriousjazz.com/wp-content/uploads/2024/11/DEE-DANIELS.png
END:VEVENT
END:VCALENDAR