BEGIN:VCALENDAR
VERSION:2.0
PRODID:-//Notorious Jazz - ECPv6.15.17//NONSGML v1.0//EN
CALSCALE:GREGORIAN
METHOD:PUBLISH
X-ORIGINAL-URL:https://notoriousjazz.com
X-WR-CALDESC:Events for Notorious Jazz
REFRESH-INTERVAL;VALUE=DURATION:PT1H
X-Robots-Tag:noindex
X-PUBLISHED-TTL:PT1H
BEGIN:VTIMEZONE
TZID:America/New_York
BEGIN:DAYLIGHT
TZOFFSETFROM:-0500
TZOFFSETTO:-0400
TZNAME:EDT
DTSTART:20240310T070000
END:DAYLIGHT
BEGIN:STANDARD
TZOFFSETFROM:-0400
TZOFFSETTO:-0500
TZNAME:EST
DTSTART:20241103T060000
END:STANDARD
BEGIN:DAYLIGHT
TZOFFSETFROM:-0500
TZOFFSETTO:-0400
TZNAME:EDT
DTSTART:20250309T070000
END:DAYLIGHT
BEGIN:STANDARD
TZOFFSETFROM:-0400
TZOFFSETTO:-0500
TZNAME:EST
DTSTART:20251102T060000
END:STANDARD
BEGIN:DAYLIGHT
TZOFFSETFROM:-0500
TZOFFSETTO:-0400
TZNAME:EDT
DTSTART:20260308T070000
END:DAYLIGHT
BEGIN:STANDARD
TZOFFSETFROM:-0400
TZOFFSETTO:-0500
TZNAME:EST
DTSTART:20261101T060000
END:STANDARD
END:VTIMEZONE
BEGIN:VEVENT
DTSTART;TZID=America/New_York:20250712T200000
DTEND;TZID=America/New_York:20250712T220000
DTSTAMP:20260420T143907
CREATED:20250707T020604Z
LAST-MODIFIED:20250707T020604Z
UID:46437-1752350400-1752357600@notoriousjazz.com
SUMMARY:LAVAHI
DESCRIPTION:Carrie’s Corner Presents: Jazz Under The Stars \nLavahi is a scholar-artist on a mission to better society from the inside out. Through her music\, scholarship\, and performance\, she is building a platform to nourish the heart and mind\, empathize our human experiences\, and vibe together. \nAs a daughter of jazz\, the culture heavily informs her ideology and influences her sound. Acrobatic scatting\, compelling chords\, and the art of improvisation evoke that classic traditional aesthetic and set her contemporary sound apart from the norm of mainstream neo-soul\, hip hop\, and R&B. And with her satisfying blend of analog and digital sounds\, Lavahi shows that the lineage of Black sound is not linear but ever folding and stretching. \nSuggested Donation: $30.00
URL:https://notoriousjazz.com/event/lavahi-2
LOCATION:Carrie’s Corner\, Marietta\, GA\, United States
CATEGORIES:Event
ATTACH;FMTTYPE=image/png:https://notoriousjazz.com/wp-content/uploads/2025/07/LAVAHI-@-CARRIES-CORNER.png
END:VEVENT
END:VCALENDAR