BEGIN:VCALENDAR
VERSION:2.0
PRODID:-//Notorious Jazz - ECPv6.15.17//NONSGML v1.0//EN
CALSCALE:GREGORIAN
METHOD:PUBLISH
X-ORIGINAL-URL:https://notoriousjazz.com
X-WR-CALDESC:Events for Notorious Jazz
REFRESH-INTERVAL;VALUE=DURATION:PT1H
X-Robots-Tag:noindex
X-PUBLISHED-TTL:PT1H
BEGIN:VTIMEZONE
TZID:America/New_York
BEGIN:DAYLIGHT
TZOFFSETFROM:-0500
TZOFFSETTO:-0400
TZNAME:EDT
DTSTART:20210314T070000
END:DAYLIGHT
BEGIN:STANDARD
TZOFFSETFROM:-0400
TZOFFSETTO:-0500
TZNAME:EST
DTSTART:20211107T060000
END:STANDARD
BEGIN:DAYLIGHT
TZOFFSETFROM:-0500
TZOFFSETTO:-0400
TZNAME:EDT
DTSTART:20220313T070000
END:DAYLIGHT
BEGIN:STANDARD
TZOFFSETFROM:-0400
TZOFFSETTO:-0500
TZNAME:EST
DTSTART:20221106T060000
END:STANDARD
BEGIN:DAYLIGHT
TZOFFSETFROM:-0500
TZOFFSETTO:-0400
TZNAME:EDT
DTSTART:20230312T070000
END:DAYLIGHT
BEGIN:STANDARD
TZOFFSETFROM:-0400
TZOFFSETTO:-0500
TZNAME:EST
DTSTART:20231105T060000
END:STANDARD
END:VTIMEZONE
BEGIN:VEVENT
DTSTART;TZID=America/New_York:20221120T150000
DTEND;TZID=America/New_York:20221120T180000
DTSTAMP:20260423T043143
CREATED:20221011T164539Z
LAST-MODIFIED:20221016T005435Z
UID:32114-1668956400-1668967200@notoriousjazz.com
SUMMARY:SARAH VAUGHAN INTERNATIONAL JAZZ VOCAL COMPETITION
DESCRIPTION:The divine Sarah Vaughan—Newark’s greatest musical gift to the world—got her start as the winner of a talent contest. NJPAC honors her legacy every year with The Sarah Vaughan International Jazz Vocal Competition. Now entering its second decade\, “The SASSY Awards” is the only international jazz vocal competition of its kind\, open to all genders. At this public performance\, you’ll witness the next generation of powerhouse jazz vocalists ready to take their rightful place in the global spotlight. This is the 11th year. \nThe 5 Finalists: Ekep Nkwelle | Kristin Lash | Allan Harris | Lucía Gutiérrez Rebolloso | Lucy Yeghiazaryan  \nThe 5 Judges: Regina Carter | Christian McBride | T.S. Monk | Pat Prescott | Maria Schneider
URL:https://notoriousjazz.com/event/sarah-vaughan-international-jazz-vocal-competition
LOCATION:New Jersey Performing Arts Center\, 1 Center Street\, Newark\, NJ\, 07102\, United States
CATEGORIES:Event
ATTACH;FMTTYPE=image/jpeg:https://notoriousjazz.com/wp-content/uploads/2022/10/SARAH-VAUGHAN-INTL-JAZZ-VOCAL-COMP.jpeg
END:VEVENT
END:VCALENDAR