BEGIN:VCALENDAR
VERSION:2.0
PRODID:-//Notorious Jazz - ECPv6.15.17//NONSGML v1.0//EN
CALSCALE:GREGORIAN
METHOD:PUBLISH
X-ORIGINAL-URL:https://notoriousjazz.com
X-WR-CALDESC:Events for Notorious Jazz
REFRESH-INTERVAL;VALUE=DURATION:PT1H
X-Robots-Tag:noindex
X-PUBLISHED-TTL:PT1H
BEGIN:VTIMEZONE
TZID:America/New_York
BEGIN:DAYLIGHT
TZOFFSETFROM:-0500
TZOFFSETTO:-0400
TZNAME:EDT
DTSTART:20210314T070000
END:DAYLIGHT
BEGIN:STANDARD
TZOFFSETFROM:-0400
TZOFFSETTO:-0500
TZNAME:EST
DTSTART:20211107T060000
END:STANDARD
BEGIN:DAYLIGHT
TZOFFSETFROM:-0500
TZOFFSETTO:-0400
TZNAME:EDT
DTSTART:20220313T070000
END:DAYLIGHT
BEGIN:STANDARD
TZOFFSETFROM:-0400
TZOFFSETTO:-0500
TZNAME:EST
DTSTART:20221106T060000
END:STANDARD
BEGIN:DAYLIGHT
TZOFFSETFROM:-0500
TZOFFSETTO:-0400
TZNAME:EDT
DTSTART:20230312T070000
END:DAYLIGHT
BEGIN:STANDARD
TZOFFSETFROM:-0400
TZOFFSETTO:-0500
TZNAME:EST
DTSTART:20231105T060000
END:STANDARD
END:VTIMEZONE
BEGIN:VEVENT
DTSTART;TZID=America/New_York:20221129T190000
DTEND;TZID=America/New_York:20221129T210000
DTSTAMP:20260422T235612
CREATED:20221115T014131Z
LAST-MODIFIED:20221115T160715Z
UID:32663-1669748400-1669755600@notoriousjazz.com
SUMMARY:BILLY HIGGINS BIRTHDAY CELEBRATION & CONCERT
DESCRIPTION:A community gathering presented by Performers Alley\, hosted by Robert J. Carmack. It’s a new jazz Series produced by Music Arts & World Stage Performance Gallery. Paying tribute to Billy Higgins\, the founder’s birthday concert and celebration of his legacy since 1989. An eclectic panel on stage during show friends and past peers that played or worked with him as an artist. musical guests include  Marvin “Smitty” Smith Sextet featuring saxophonists Ralph Moore & Dale Fielder. Also very special appearances by Jazz impresario\, Todd Barkin/Keystone Korner Baltimore\, Willie Jones III mentored by Higgins.  The show is Live Stream to the World. \nTickets are Available NOW exclusively at View stub.com  $15/$10(ONLINE ONLY) ticket online is On Demand capability/ Access code expire in two weeks\, One view only. We accept credit or debit. \nMedia: www.hipstersanctuary.com  More info @blues2jazzguy or pocketjazz@musician.com  call & leave info 951 560-2253 \n 
URL:https://notoriousjazz.com/event/billy-higgins-birthday-celebration-concert
LOCATION:World Stage Performance Gallery\, 4321 Degnan Boulevard\, Los Angeles\, CA\, 90008\, United States
CATEGORIES:Concert,Event
ATTACH;FMTTYPE=image/jpeg:https://notoriousjazz.com/wp-content/uploads/2022/11/BILLY-HIGGINS.jpg
END:VEVENT
END:VCALENDAR