BEGIN:VCALENDAR
VERSION:2.0
PRODID:-//Notorious Jazz - ECPv6.15.17//NONSGML v1.0//EN
CALSCALE:GREGORIAN
METHOD:PUBLISH
X-WR-CALNAME:Notorious Jazz
X-ORIGINAL-URL:https://notoriousjazz.com
X-WR-CALDESC:Events for Notorious Jazz
REFRESH-INTERVAL;VALUE=DURATION:PT1H
X-Robots-Tag:noindex
X-PUBLISHED-TTL:PT1H
BEGIN:VTIMEZONE
TZID:America/New_York
BEGIN:DAYLIGHT
TZOFFSETFROM:-0500
TZOFFSETTO:-0400
TZNAME:EDT
DTSTART:20230312T070000
END:DAYLIGHT
BEGIN:STANDARD
TZOFFSETFROM:-0400
TZOFFSETTO:-0500
TZNAME:EST
DTSTART:20231105T060000
END:STANDARD
BEGIN:DAYLIGHT
TZOFFSETFROM:-0500
TZOFFSETTO:-0400
TZNAME:EDT
DTSTART:20240310T070000
END:DAYLIGHT
BEGIN:STANDARD
TZOFFSETFROM:-0400
TZOFFSETTO:-0500
TZNAME:EST
DTSTART:20241103T060000
END:STANDARD
BEGIN:DAYLIGHT
TZOFFSETFROM:-0500
TZOFFSETTO:-0400
TZNAME:EDT
DTSTART:20250309T070000
END:DAYLIGHT
BEGIN:STANDARD
TZOFFSETFROM:-0400
TZOFFSETTO:-0500
TZNAME:EST
DTSTART:20251102T060000
END:STANDARD
END:VTIMEZONE
BEGIN:VEVENT
DTSTART;TZID=America/New_York:20240301T180000
DTEND;TZID=America/New_York:20240301T210000
DTSTAMP:20260421T210515
CREATED:20240217T165344Z
LAST-MODIFIED:20240217T165344Z
UID:39365-1709316000-1709326800@notoriousjazz.com
SUMMARY:SWEET LU OLUTOSIN
DESCRIPTION:One of the most promising male jazz singers around…  Vocalist\, lyricist\, and composer Sweet Lu Olutosin has embraced\, embodied\, internalized this philosophy unflinchingly on his journey to becoming a top 20 international Jazz recording artist. Whether it’s headlining at the Kennedy Center in Washington\, D.C or\, playing the Teatro Rendanoin Consenza\, Italy \, Lu’s performances are life changing.   Sweet Lu believes it is his duty\, his mission to share his God given talent with the world; to use the idioms of jazz\, blues\, and gospel to share the spiritual healing and love this music\, his music\, imbues.  He feels ‘mission accomplished’ after many of his shows when members of the audience come to him and say things like… your music warmed my heart. \nThe Band: Quintet: Louis Heriveaux – Piano\, Ramon Pooser – Bass\, Charles Marvray – Drums\, Derrick James – Sax\, Lu Olutosin – Vocal \nDoors open at 5:30 PM. Seating is limited.  \nThe availability of tickets at the door are based upon advanced ticket and table sales. Season Ticket holders are guaranteed seating.
URL:https://notoriousjazz.com/event/sweet-lu-olutosin
LOCATION:The Commons\, 125 Ellis Street NE\, Atlanta\, GA\, 30303\, United States
CATEGORIES:Event
ATTACH;FMTTYPE=image/jpeg:https://notoriousjazz.com/wp-content/uploads/2024/02/SWEET-LU-OLUTOSIN.jpg
END:VEVENT
END:VCALENDAR