BEGIN:VCALENDAR
VERSION:2.0
PRODID:-//Notorious Jazz - ECPv6.15.17//NONSGML v1.0//EN
CALSCALE:GREGORIAN
METHOD:PUBLISH
X-WR-CALNAME:Notorious Jazz
X-ORIGINAL-URL:https://notoriousjazz.com
X-WR-CALDESC:Events for Notorious Jazz
REFRESH-INTERVAL;VALUE=DURATION:PT1H
X-Robots-Tag:noindex
X-PUBLISHED-TTL:PT1H
BEGIN:VTIMEZONE
TZID:America/New_York
BEGIN:DAYLIGHT
TZOFFSETFROM:-0500
TZOFFSETTO:-0400
TZNAME:EDT
DTSTART:20240310T070000
END:DAYLIGHT
BEGIN:STANDARD
TZOFFSETFROM:-0400
TZOFFSETTO:-0500
TZNAME:EST
DTSTART:20241103T060000
END:STANDARD
BEGIN:DAYLIGHT
TZOFFSETFROM:-0500
TZOFFSETTO:-0400
TZNAME:EDT
DTSTART:20250309T070000
END:DAYLIGHT
BEGIN:STANDARD
TZOFFSETFROM:-0400
TZOFFSETTO:-0500
TZNAME:EST
DTSTART:20251102T060000
END:STANDARD
BEGIN:DAYLIGHT
TZOFFSETFROM:-0500
TZOFFSETTO:-0400
TZNAME:EDT
DTSTART:20260308T070000
END:DAYLIGHT
BEGIN:STANDARD
TZOFFSETFROM:-0400
TZOFFSETTO:-0500
TZNAME:EST
DTSTART:20261101T060000
END:STANDARD
END:VTIMEZONE
BEGIN:VEVENT
DTSTART;TZID=America/New_York:20250817T150000
DTEND;TZID=America/New_York:20250817T230000
DTSTAMP:20260420T143930
CREATED:20250810T132301Z
LAST-MODIFIED:20250810T132940Z
UID:46869-1755442800-1755471600@notoriousjazz.com
SUMMARY:THE PURPLE AFFAIR
DESCRIPTION:The james M. Dixon Foundation presents The Purple Affair starring keith David\, Maria Howell and Noel Friedline for an afternoon  into a night of fine dining\, jazz and celebration in honor of incredible individuals and organizations to raise funding and awareness for Alzheimer’s Disease and related dementias. \nThe Honorees: Dr. Robert Kaufman\, Sonder Health\, Jacquelyn Thornton\, Dr. Glenna Brewster\, Jamila Jones\, Bob Baldwin and Barbara Clayton Hudson. \nThe Honorary Chair is Janean Courtney Armstrong\, the emcee is WCLK Morning host Morris Baxter\, and The After Affair features keyboardist Bob Baldwin. \nGeneral Tickets: $150.00 | After Affair: $50.00 \nPatron Tickets: International Caregiver $350.00 | Daddy’s Closet: $500.00 | Food Insecurity: $750.00
URL:https://notoriousjazz.com/event/the-purple-affair
LOCATION:Georgia Aquarium\, 225 Baker Street NW\, Atlanta\, GA\, 30313\, United States
CATEGORIES:Event
ATTACH;FMTTYPE=image/png:https://notoriousjazz.com/wp-content/uploads/2025/08/NOEL-FRIEDLINE-MARIA-HOWELL-KEITH-DAVID-@-GA-AQUARIUM.png
END:VEVENT
END:VCALENDAR