BEGIN:VCALENDAR
VERSION:2.0
PRODID:-//Notorious Jazz - ECPv6.15.17//NONSGML v1.0//EN
CALSCALE:GREGORIAN
METHOD:PUBLISH
X-ORIGINAL-URL:https://notoriousjazz.com
X-WR-CALDESC:Events for Notorious Jazz
REFRESH-INTERVAL;VALUE=DURATION:PT1H
X-Robots-Tag:noindex
X-PUBLISHED-TTL:PT1H
BEGIN:VTIMEZONE
TZID:America/New_York
BEGIN:DAYLIGHT
TZOFFSETFROM:-0500
TZOFFSETTO:-0400
TZNAME:EDT
DTSTART:20240310T070000
END:DAYLIGHT
BEGIN:STANDARD
TZOFFSETFROM:-0400
TZOFFSETTO:-0500
TZNAME:EST
DTSTART:20241103T060000
END:STANDARD
BEGIN:DAYLIGHT
TZOFFSETFROM:-0500
TZOFFSETTO:-0400
TZNAME:EDT
DTSTART:20250309T070000
END:DAYLIGHT
BEGIN:STANDARD
TZOFFSETFROM:-0400
TZOFFSETTO:-0500
TZNAME:EST
DTSTART:20251102T060000
END:STANDARD
BEGIN:DAYLIGHT
TZOFFSETFROM:-0500
TZOFFSETTO:-0400
TZNAME:EDT
DTSTART:20260308T070000
END:DAYLIGHT
BEGIN:STANDARD
TZOFFSETFROM:-0400
TZOFFSETTO:-0500
TZNAME:EST
DTSTART:20261101T060000
END:STANDARD
END:VTIMEZONE
BEGIN:VEVENT
DTSTART;TZID=America/New_York:20250905T190000
DTEND;TZID=America/New_York:20250905T210000
DTSTAMP:20260420T125251
CREATED:20250830T140520Z
LAST-MODIFIED:20250830T140520Z
UID:47075-1757098800-1757106000@notoriousjazz.com
SUMMARY:KEVIN BALES
DESCRIPTION:By some measures\, Kevin Bales was a latecomer to jazz\, already 17 when he encountered the sounds and structures and became captivated by the freedom and corresponding challenges of the music. But if late to the party\, he wasted no time in immersing himself in the celebration\, declaring total commitment to what would be his life’s work and backing his announcement by resigning his job and designated career in computer programming. Kevin could commit to jazz with a reasonable degree of expectation. He was already an accomplished pianist\, with classical chops refined since the age of 10. So accomplished he was invited to audition for the Atlanta Symphony Orchestra\, then under the direction of its most storied conductor Robert Shaw\, at age 16. \nHe has performed and/or recorded with Wynton Marsalis\, Louie Bellson\, Eddie Daniels\, James Moody\, Ben Tucker\, Ira Sullivan\, Marcus Printup\, Sam Rivers\, Nat Adderley\, Bunky Green\, Nathen Page and Jack Petersen. He counts among his mentors bassist Ben Tucker\, multi-instrumentalist Ira Sullivan. He has recordings on Blue Note/Capital records. Ten years touring and recording with vocal iconoclast Rene Marie culminated in a Grammy Nominated album. \nCover: $25.00
URL:https://notoriousjazz.com/event/kevin-bales
LOCATION:The Commons\, 125 Ellis Street NE\, Atlanta\, GA\, 30303\, United States
CATEGORIES:Concert,Event
ATTACH;FMTTYPE=image/png:https://notoriousjazz.com/wp-content/uploads/2025/08/KEVIN-BALES-@-THE-COMMONS.png
END:VEVENT
END:VCALENDAR