BEGIN:VCALENDAR
VERSION:2.0
PRODID:-//Notorious Jazz - ECPv6.15.17//NONSGML v1.0//EN
CALSCALE:GREGORIAN
METHOD:PUBLISH
X-ORIGINAL-URL:https://notoriousjazz.com
X-WR-CALDESC:Events for Notorious Jazz
REFRESH-INTERVAL;VALUE=DURATION:PT1H
X-Robots-Tag:noindex
X-PUBLISHED-TTL:PT1H
BEGIN:VTIMEZONE
TZID:America/New_York
BEGIN:DAYLIGHT
TZOFFSETFROM:-0500
TZOFFSETTO:-0400
TZNAME:EDT
DTSTART:20210314T070000
END:DAYLIGHT
BEGIN:STANDARD
TZOFFSETFROM:-0400
TZOFFSETTO:-0500
TZNAME:EST
DTSTART:20211107T060000
END:STANDARD
BEGIN:DAYLIGHT
TZOFFSETFROM:-0500
TZOFFSETTO:-0400
TZNAME:EDT
DTSTART:20220313T070000
END:DAYLIGHT
BEGIN:STANDARD
TZOFFSETFROM:-0400
TZOFFSETTO:-0500
TZNAME:EST
DTSTART:20221106T060000
END:STANDARD
BEGIN:DAYLIGHT
TZOFFSETFROM:-0500
TZOFFSETTO:-0400
TZNAME:EDT
DTSTART:20230312T070000
END:DAYLIGHT
BEGIN:STANDARD
TZOFFSETFROM:-0400
TZOFFSETTO:-0500
TZNAME:EST
DTSTART:20231105T060000
END:STANDARD
END:VTIMEZONE
BEGIN:VEVENT
DTSTART;VALUE=DATE:20220910
DTEND;VALUE=DATE:20220912
DTSTAMP:20260424T141827
CREATED:20220706T203454Z
LAST-MODIFIED:20220706T203454Z
UID:30936-1662796800-1662868799@notoriousjazz.com
SUMMARY:MONTCLAIR JAZZ FESTIVAL
DESCRIPTION:DOWNTOWN JAMBOREE \nHours: 1:00 pm~9:00 pm \n+ DJ Logic After Party @ The Wellmont | 9:00 pm~12:00 am \n~ No Tickets Required | Suggested Donation: $10 \n~ Beach and Lawn Chairs: Welcomed \n~ Pop-Up Tents: Prohibited
URL:https://notoriousjazz.com/event/montclair-jazz-festival-4
LOCATION:Montclair Jazz Festival\, Lackawanna Plaza\, Montclair\, NJ\, United States
CATEGORIES:Festival
ATTACH;FMTTYPE=image/png:https://notoriousjazz.com/wp-content/uploads/2022/07/JAMBOREE.png
END:VEVENT
BEGIN:VEVENT
DTSTART;VALUE=DATE:20220916
DTEND;VALUE=DATE:20220920
DTSTAMP:20260424T141827
CREATED:20220819T170151Z
LAST-MODIFIED:20220819T171613Z
UID:31371-1663315200-1663559999@notoriousjazz.com
SUMMARY:PITTSBURGH INTERNATIONAL JAZZ FESTIVAL
DESCRIPTION:Get in on the #PittsburghJazzFest Great Giveaway. We’ve got you covered with VIP tix for Sept 16-18 PLUS hotel room for Friday and Saturday nights. To enter go to bit.ly/3Pf5KTm TRANSPORTATION NOT INCLUDED. While you’re visiting pittsburghjazzfest.org\, sign up for our mailing list\, so you’ll be the first to know what’s happening\, including our special contests and events! \nLocation: Highmark Stadium \nTwo~Day Passes: $85 ~ $180 per person
URL:https://notoriousjazz.com/event/pittsburgh-international-jazz-festival
LOCATION:Pittsburgh International Jazz Festival\, 510 W Station Square Drive\, Pittsburgh\, PA\, 15219\, United States
CATEGORIES:Festival
ATTACH;FMTTYPE=image/jpeg:https://notoriousjazz.com/wp-content/uploads/2022/08/PTTSBURGH-INTL-JAZZ-FESTIVAL.jpg
END:VEVENT
BEGIN:VEVENT
DTSTART;TZID=America/New_York:20220917T150000
DTEND;TZID=America/New_York:20220917T190000
DTSTAMP:20260424T141827
CREATED:20220628T034418Z
LAST-MODIFIED:20220629T132049Z
UID:30687-1663426800-1663441200@notoriousjazz.com
SUMMARY:ATLANTIC CITY JAZZ FESTIVAL
DESCRIPTION:Smooth Jazz Festival featuring Brian Culbertson ~ Piano \nWith: \nNajee ~ Saxophone \nJazmin Ghent ~ Saxophone \nAlthea Rene ~ Flute \nJeff Bradshaw ~ Trombone
URL:https://notoriousjazz.com/event/brian-culbertson
LOCATION:Atlantic City Jazz Festival\, 500 Boardwalk\, Ovation Hall\, Atlantic City\, NJ\, 08401\, United States
CATEGORIES:Festival
ATTACH;FMTTYPE=image/jpeg:https://notoriousjazz.com/wp-content/uploads/2022/06/BRIAN-CULBERTSON.jpg
END:VEVENT
END:VCALENDAR