BEGIN:VCALENDAR
VERSION:2.0
PRODID:-//Notorious Jazz - ECPv6.15.17//NONSGML v1.0//EN
CALSCALE:GREGORIAN
METHOD:PUBLISH
X-ORIGINAL-URL:https://notoriousjazz.com
X-WR-CALDESC:Events for Notorious Jazz
REFRESH-INTERVAL;VALUE=DURATION:PT1H
X-Robots-Tag:noindex
X-PUBLISHED-TTL:PT1H
BEGIN:VTIMEZONE
TZID:America/New_York
BEGIN:DAYLIGHT
TZOFFSETFROM:-0500
TZOFFSETTO:-0400
TZNAME:EDT
DTSTART:20220313T070000
END:DAYLIGHT
BEGIN:STANDARD
TZOFFSETFROM:-0400
TZOFFSETTO:-0500
TZNAME:EST
DTSTART:20221106T060000
END:STANDARD
BEGIN:DAYLIGHT
TZOFFSETFROM:-0500
TZOFFSETTO:-0400
TZNAME:EDT
DTSTART:20230312T070000
END:DAYLIGHT
BEGIN:STANDARD
TZOFFSETFROM:-0400
TZOFFSETTO:-0500
TZNAME:EST
DTSTART:20231105T060000
END:STANDARD
BEGIN:DAYLIGHT
TZOFFSETFROM:-0500
TZOFFSETTO:-0400
TZNAME:EDT
DTSTART:20240310T070000
END:DAYLIGHT
BEGIN:STANDARD
TZOFFSETFROM:-0400
TZOFFSETTO:-0500
TZNAME:EST
DTSTART:20241103T060000
END:STANDARD
END:VTIMEZONE
BEGIN:VEVENT
DTSTART;TZID=America/New_York:20230419T200000
DTEND;TZID=America/New_York:20230420T020000
DTSTAMP:20260424T062747
CREATED:20230410T160159Z
LAST-MODIFIED:20230410T160159Z
UID:34919-1681934400-1681956000@notoriousjazz.com
SUMMARY:HARLEM JAZZ CLUB REVIVAL FESTIVAL
DESCRIPTION:THE HARLEM JAZZ SESSION W/ PETER BRAININ & FRIENDS | Room 623\, 271 W 119th Street | 8:00pm ~ 11:00pm \n\n\nTHE GREATEST MASTER’S JAM OF THE CENTURY!! | NEW AMSTERDAM MUSICAL ASSN\, 107 W 130th Street | 8:00pm ~ 2:00am
URL:https://notoriousjazz.com/event/harlem-jazz-club-revival-festival-6
LOCATION:FL
CATEGORIES:Club,Festival
ATTACH;FMTTYPE=image/jpeg:https://notoriousjazz.com/wp-content/uploads/2023/04/HARLEM-JAZZ-CLUB-REVIVAL-FESTIVAL.jpg
END:VEVENT
END:VCALENDAR