BEGIN:VCALENDAR
VERSION:2.0
PRODID:-//Notorious Jazz - ECPv6.15.17//NONSGML v1.0//EN
CALSCALE:GREGORIAN
METHOD:PUBLISH
X-WR-CALNAME:Notorious Jazz
X-ORIGINAL-URL:https://notoriousjazz.com
X-WR-CALDESC:Events for Notorious Jazz
REFRESH-INTERVAL;VALUE=DURATION:PT1H
X-Robots-Tag:noindex
X-PUBLISHED-TTL:PT1H
BEGIN:VTIMEZONE
TZID:America/New_York
BEGIN:DAYLIGHT
TZOFFSETFROM:-0500
TZOFFSETTO:-0400
TZNAME:EDT
DTSTART:20220313T070000
END:DAYLIGHT
BEGIN:STANDARD
TZOFFSETFROM:-0400
TZOFFSETTO:-0500
TZNAME:EST
DTSTART:20221106T060000
END:STANDARD
BEGIN:DAYLIGHT
TZOFFSETFROM:-0500
TZOFFSETTO:-0400
TZNAME:EDT
DTSTART:20230312T070000
END:DAYLIGHT
BEGIN:STANDARD
TZOFFSETFROM:-0400
TZOFFSETTO:-0500
TZNAME:EST
DTSTART:20231105T060000
END:STANDARD
BEGIN:DAYLIGHT
TZOFFSETFROM:-0500
TZOFFSETTO:-0400
TZNAME:EDT
DTSTART:20240310T070000
END:DAYLIGHT
BEGIN:STANDARD
TZOFFSETFROM:-0400
TZOFFSETTO:-0500
TZNAME:EST
DTSTART:20241103T060000
END:STANDARD
END:VTIMEZONE
BEGIN:VEVENT
DTSTART;TZID=America/New_York:20230420T140000
DTEND;TZID=America/New_York:20230421T010000
DTSTAMP:20260424T062527
CREATED:20230410T161224Z
LAST-MODIFIED:20230410T161224Z
UID:34921-1681999200-1682038800@notoriousjazz.com
SUMMARY:HARLEM JAZZ CLUB REVIVAL FESTIVAL
DESCRIPTION:JFA PRESENTS: GERRY EASTMAN | 58 West 129th Street\, G | 2:00pm ~ 3:00pm \n\n\nANNETTE ST. JOHN QUARTET | THE UNDERGROUND (JAZZ)\, 246 Malcolm X Boulevard | 5:00pm ~ 11:00pm \n\n\n\n\n\n\nTHE PHIL YOUNG EXPERIENCE! \n\n\n\n\nPATRICK’S PLACE (BLUES) | 2835 Frederick Douglass Boulevard | 7:00pm ~ 11:00pm \n\n\nKINDA BLUE TRUMPET SUMMIT | CLUB HARLEM (JAZZ)\, 104 Malcolm X @ Harlem Heritage | 7:00pm ~ 11:00pm \n\n\nLOUIS ATLAS AND THE ALL WORLD BAND | THE PORCH (REGGAE)\, 750A St Nicholas Avenue | 8:00pm ~ 11:00pm \n\n\n\n\n\n\nJOHNNY MAMBO & FRIENDS | BIRD IN HAND (SALSA)\, 3569 Broadway | 9:00pm ~ 1:00am
URL:https://notoriousjazz.com/event/harlem-jazz-club-revival-festival-7
LOCATION:FL
CATEGORIES:Club,Festival
ATTACH;FMTTYPE=image/jpeg:https://notoriousjazz.com/wp-content/uploads/2023/04/HARLEM-JAZZ-CLUB-REVIVAL-FESTIVAL.jpg
END:VEVENT
END:VCALENDAR