BEGIN:VCALENDAR
VERSION:2.0
PRODID:-//Notorious Jazz - ECPv6.15.17//NONSGML v1.0//EN
CALSCALE:GREGORIAN
METHOD:PUBLISH
X-WR-CALNAME:Notorious Jazz
X-ORIGINAL-URL:https://notoriousjazz.com
X-WR-CALDESC:Events for Notorious Jazz
REFRESH-INTERVAL;VALUE=DURATION:PT1H
X-Robots-Tag:noindex
X-PUBLISHED-TTL:PT1H
BEGIN:VTIMEZONE
TZID:America/New_York
BEGIN:DAYLIGHT
TZOFFSETFROM:-0500
TZOFFSETTO:-0400
TZNAME:EDT
DTSTART:20230312T070000
END:DAYLIGHT
BEGIN:STANDARD
TZOFFSETFROM:-0400
TZOFFSETTO:-0500
TZNAME:EST
DTSTART:20231105T060000
END:STANDARD
BEGIN:DAYLIGHT
TZOFFSETFROM:-0500
TZOFFSETTO:-0400
TZNAME:EDT
DTSTART:20240310T070000
END:DAYLIGHT
BEGIN:STANDARD
TZOFFSETFROM:-0400
TZOFFSETTO:-0500
TZNAME:EST
DTSTART:20241103T060000
END:STANDARD
BEGIN:DAYLIGHT
TZOFFSETFROM:-0500
TZOFFSETTO:-0400
TZNAME:EDT
DTSTART:20250309T070000
END:DAYLIGHT
BEGIN:STANDARD
TZOFFSETFROM:-0400
TZOFFSETTO:-0500
TZNAME:EST
DTSTART:20251102T060000
END:STANDARD
END:VTIMEZONE
BEGIN:VEVENT
DTSTART;TZID=America/New_York:20240120T173000
DTEND;TZID=America/New_York:20240120T220000
DTSTAMP:20260423T135117
CREATED:20240119T005708Z
LAST-MODIFIED:20240119T005708Z
UID:38811-1705771800-1705788000@notoriousjazz.com
SUMMARY:LISA FISCHER & GRAND BATON | BRANFORD MARSALIS
DESCRIPTION:Lisa Fischer set out to take center stage with her own award-winning style after four decades of featured background singing with icons like The Rolling Stones\, Chaka Khan\, Luther Vandross\, Tina Turner\, and Nine Inch Nails.  The 2013 Best Documentary Oscar winning film\, “Twenty Feet from Stardom\,” altered the course of Fischer’s musical journey by telling her story through clips of her legendary duets with Mick Jagger and Sting. The film left audiences eager to hear more\, leading to her organic fusion of Caribbean psychedelic soul and jazzy progressive rock which has been exciting fans worldwide! Lisa Fischer will take the stage with Grand Baton\, an Afro-Caribbean progressive rock and jazz fusion band. Fischer and Grand Baton have performed at several jazz festivals including The Monterey Jazz Festival\, The Newport Jazz Festival\, and The New Orleans Jazz & Heritage Festival. \nAfter four decades in the international spotlight\, the achievements of saxophonist Branford Marsalis continue to grow. From his initial recognition as a young jazz lion\, he has expanded his vision as an instrumentalist\, composer\, bandleader\, and educator\, crossing stylistic boundaries while maintaining an unwavering creative integrity. In the process\, he has become a multi award-winning artist with three Grammys\, a citation by the National Endowment for the Arts as a Jazz Master\, and an avatar of contemporary artistic excellence.
URL:https://notoriousjazz.com/event/lisa-fischer-grand-baton-branford-marsalis
LOCATION:Champion Porsche Stage\, 222 N. Pompano Beach Boulevard\, Pompano Beach\, FL\, 33060\, United States
CATEGORIES:Festival
ATTACH;FMTTYPE=image/png:https://notoriousjazz.com/wp-content/uploads/2024/01/LISA-FISCHER-BRANFORD-MARSALIS.png
END:VEVENT
END:VCALENDAR