BEGIN:VCALENDAR
VERSION:2.0
PRODID:-//Notorious Jazz - ECPv6.15.17//NONSGML v1.0//EN
CALSCALE:GREGORIAN
METHOD:PUBLISH
X-WR-CALNAME:Notorious Jazz
X-ORIGINAL-URL:https://notoriousjazz.com
X-WR-CALDESC:Events for Notorious Jazz
REFRESH-INTERVAL;VALUE=DURATION:PT1H
X-Robots-Tag:noindex
X-PUBLISHED-TTL:PT1H
BEGIN:VTIMEZONE
TZID:America/New_York
BEGIN:DAYLIGHT
TZOFFSETFROM:-0500
TZOFFSETTO:-0400
TZNAME:EDT
DTSTART:20230312T070000
END:DAYLIGHT
BEGIN:STANDARD
TZOFFSETFROM:-0400
TZOFFSETTO:-0500
TZNAME:EST
DTSTART:20231105T060000
END:STANDARD
BEGIN:DAYLIGHT
TZOFFSETFROM:-0500
TZOFFSETTO:-0400
TZNAME:EDT
DTSTART:20240310T070000
END:DAYLIGHT
BEGIN:STANDARD
TZOFFSETFROM:-0400
TZOFFSETTO:-0500
TZNAME:EST
DTSTART:20241103T060000
END:STANDARD
BEGIN:DAYLIGHT
TZOFFSETFROM:-0500
TZOFFSETTO:-0400
TZNAME:EDT
DTSTART:20250309T070000
END:DAYLIGHT
BEGIN:STANDARD
TZOFFSETFROM:-0400
TZOFFSETTO:-0500
TZNAME:EST
DTSTART:20251102T060000
END:STANDARD
END:VTIMEZONE
BEGIN:VEVENT
DTSTART;TZID=America/New_York:20241006T160000
DTEND;TZID=America/New_York:20241006T173000
DTSTAMP:20260422T004637
CREATED:20240929T225037Z
LAST-MODIFIED:20240929T225037Z
UID:42764-1728230400-1728235800@notoriousjazz.com
SUMMARY:JANE IRA BLOOM
DESCRIPTION:Soaring\, poetic\, quick silver\, spontaneous and instantly identifiable are words used to describe the soprano sound of saxophonist Jane Ira Bloom. She has been developing her singular voice on the soprano saxophone for over 45 years. \nShe is a pioneer in the use of live electronics and movement in jazz. Winner of the Guggenheim Fellowship for music composition\, the Downbeat International Critics Poll & Jazz Journalists Association Award for soprano saxophone\, the Mary Lou Williams Award for lifetime service to jazz and the Charlie Parker Fellowship for jazz innovation. \nShe is the first musician ever commissioned by the NASA Art Program and has an asteroid named in her honor by the International Astronomical Union (asteroid: 6083janeirabloom). Her critically acclaimed Cd “Early Americans” received a Grammy Award for Best Surround Sound Album and made numerous year end best lists. \nHer duo release with bassist Mark Helias “Some Kind of Tomorrow” was featured on NPR’s Fresh Air and received 4 stars from Downbeat Magazine. Her critically acclaimed duo projects “Tues Days” with drummer Allison Miller and “See Our Way” with Helias and trio project with Helias and Bobby Previte “2.3.23” all appear on Bandcamp. Picturing the Invisible her latest project featuring duets w/ Allison Miller\, Miya Masaoka\, & Mark Helias was nominated for a Grammy for Best Immersive Sound Album. Bloom looks forward to the release of her most recent duet and trio recording with Bobby Previte\, Mark Helias & Dominic Fallacaro on her Outline label. \nMark Helias bass\, Dominic Fallacaro piano
URL:https://notoriousjazz.com/event/jane-ira-bloom
LOCATION:Soapbox Gallery\, 636 Dean Street\, Brooklyn\, NY\, 11238\, United States
CATEGORIES:Gallery
ATTACH;FMTTYPE=image/png:https://notoriousjazz.com/wp-content/uploads/2024/09/JANE-IRA-BLOOM.png
END:VEVENT
BEGIN:VEVENT
DTSTART;TZID=America/New_York:20241011T200000
DTEND;TZID=America/New_York:20241011T220000
DTSTAMP:20260422T004637
CREATED:20241004T000758Z
LAST-MODIFIED:20241004T000758Z
UID:42837-1728676800-1728684000@notoriousjazz.com
SUMMARY:BRAZILIAN VOICES
DESCRIPTION:Brazilian Voices\, a non-profit organization\, is a women’s vocal ensemble that performs at cultural community and philanthropic events. Brazilian Voices aspires to incorporate the best of Brazilian culture throughout the world. \nThe group evolved out of a vocal technique workshop organized by Beatriz Malnic and Loren Oliveira in 2001. Since then\, these two musical directors have brought together a cast of devoted women\, who volunteer their voices and time promoting and preserving the rich multicultural Brazilian heritage fostering multicultural exchange\, music appreciation\, and education. \nTickets: \nStudent: Free | Jazz Gallery Member: Free | Member: $25.00 | General Admission: $35.00
URL:https://notoriousjazz.com/event/brazilian-voices
LOCATION:WDNA Jazz Gallery\, 2921 Coral Way\, Miami\, FL\, 33145\, United States
CATEGORIES:Gallery,Radio Station
ATTACH;FMTTYPE=image/png:https://notoriousjazz.com/wp-content/uploads/2024/10/BRAZILIAN-VOICES.png
END:VEVENT
END:VCALENDAR