BEGIN:VCALENDAR
VERSION:2.0
PRODID:-//Notorious Jazz - ECPv6.15.17//NONSGML v1.0//EN
CALSCALE:GREGORIAN
METHOD:PUBLISH
X-ORIGINAL-URL:https://notoriousjazz.com
X-WR-CALDESC:Events for Notorious Jazz
REFRESH-INTERVAL;VALUE=DURATION:PT1H
X-Robots-Tag:noindex
X-PUBLISHED-TTL:PT1H
BEGIN:VTIMEZONE
TZID:America/New_York
BEGIN:DAYLIGHT
TZOFFSETFROM:-0500
TZOFFSETTO:-0400
TZNAME:EDT
DTSTART:20230312T070000
END:DAYLIGHT
BEGIN:STANDARD
TZOFFSETFROM:-0400
TZOFFSETTO:-0500
TZNAME:EST
DTSTART:20231105T060000
END:STANDARD
BEGIN:DAYLIGHT
TZOFFSETFROM:-0500
TZOFFSETTO:-0400
TZNAME:EDT
DTSTART:20240310T070000
END:DAYLIGHT
BEGIN:STANDARD
TZOFFSETFROM:-0400
TZOFFSETTO:-0500
TZNAME:EST
DTSTART:20241103T060000
END:STANDARD
BEGIN:DAYLIGHT
TZOFFSETFROM:-0500
TZOFFSETTO:-0400
TZNAME:EDT
DTSTART:20250309T070000
END:DAYLIGHT
BEGIN:STANDARD
TZOFFSETFROM:-0400
TZOFFSETTO:-0500
TZNAME:EST
DTSTART:20251102T060000
END:STANDARD
END:VTIMEZONE
BEGIN:VEVENT
DTSTART;TZID=America/New_York:20240216T180000
DTEND;TZID=America/New_York:20240216T220000
DTSTAMP:20260421T144839
CREATED:20240210T232834Z
LAST-MODIFIED:20240210T232947Z
UID:39294-1708106400-1708120800@notoriousjazz.com
SUMMARY:KATHLEEN BERTRAND
DESCRIPTION:Multifaceted recording artist and writer Kathleen Bertrand is a native Atlantan and Spelman College graduate\, whose performances have ranged from two Olympic Games to performances before two presidents\, as well as appearances at jazz festivals world-wide. Bertrand toured and recorded as vocalist with jazz vibraphonist Roy Ayers. \nThis three-octave vocal artist has been an invited performer at the Montreux Jazz Festival in Switzerland on three occasions and has made multiple appearances at the Atlanta Jazz Festival\, including that of headliner in 2012\, as part of the Nina Simone Tribute Ensemble in 2015\, and most recently as 2017 producer of  “Celebrating Sarah\, Honoring the Music of SarahVaughan” featuring Bertrand and 6 other vocalists. She has opened for many of America’s finest jazz artists\, including Ray Charles\, Will Downing\, Rachelle Ferrell\, Najee\, Roy Ayers\, and Kenny G. Her fan base includes radio and internet listeners across the USA as well as in England\, Japan\, Finland\, Switzerland\, Germany\, Norway\, New Zealand\, France\, the Netherlands\, and Brazil among others. \nAs a songwriter\, she penned the national theme song for the 100 Black Men of America – “What They See is What They’ll Be” – as well as several songs on her CDs All of Me\, No Regrets\, Reasons for the Season\, New Standards\, and Katharsis\,which was released in June 2011 and is still receiving nationwide and world-wide airplay\, including 14 weeks on the UK Soul Chart top 30\, 6 weeks in the UK Soul Charts Top 10\, and 2 weeks at #1.  In November\, 2017\, her most recent CD\, It’s Time to Love\, was released\, and is already receiving international airplay. \nBertrand has received numerous honors for her jazzy vocal stylings and arts contributions including the Kuumba Award given by East Point/College Park\, GA Chapter of Delta Sigma Theta\, the inaugural Impact Award from Black Women In Jazz\, recognition by the United Negro College Fund as one of “Atlanta’s Legends\,” the “Contribution to the Arts” Award by the Pi Alpha Omega Chapter of Alpha Kappa Alpha Sorority\, Inc.\, the 2016 Georgia Highlight Award given by the Georgia Entertainment Gala\, the Civic Award for the Arts presented by the Southern Area of The Links\, Incorporated\, and recognition by Spelman College with its distinguished “Alumnae Achievement Award for the Arts & Entertainment.” In 2015\, she was voted Jazz Vocalist of the Year by Black Women in Jazz.
URL:https://notoriousjazz.com/event/kathleen-bertrand-2
LOCATION:High Museum Of Art\, 1280 Peachtree Street NE\, Atlanta\, GA\, 30309\, United States
CATEGORIES:Museum
ATTACH;FMTTYPE=image/jpeg:https://notoriousjazz.com/wp-content/uploads/2024/02/KATHLEEN-BERTRAND.jpg
END:VEVENT
END:VCALENDAR