BEGIN:VCALENDAR
VERSION:2.0
PRODID:-//Notorious Jazz - ECPv6.15.17//NONSGML v1.0//EN
CALSCALE:GREGORIAN
METHOD:PUBLISH
X-WR-CALNAME:Notorious Jazz
X-ORIGINAL-URL:https://notoriousjazz.com
X-WR-CALDESC:Events for Notorious Jazz
REFRESH-INTERVAL;VALUE=DURATION:PT1H
X-Robots-Tag:noindex
X-PUBLISHED-TTL:PT1H
BEGIN:VTIMEZONE
TZID:America/Los_Angeles
BEGIN:DAYLIGHT
TZOFFSETFROM:-0800
TZOFFSETTO:-0700
TZNAME:PDT
DTSTART:20240310T100000
END:DAYLIGHT
BEGIN:STANDARD
TZOFFSETFROM:-0700
TZOFFSETTO:-0800
TZNAME:PST
DTSTART:20241103T090000
END:STANDARD
BEGIN:DAYLIGHT
TZOFFSETFROM:-0800
TZOFFSETTO:-0700
TZNAME:PDT
DTSTART:20250309T100000
END:DAYLIGHT
BEGIN:STANDARD
TZOFFSETFROM:-0700
TZOFFSETTO:-0800
TZNAME:PST
DTSTART:20251102T090000
END:STANDARD
BEGIN:DAYLIGHT
TZOFFSETFROM:-0800
TZOFFSETTO:-0700
TZNAME:PDT
DTSTART:20260308T100000
END:DAYLIGHT
BEGIN:STANDARD
TZOFFSETFROM:-0700
TZOFFSETTO:-0800
TZNAME:PST
DTSTART:20261101T090000
END:STANDARD
END:VTIMEZONE
BEGIN:VEVENT
DTSTART;TZID=America/Los_Angeles:20250228T173000
DTEND;TZID=America/Los_Angeles:20250228T203000
DTSTAMP:20260420T195007
CREATED:20250217T003842Z
LAST-MODIFIED:20250217T003842Z
UID:44640-1740763800-1740774600@notoriousjazz.com
SUMMARY:EUGENIE JONES
DESCRIPTION:Award-winning singer\, songwriter Eugenie Jones for an unforgettable night of music at the Bainbridge Island Museum of Art as she shares music from her new album – Eugenie! \nPrepare to be immersed in jazz you can feel! Experience the unique groove of original soulful jazz\, unique arrangements of vintage jazz tunes you love\, and never-forgotten classic soul favorites from one of jazz’s most prolific female\, African American singer/songwriters in jazz today. \nThe Band: Nick Allison ~ piano\, Bob Antolin ~ guitar and sax\, Jonathan Green ~ bass and Ronnie Bishop ~ drums. \nTwo Shows ~ 5:30-7:00 PM | 7:30-9:00 PM \nTickets: $25.00 + $3.52 fee \n 
URL:https://notoriousjazz.com/event/eugenie-jones-14
LOCATION:Bainbridge Island Museum Of Art\, 550 Winslow Way E\, Bainbridge Island\, WA\, 98110\, United States
CATEGORIES:Museum
ATTACH;FMTTYPE=image/png:https://notoriousjazz.com/wp-content/uploads/2025/02/EUGENIE-JONES-@-BAINBRIDGE-MUSEUM.png
END:VEVENT
END:VCALENDAR