BEGIN:VCALENDAR
VERSION:2.0
PRODID:-//Notorious Jazz - ECPv6.15.17//NONSGML v1.0//EN
CALSCALE:GREGORIAN
METHOD:PUBLISH
X-WR-CALNAME:Notorious Jazz
X-ORIGINAL-URL:https://notoriousjazz.com
X-WR-CALDESC:Events for Notorious Jazz
REFRESH-INTERVAL;VALUE=DURATION:PT1H
X-Robots-Tag:noindex
X-PUBLISHED-TTL:PT1H
BEGIN:VTIMEZONE
TZID:America/New_York
BEGIN:DAYLIGHT
TZOFFSETFROM:-0500
TZOFFSETTO:-0400
TZNAME:EDT
DTSTART:20220313T070000
END:DAYLIGHT
BEGIN:STANDARD
TZOFFSETFROM:-0400
TZOFFSETTO:-0500
TZNAME:EST
DTSTART:20221106T060000
END:STANDARD
BEGIN:DAYLIGHT
TZOFFSETFROM:-0500
TZOFFSETTO:-0400
TZNAME:EDT
DTSTART:20230312T070000
END:DAYLIGHT
BEGIN:STANDARD
TZOFFSETFROM:-0400
TZOFFSETTO:-0500
TZNAME:EST
DTSTART:20231105T060000
END:STANDARD
BEGIN:DAYLIGHT
TZOFFSETFROM:-0500
TZOFFSETTO:-0400
TZNAME:EDT
DTSTART:20240310T070000
END:DAYLIGHT
BEGIN:STANDARD
TZOFFSETFROM:-0400
TZOFFSETTO:-0500
TZNAME:EST
DTSTART:20241103T060000
END:STANDARD
END:VTIMEZONE
BEGIN:VEVENT
DTSTART;TZID=America/New_York:20230819T190000
DTEND;TZID=America/New_York:20230819T203000
DTSTAMP:20260422T023455
CREATED:20230728T231939Z
LAST-MODIFIED:20230728T232223Z
UID:36378-1692471600-1692477000@notoriousjazz.com
SUMMARY:EUGENIE JONES
DESCRIPTION:Eugenie Jones is an award-winning singer/songwriter/producer based in the Seattle\, WA\, area with an international fan base. Her recordings and concerts with jazz icons Reggie Workman\, Bobby Sanabria\, Julian Priester\, Lonnie Plaxico\, and many others have earned the entertainer praise in every major jazz publication\, a #7 ranking on Jazz Week’s Top 50\, and a #30 spot on Jazz Weeks top one-hundred albums. Jones is also a 2023 recipient of the Jazz Journalists Association’s Jazz Hero award for her efforts intersecting jazz performance events with community service. \nRating her recording Black Lace Blue Tears 3.5 out of 4 stars\, DownBeat called the singer “impressive.” At the same time\, legendary Blue Note Records artist Joe Chambers describes Jones as “an excellent singer\, with a voice\, style\, and range that encompasses multiple idioms.” \nJones brings an authentic and electric presence to the stage\, packaged within a uniquely exquisite voice. Accompanying her performance is an a-list line-up of New York musicians\, including Lafayette Harris/p\, Lonnie Plaxico/b\, and Dwayne Broadnax. This concert will feature reimagined jazz classics\, soulful jazz originals\, and a taste of soul classics by Nina Simone\, Anita Baker\, James Brown & more!
URL:https://notoriousjazz.com/event/eugenie-jones-5
LOCATION:The National Jazz Museum In Harlem\, 58 West 129th Street\, Ground Floor 2203\, New York City\, NY\, 10027\, United States
CATEGORIES:Museum
ATTACH;FMTTYPE=image/jpeg:https://notoriousjazz.com/wp-content/uploads/2023/07/EUGENIE-JONES-1.jpg
END:VEVENT
END:VCALENDAR