BEGIN:VCALENDAR
VERSION:2.0
PRODID:-//Notorious Jazz - ECPv6.15.17//NONSGML v1.0//EN
CALSCALE:GREGORIAN
METHOD:PUBLISH
X-WR-CALNAME:Notorious Jazz
X-ORIGINAL-URL:https://notoriousjazz.com
X-WR-CALDESC:Events for Notorious Jazz
REFRESH-INTERVAL;VALUE=DURATION:PT1H
X-Robots-Tag:noindex
X-PUBLISHED-TTL:PT1H
BEGIN:VTIMEZONE
TZID:America/New_York
BEGIN:DAYLIGHT
TZOFFSETFROM:-0500
TZOFFSETTO:-0400
TZNAME:EDT
DTSTART:20240310T070000
END:DAYLIGHT
BEGIN:STANDARD
TZOFFSETFROM:-0400
TZOFFSETTO:-0500
TZNAME:EST
DTSTART:20241103T060000
END:STANDARD
BEGIN:DAYLIGHT
TZOFFSETFROM:-0500
TZOFFSETTO:-0400
TZNAME:EDT
DTSTART:20250309T070000
END:DAYLIGHT
BEGIN:STANDARD
TZOFFSETFROM:-0400
TZOFFSETTO:-0500
TZNAME:EST
DTSTART:20251102T060000
END:STANDARD
BEGIN:DAYLIGHT
TZOFFSETFROM:-0500
TZOFFSETTO:-0400
TZNAME:EDT
DTSTART:20260308T070000
END:DAYLIGHT
BEGIN:STANDARD
TZOFFSETFROM:-0400
TZOFFSETTO:-0500
TZNAME:EST
DTSTART:20261101T060000
END:STANDARD
END:VTIMEZONE
BEGIN:VEVENT
DTSTART;TZID=America/New_York:20251219T180000
DTEND;TZID=America/New_York:20251219T220000
DTSTAMP:20260420T022826
CREATED:20251201T022409Z
LAST-MODIFIED:20251201T022409Z
UID:48185-1766167200-1766181600@notoriousjazz.com
SUMMARY:TONY HIGHTOWER
DESCRIPTION:Tony Hightower\, an Atlanta-native is a singer-songwriter who has taken up the mantle to be a bridge between R&B audiences and real jazz. Hightower’s parents\, vocalist Theresa Hightower and percussionist Ralph Baker highly influenced his path toward becoming an a musician and actor. \nKnown in Atlanta for singing some of everything\, he has performed with Lionel Richie\, Jimmy Jam\, Terry Lewis\, and OutKast. However. The last decade has found him totally devoted to jazz.  Tony Hightower’s latest album\, The New Standard\, is available on streaming platforms. \nTickets:Non-Members ~ $23.50 | Members ~ Free \n 
URL:https://notoriousjazz.com/event/tony-hightower-10
LOCATION:High Museum Of Art\, 1280 Peachtree Street NE\, Atlanta\, GA\, 30309\, United States
CATEGORIES:Museum
ATTACH;FMTTYPE=image/png:https://notoriousjazz.com/wp-content/uploads/2025/11/TONY-HIGHTOWER-@-THE-HIGH-MUSEUM.png
END:VEVENT
END:VCALENDAR