BEGIN:VCALENDAR
VERSION:2.0
PRODID:-//Notorious Jazz - ECPv6.15.17//NONSGML v1.0//EN
CALSCALE:GREGORIAN
METHOD:PUBLISH
X-ORIGINAL-URL:https://notoriousjazz.com
X-WR-CALDESC:Events for Notorious Jazz
REFRESH-INTERVAL;VALUE=DURATION:PT1H
X-Robots-Tag:noindex
X-PUBLISHED-TTL:PT1H
BEGIN:VTIMEZONE
TZID:America/New_York
BEGIN:DAYLIGHT
TZOFFSETFROM:-0500
TZOFFSETTO:-0400
TZNAME:EDT
DTSTART:20250309T070000
END:DAYLIGHT
BEGIN:STANDARD
TZOFFSETFROM:-0400
TZOFFSETTO:-0500
TZNAME:EST
DTSTART:20251102T060000
END:STANDARD
BEGIN:DAYLIGHT
TZOFFSETFROM:-0500
TZOFFSETTO:-0400
TZNAME:EDT
DTSTART:20260308T070000
END:DAYLIGHT
BEGIN:STANDARD
TZOFFSETFROM:-0400
TZOFFSETTO:-0500
TZNAME:EST
DTSTART:20261101T060000
END:STANDARD
BEGIN:DAYLIGHT
TZOFFSETFROM:-0500
TZOFFSETTO:-0400
TZNAME:EDT
DTSTART:20270314T070000
END:DAYLIGHT
BEGIN:STANDARD
TZOFFSETFROM:-0400
TZOFFSETTO:-0500
TZNAME:EST
DTSTART:20271107T060000
END:STANDARD
END:VTIMEZONE
BEGIN:VEVENT
DTSTART;TZID=America/New_York:20260322T170000
DTEND;TZID=America/New_York:20260322T183000
DTSTAMP:20260421T190758
CREATED:20260320T214154Z
LAST-MODIFIED:20260321T141929Z
UID:49148-1774198800-1774204200@notoriousjazz.com
SUMMARY:TAL COHEN QUARTET
DESCRIPTION:Australian-born jazz pianist Tal Cohen leads a dynamic ensemble performance on the lawn as part of the Ocean Drive Promenade Music Series. \nCohen is an internationally touring pianist known for blending modern jazz with Middle Eastern melodic influences and intricate rhythmic phrasing. A winner of the Detroit Jazz Festival’s Barry Harris National Piano Competition\, he has performed with acclaimed artists including Terence Blanchard\, Joe Lovano\, Greg Osby and Ignacio Berroa\, while leading his own ensembles at festivals and venues around the world. His album Gentle Giants received international acclaim and a four-star review from DownBeat magazine. \nIn case of rain\, the performance will move indoors to The Betsy Hotel. \nTickets: Free
URL:https://notoriousjazz.com/event/tal-cohen-quartet
LOCATION:Lummus Park\, 1130 Ocean Drive\, Miami Beach\, FL\, 33139\, United States
CATEGORIES:Park
ATTACH;FMTTYPE=image/png:https://notoriousjazz.com/wp-content/uploads/2026/03/TAL-COHEN-@-LUMMUS-PARK.png
END:VEVENT
END:VCALENDAR