BEGIN:VCALENDAR
VERSION:2.0
PRODID:-//Notorious Jazz - ECPv6.15.17//NONSGML v1.0//EN
CALSCALE:GREGORIAN
METHOD:PUBLISH
X-WR-CALNAME:Notorious Jazz
X-ORIGINAL-URL:https://notoriousjazz.com
X-WR-CALDESC:Events for Notorious Jazz
REFRESH-INTERVAL;VALUE=DURATION:PT1H
X-Robots-Tag:noindex
X-PUBLISHED-TTL:PT1H
BEGIN:VTIMEZONE
TZID:America/New_York
BEGIN:DAYLIGHT
TZOFFSETFROM:-0500
TZOFFSETTO:-0400
TZNAME:EDT
DTSTART:20210314T070000
END:DAYLIGHT
BEGIN:STANDARD
TZOFFSETFROM:-0400
TZOFFSETTO:-0500
TZNAME:EST
DTSTART:20211107T060000
END:STANDARD
BEGIN:DAYLIGHT
TZOFFSETFROM:-0500
TZOFFSETTO:-0400
TZNAME:EDT
DTSTART:20220313T070000
END:DAYLIGHT
BEGIN:STANDARD
TZOFFSETFROM:-0400
TZOFFSETTO:-0500
TZNAME:EST
DTSTART:20221106T060000
END:STANDARD
BEGIN:DAYLIGHT
TZOFFSETFROM:-0500
TZOFFSETTO:-0400
TZNAME:EDT
DTSTART:20230312T070000
END:DAYLIGHT
BEGIN:STANDARD
TZOFFSETFROM:-0400
TZOFFSETTO:-0500
TZNAME:EST
DTSTART:20231105T060000
END:STANDARD
END:VTIMEZONE
BEGIN:VEVENT
DTSTART;TZID=America/New_York:20221107T200000
DTEND;TZID=America/New_York:20221107T220000
DTSTAMP:20260424T153322
CREATED:20221010T211619Z
LAST-MODIFIED:20221010T220333Z
UID:32104-1667851200-1667858400@notoriousjazz.com
SUMMARY:TONY HIGHTOWER
DESCRIPTION:Singer/Songwriter Tony Hightower is taking up the mantle to be a bridge that ushers R&B audiences into Jazz…Real Jazz. With years of experience as a musical performer and actor with familial roots that place him firmly within the music’s firmament\, Atlanta-native Hightower is still just getting started on this benevolent turn in his journey. And he is bringing a lot of young people with him. \nHis sophomore project\, LEGACY\, finds Hightower exploring Jazz vocal stylings from a dazzling prism of angles. The 10-song album moves confidently and assuredly from original compositions such as the soulful scat-laced “All to the Good\,” the seductive Brazilian bossa nova of “Rendezvous” and the tender carnal Jarreau-esque love beg “I Need You” to swingin’ covers of Earth\, Wind & Fire’s classic Skip Scarborough-penned “Can’t Hide Love\,” a mean shuffle boogie groove through Al Green’s “Love and Happiness” and a smoldering upright bass accompanied tiptoe through the 1929 Andy Razaf standard “Gee\, Baby\, Ain’t I Good To You” made further famous in 1944 by one of Hightower’s greatest and earliest Jazz vocal heroes\, Nat “King” Cole. That one’ll make the women wiggle. \n“I didn’t have a choice about doing this music\,” Hightower confesses. “My mother\, Theresa Hightower\, lived her life onstage. She was a fiery and versatile vocal pro by age 16 and had me when she was 19. So\, you could say I’ve been performing since the womb.” And though he did not know his father\, Ralph Baker\, well\, the man’s DNA pulsed within his being as Hightower inherited the percussionist’s keen sense of fascinating rhythm\, which led to Tony’s first pro gig at age 14 playing drums in the stage band for “The Dinah Washington Story” at the 14th Street Playhouse.
URL:https://notoriousjazz.com/event/tony-hightower-3
LOCATION:City Winery Atlanta\, Ponce City Market\, 650 North Avenue NE\, Atlanta\, GA\, 30308\, United States
CATEGORIES:Club,Restaurant
ATTACH;FMTTYPE=image/jpeg:https://notoriousjazz.com/wp-content/uploads/2022/09/TONY-HIGHTOWER.jpeg
END:VEVENT
BEGIN:VEVENT
DTSTART;TZID=America/New_York:20221110T190000
DTEND;TZID=America/New_York:20221112T203000
DTSTAMP:20260424T153322
CREATED:20221009T231754Z
LAST-MODIFIED:20221010T222525Z
UID:32040-1668106800-1668285000@notoriousjazz.com
SUMMARY:LESLIE UGGAMS
DESCRIPTION:Stage and screen legend Leslie Uggams returns to 54 Below with an all new show drawing from Broadway and beyond. Featuring musical theater showstoppers\, American Songbook classics\, jazz standards and current pop hits\, this timeless romp through an exciting song catalog will have audiences cheering\, “Hallelujah\, Baby!” \nMs. Uggams is a celebrated Tony® and Emmy Award-winning actress and singer whose seven-decade career has brought her from Harlem (The Apollo Theater) to Broadway (Hallelujah\, Baby!)\, the big screen (Deadpool\, Skyjacked) to television (“Empire\,” “The Leslie Uggams Show”). Perhaps best known for her stirring portrayal of Kizzy in the landmark TV mini-series Alex Haley’s “Roots” (Critics Choice Award\, Emmy and Golden Globe nominations)\, Leslie has performed to critical and popular acclaim ever since her first professional appearances at the age of nine at the famed Apollo Theater in New York City. \nDoors at 5:30pm
URL:https://notoriousjazz.com/event/leslie-uggams
LOCATION:54 Below\, 254 W 54th Street\, New York City\, NY\, 10019\, United States
CATEGORIES:Club,Restaurant
ATTACH;FMTTYPE=image/jpeg:https://notoriousjazz.com/wp-content/uploads/2022/10/LESLIE-UGGAMS.jpeg
END:VEVENT
BEGIN:VEVENT
DTSTART;TZID=America/New_York:20221123T190000
DTEND;TZID=America/New_York:20221123T230000
DTSTAMP:20260424T153322
CREATED:20221117T193939Z
LAST-MODIFIED:20221117T194234Z
UID:32705-1669230000-1669244400@notoriousjazz.com
SUMMARY:JOE GRANSDEN JAZZ JAM
DESCRIPTION:At 42 years old\, Joe Gransden has already performed worldwide and released 14 CDs under his own name. Renowned first for the hard bop approach of his trumpet\, and his singing voice has been compared to that of Chet Baker and Frank Sinatra. Among his many gigs he leads the weekly jam session at Venkman’s. \nWHEN: EVERY WEDNESDAY
URL:https://notoriousjazz.com/event/joe-gransden-jazz-jam
LOCATION:Venkman’s\, 740 Ralph McGill Boulevard NE\, Atlanta\, GA\, 30312\, United States
CATEGORIES:Restaurant
ATTACH;FMTTYPE=image/jpeg:https://notoriousjazz.com/wp-content/uploads/2022/11/JOE-GRANSDEN.jpg
END:VEVENT
END:VCALENDAR