BEGIN:VCALENDAR
VERSION:2.0
PRODID:-//Notorious Jazz - ECPv6.15.17//NONSGML v1.0//EN
CALSCALE:GREGORIAN
METHOD:PUBLISH
X-ORIGINAL-URL:https://notoriousjazz.com
X-WR-CALDESC:Events for Notorious Jazz
REFRESH-INTERVAL;VALUE=DURATION:PT1H
X-Robots-Tag:noindex
X-PUBLISHED-TTL:PT1H
BEGIN:VTIMEZONE
TZID:America/New_York
BEGIN:DAYLIGHT
TZOFFSETFROM:-0500
TZOFFSETTO:-0400
TZNAME:EDT
DTSTART:20240310T070000
END:DAYLIGHT
BEGIN:STANDARD
TZOFFSETFROM:-0400
TZOFFSETTO:-0500
TZNAME:EST
DTSTART:20241103T060000
END:STANDARD
BEGIN:DAYLIGHT
TZOFFSETFROM:-0500
TZOFFSETTO:-0400
TZNAME:EDT
DTSTART:20250309T070000
END:DAYLIGHT
BEGIN:STANDARD
TZOFFSETFROM:-0400
TZOFFSETTO:-0500
TZNAME:EST
DTSTART:20251102T060000
END:STANDARD
BEGIN:DAYLIGHT
TZOFFSETFROM:-0500
TZOFFSETTO:-0400
TZNAME:EDT
DTSTART:20260308T070000
END:DAYLIGHT
BEGIN:STANDARD
TZOFFSETFROM:-0400
TZOFFSETTO:-0500
TZNAME:EST
DTSTART:20261101T060000
END:STANDARD
END:VTIMEZONE
BEGIN:VEVENT
DTSTART;TZID=America/New_York:20250319T200000
DTEND;TZID=America/New_York:20250319T220000
DTSTAMP:20260423T044100
CREATED:20250319T223228Z
LAST-MODIFIED:20250319T223228Z
UID:45080-1742414400-1742421600@notoriousjazz.com
SUMMARY:SULLIVAN FORTNER
DESCRIPTION:Sullivan Fortner has established himself as a multifaceted jazz talent over the past decade\, showcasing his exceptional abilities as a pianist\, composer and ensemble leader while maintaining his distinctive artistic voice. Originally from New Orleans\, Louisian but now calls New York home\, this Grammy Award winner has garnered worldwide recognition both for his solo performances and his collaborative work. \nHis musical partnerships span a diverse range of acclaimed artists\, including vocalist-composer Cecile McLorin Salvant\, legendary singer-songwriter Paul Simon\, trumpeter Wynton Marsalis\, jazz vocalist Dianne Reeves\, and guitar virtuoso John Scofield. \nTickets: $65.00
URL:https://notoriousjazz.com/event/sullivan-fortner-2
LOCATION:Faena Hotel Theater\, 3201 Collins Avenue\, Miami Beach\, FL\, 33140\, United States
CATEGORIES:Hotel,Theatre
ATTACH;FMTTYPE=image/png:https://notoriousjazz.com/wp-content/uploads/2025/03/SULLIVAN-FORTNER-@-FAENA.png
END:VEVENT
END:VCALENDAR