BEGIN:VCALENDAR
VERSION:2.0
PRODID:-//Notorious Jazz - ECPv6.15.17//NONSGML v1.0//EN
CALSCALE:GREGORIAN
METHOD:PUBLISH
X-ORIGINAL-URL:https://notoriousjazz.com
X-WR-CALDESC:Events for Notorious Jazz
REFRESH-INTERVAL;VALUE=DURATION:PT1H
X-Robots-Tag:noindex
X-PUBLISHED-TTL:PT1H
BEGIN:VTIMEZONE
TZID:America/New_York
BEGIN:DAYLIGHT
TZOFFSETFROM:-0500
TZOFFSETTO:-0400
TZNAME:EDT
DTSTART:20210314T070000
END:DAYLIGHT
BEGIN:STANDARD
TZOFFSETFROM:-0400
TZOFFSETTO:-0500
TZNAME:EST
DTSTART:20211107T060000
END:STANDARD
BEGIN:DAYLIGHT
TZOFFSETFROM:-0500
TZOFFSETTO:-0400
TZNAME:EDT
DTSTART:20220313T070000
END:DAYLIGHT
BEGIN:STANDARD
TZOFFSETFROM:-0400
TZOFFSETTO:-0500
TZNAME:EST
DTSTART:20221106T060000
END:STANDARD
BEGIN:DAYLIGHT
TZOFFSETFROM:-0500
TZOFFSETTO:-0400
TZNAME:EDT
DTSTART:20230312T070000
END:DAYLIGHT
BEGIN:STANDARD
TZOFFSETFROM:-0400
TZOFFSETTO:-0500
TZNAME:EST
DTSTART:20231105T060000
END:STANDARD
END:VTIMEZONE
BEGIN:VEVENT
DTSTART;TZID=America/New_York:20220707T150000
DTEND;TZID=America/New_York:20220708T190000
DTSTAMP:20260422T063113
CREATED:20220705T073843Z
LAST-MODIFIED:20220705T084838Z
UID:30892-1657206000-1657306800@notoriousjazz.com
SUMMARY:JEANETTE HARRIS
DESCRIPTION:Gerald Veasley’s Unscriptd Series Presents Jeanette Harris \nClassically trained in both saxophone and piano\, a graduate of Boston’s famed Berklee College of Music\, and the saxophonist for the late\, great Teena Marie’s final year of touring\, Jeanette has weathered the fiercest challenges to bring the world her own brand of soulful healing vibes. She is the scintillating “saxtress” of smooth jazz and brings an energetic and captivating performance to audiences around the world. \nShowtimes: \n7:00 pm | Thurs~$35.00\, Fri~$37.00 \n9:00 pm | Thurs~$33.00\, Fri~$37.00
URL:https://notoriousjazz.com/event/jeanette-harris
LOCATION:South\, 600 N. Broad Street\, Philadelphia\, PA\, 19130\, United States
CATEGORIES:Club,Restaurant
ATTACH;FMTTYPE=image/png:https://notoriousjazz.com/wp-content/uploads/2022/07/JEANETTE-HARRIS.png
END:VEVENT
BEGIN:VEVENT
DTSTART;TZID=America/New_York:20220707T150000
DTEND;TZID=America/New_York:20220709T173000
DTSTAMP:20260422T063113
CREATED:20220704T180602Z
LAST-MODIFIED:20220704T183514Z
UID:30864-1657206000-1657387800@notoriousjazz.com
SUMMARY:RICO JONES QUINTET
DESCRIPTION:Rico Jones NYC All Star Band featuring Vincent Herring on 8th & 9th. \nYoung composer and musician Rico Jones comes home to Denver\, bringing along four highly acclaimed jazz stars from New York to play at Dazzle for three nights\, July 7th (featuring local Denver Greats) 8th and 9th (Featuring the NYC band). With a quintet comprising both well-established and rising stars (Alto Sax: Vincent Herring; Drums: Dan Weiss; Bass: Joe Martin; Guitar: Max Light; Tenor Saxophone: Rico Jones)\, Rico welcomes the chance to introduce Denver audiences to current trends in New York jazz while also introducing the NY artists to the burgeoning jazz scene here in Colorado. \nAcclaimed Saxophonist Vincent Herring has appeared on recordings and live performances with Freddie Hubbard\, Donald Byrd\, Dizzy Gillespie\, Louis Hayes\, Art Blakey and The Jazz Messengers\, Horace Silver Quintet\, Jack DeJohnette’s Special Edition\, Larry Coryell\, Steve Turre\, The Mingus Big Band (Won a Grammy in 2010)\, Kenny Barron\, Nancy Wilson\, Dr. Billy Taylor\, Carla Bley\, Mike LeDonne\, Carl Allen\, Ron McClure\, and John Hicks among others. His extensive guest soloist appearances include performances with Wynton Marsalis at Lincoln Center and Jon Faddis and The Carnegie Hall Big Band. \nShowtimes ~ 7:00 pm & 9:30 pm | Thurs\, Fri\, Sat \nFront Stage Table ~ $35.00/$20 minimum purchase required \nGeneral Admission ~ $25.00/$20 minimum purchase required \nStudents 17 & under ~ $15.00/$10 minimum purchase required
URL:https://notoriousjazz.com/event/rico-jones-quintet
LOCATION:Dazzle\, 1080 14th Street\, Denver\, CO\, 80202\, United States
CATEGORIES:Club
ATTACH;FMTTYPE=image/jpeg:https://notoriousjazz.com/wp-content/uploads/2022/07/RICO-JONES.jpg
END:VEVENT
END:VCALENDAR