BEGIN:VCALENDAR
VERSION:2.0
PRODID:-//Notorious Jazz - ECPv6.15.17//NONSGML v1.0//EN
CALSCALE:GREGORIAN
METHOD:PUBLISH
X-ORIGINAL-URL:https://notoriousjazz.com
X-WR-CALDESC:Events for Notorious Jazz
REFRESH-INTERVAL;VALUE=DURATION:PT1H
X-Robots-Tag:noindex
X-PUBLISHED-TTL:PT1H
BEGIN:VTIMEZONE
TZID:America/Denver
BEGIN:DAYLIGHT
TZOFFSETFROM:-0700
TZOFFSETTO:-0600
TZNAME:MDT
DTSTART:20210314T090000
END:DAYLIGHT
BEGIN:STANDARD
TZOFFSETFROM:-0600
TZOFFSETTO:-0700
TZNAME:MST
DTSTART:20211107T080000
END:STANDARD
BEGIN:DAYLIGHT
TZOFFSETFROM:-0700
TZOFFSETTO:-0600
TZNAME:MDT
DTSTART:20220313T090000
END:DAYLIGHT
BEGIN:STANDARD
TZOFFSETFROM:-0600
TZOFFSETTO:-0700
TZNAME:MST
DTSTART:20221106T080000
END:STANDARD
BEGIN:DAYLIGHT
TZOFFSETFROM:-0700
TZOFFSETTO:-0600
TZNAME:MDT
DTSTART:20230312T090000
END:DAYLIGHT
BEGIN:STANDARD
TZOFFSETFROM:-0600
TZOFFSETTO:-0700
TZNAME:MST
DTSTART:20231105T080000
END:STANDARD
END:VTIMEZONE
BEGIN:VEVENT
DTSTART;TZID=America/Denver:20220718T150000
DTEND;TZID=America/Denver:20220718T170000
DTSTAMP:20260422T063054
CREATED:20220704T184625Z
LAST-MODIFIED:20221012T181906Z
UID:30870-1658156400-1658163600@notoriousjazz.com
SUMMARY:DENVER JAZZ ORCHESTRA
DESCRIPTION:The Denver Jazz Orchestra is composed of Denver’s finest jazz musicians performing a wide range of big band styles. For more than 15 years\, the Denver Jazz Orchestra has entertained music fans at festivals\, clubs\, concerts and events. \nThe Orchestra: Tim Hurley ~ Guitar; Scott Handler\, Joseph Tabris\, David Froman\, Kevin Bollinger ~ Trumpet; Rob Olds\, Chad Schneider\, Tommy Van Den Berg\, Justis Williams ~ Trombone; Eric N. Jordan ~ Alto Sax; Fly McClard ~ Tenor Sax; Edison Salvador ~ Baritone Sax; Ron Jolly ~ Piano; Andrew Hudson ~ Bass; Derek Swink ~ Drums; Kat Ellis ~ Vocals \nThis show is part of Dazzle’s 2022 Keeping It Cool Lineup\, which includes 2 GRAMMY® Award-Winning Artists\, 4 Blues Music Award-Winners\, a Colorado Hall of Famer\, 7 GRAMMY® Award Nominations\, 5 Blues Music Awards\, and an additional 13 Blues Music Awards Nominations amongst them. \nActual Showtime ~ 7:00 pm | Monday \nFront Stage Table ~ $35.00/$20 minimum purchase required \nGeneral Admission ~ $25.00/$20 minimum purchase required \nStudents 17 & under ~ $15.00/$10 minimum purchase required \nTable of 6 ~ $100.00/$20 minimum purchase required per person
URL:https://notoriousjazz.com/event/denver-jazz-orchestra
LOCATION:Dazzle\, 1080 14th Street\, Denver\, CO\, 80202\, United States
CATEGORIES:Club
ATTACH;FMTTYPE=image/jpeg:https://notoriousjazz.com/wp-content/uploads/2022/07/DENVER-JAZZ-ORCHESTRA.jpg
END:VEVENT
END:VCALENDAR