BEGIN:VCALENDAR
VERSION:2.0
PRODID:-//Notorious Jazz - ECPv6.15.17//NONSGML v1.0//EN
CALSCALE:GREGORIAN
METHOD:PUBLISH
X-ORIGINAL-URL:https://notoriousjazz.com
X-WR-CALDESC:Events for Notorious Jazz
REFRESH-INTERVAL;VALUE=DURATION:PT1H
X-Robots-Tag:noindex
X-PUBLISHED-TTL:PT1H
BEGIN:VTIMEZONE
TZID:America/New_York
BEGIN:DAYLIGHT
TZOFFSETFROM:-0500
TZOFFSETTO:-0400
TZNAME:EDT
DTSTART:20210314T070000
END:DAYLIGHT
BEGIN:STANDARD
TZOFFSETFROM:-0400
TZOFFSETTO:-0500
TZNAME:EST
DTSTART:20211107T060000
END:STANDARD
BEGIN:DAYLIGHT
TZOFFSETFROM:-0500
TZOFFSETTO:-0400
TZNAME:EDT
DTSTART:20220313T070000
END:DAYLIGHT
BEGIN:STANDARD
TZOFFSETFROM:-0400
TZOFFSETTO:-0500
TZNAME:EST
DTSTART:20221106T060000
END:STANDARD
BEGIN:DAYLIGHT
TZOFFSETFROM:-0500
TZOFFSETTO:-0400
TZNAME:EDT
DTSTART:20230312T070000
END:DAYLIGHT
BEGIN:STANDARD
TZOFFSETFROM:-0400
TZOFFSETTO:-0500
TZNAME:EST
DTSTART:20231105T060000
END:STANDARD
END:VTIMEZONE
BEGIN:VEVENT
DTSTART;TZID=America/New_York:20220729T150000
DTEND;TZID=America/New_York:20220730T190000
DTSTAMP:20260422T063121
CREATED:20220703T182703Z
LAST-MODIFIED:20220703T202453Z
UID:30781-1659106800-1659207600@notoriousjazz.com
SUMMARY:ALLAN HARRIS BAND
DESCRIPTION:The musical odyssey of Allan Harris visits a wide range of influences\, including swinging jazz\, rich R&B\, sumptuous balladry\, wailing rock\, rumbling blues and even a playful touch of Brazilian music. \nWith a deeply resonant baritone/tenor voice that is soulful\, richly expressive and flawless in both intonation and phrasing\, Harris displays a total command and fluency while on stage. \nShow Times: 7:00 pm & 9:30 pm
URL:https://notoriousjazz.com/event/allan-harris-band
LOCATION:Jazz Forum Arts\, 1 Dixon Lane\, Tarrytown\, NY\, 10591\, United States
CATEGORIES:Club
ATTACH;FMTTYPE=image/png:https://notoriousjazz.com/wp-content/uploads/2022/07/ALLAN-HARRIS.png
END:VEVENT
BEGIN:VEVENT
DTSTART;VALUE=DATE:20220730
DTEND;VALUE=DATE:20220801
DTSTAMP:20260422T063121
CREATED:20220706T215537Z
LAST-MODIFIED:20220706T220349Z
UID:30948-1659168000-1659239999@notoriousjazz.com
SUMMARY:NEWPORT JAZZ FESTIVAL
DESCRIPTION:The Lineup: \nThe Fearless Flyers\, Esperanza Spalding\, Cécile Mclorin Salvant\, Cory Wong\, Sons Of Kemet\, Jazzmeia Horn\, Jack DeJohnette Quartet\, Maria Schneider Orchestra\, Makaya McCraven\, Yussef Dayes\, Antonio Sanchez & Bad Hombre\, Joe Lovano ~ Trio Tapestry\, Sullivan Fortner\, Lady Blackbird\, Samara Joy\, Melanie Charles\, Giveton Gelin\, and Holly Bowling \nArtists and Schedule Subject to Change. \nLocation: Fort Adams State Park \nGeneral Admission | All Tickets Are Digital \nSingle Day General Admission ~ $94.76 \nTwo Day General Admission ~ $185.40 \nThree Day and Student Tickets ~ Sold Out \nParking \nOne Day ~ Friday\, July 29th | Fort Adams State Park\, Newport ~ $25.75 \nTwo Day ~ FRiday/Saturday | Fort Adams State Park\, Newport ~ $49.44 \nFAQ \nPlease go to website and get all pertinent information about what you can/cannot bring \, tickets\, pricing\, parking\, etc.
URL:https://notoriousjazz.com/event/newport-jazz-festival-2
LOCATION:Newport Jazz Festival\, 80 Fort Adams Drive\, Newport\, RI\, 02840\, United States
CATEGORIES:Festival
ATTACH;FMTTYPE=image/jpeg:https://notoriousjazz.com/wp-content/uploads/2022/07/NEWPORT-JAZZ-FESTIVAL-POSTER.jpg
END:VEVENT
BEGIN:VEVENT
DTSTART;TZID=America/New_York:20220730T160000
DTEND;TZID=America/New_York:20220731T180000
DTSTAMP:20260422T063121
CREATED:20220703T224438Z
LAST-MODIFIED:20220704T172814Z
UID:30819-1659196800-1659290400@notoriousjazz.com
SUMMARY:CYRUS CHESTNUT
DESCRIPTION:“I like to construct melodies that tell stories\, based on what I’ve seen\, what I feel and what I hear\,” Chestnut explains. “If I can connect to what I’m playing\, then I’ll be able to share it. That’s why you may think that some of what I do seems simple\, but when you get into it\, it’s not as simple as you think.” — Cyrus Chestnut \nPianist Cyrus Chestnut appeals to both aficionados and fans alike. Adept enough to perform with Wynton Marsalis\, yet hip enough to make the “Peanuts” album swing. Chestnut worked with a number of top-notch musicians including Jon Hendricks\, Betty Carter\, Terence Blanchard\, and Donald Harrison\, before recording his first solo CD at the age of 30. Chestnut enjoys mixing styles and resists being typecast in any one niche\, though his gospel sound is apparent on a number of his recordings. \nShowtimes: \nSat\, July 30\, 8:00 pm & 10:00 pm ~ $40.00 \nSun\, July 31\, 8:00 pm ~ $40.00 | 10:00 pm ~ $20.00 \n$15 food/beverage minimum per person not included in ticket price.
URL:https://notoriousjazz.com/event/cyrus-chestnut
LOCATION:Blues Alley\, 1073 Wisconsin Avenue NW\, Washington\, DC\, 20007\, United States
CATEGORIES:Club
ATTACH;FMTTYPE=image/jpeg:https://notoriousjazz.com/wp-content/uploads/2022/07/CYRUS-CHESTNUT.jpg
END:VEVENT
END:VCALENDAR