BEGIN:VCALENDAR
VERSION:2.0
PRODID:-//Notorious Jazz - ECPv6.15.17//NONSGML v1.0//EN
CALSCALE:GREGORIAN
METHOD:PUBLISH
X-ORIGINAL-URL:https://notoriousjazz.com
X-WR-CALDESC:Events for Notorious Jazz
REFRESH-INTERVAL;VALUE=DURATION:PT1H
X-Robots-Tag:noindex
X-PUBLISHED-TTL:PT1H
BEGIN:VTIMEZONE
TZID:America/New_York
BEGIN:DAYLIGHT
TZOFFSETFROM:-0500
TZOFFSETTO:-0400
TZNAME:EDT
DTSTART:20210314T070000
END:DAYLIGHT
BEGIN:STANDARD
TZOFFSETFROM:-0400
TZOFFSETTO:-0500
TZNAME:EST
DTSTART:20211107T060000
END:STANDARD
BEGIN:DAYLIGHT
TZOFFSETFROM:-0500
TZOFFSETTO:-0400
TZNAME:EDT
DTSTART:20220313T070000
END:DAYLIGHT
BEGIN:STANDARD
TZOFFSETFROM:-0400
TZOFFSETTO:-0500
TZNAME:EST
DTSTART:20221106T060000
END:STANDARD
BEGIN:DAYLIGHT
TZOFFSETFROM:-0500
TZOFFSETTO:-0400
TZNAME:EDT
DTSTART:20230312T070000
END:DAYLIGHT
BEGIN:STANDARD
TZOFFSETFROM:-0400
TZOFFSETTO:-0500
TZNAME:EST
DTSTART:20231105T060000
END:STANDARD
END:VTIMEZONE
BEGIN:VEVENT
DTSTART;TZID=America/New_York:20220819T153000
DTEND;TZID=America/New_York:20220821T190000
DTSTAMP:20260422T060940
CREATED:20220703T211740Z
LAST-MODIFIED:20220703T211918Z
UID:30800-1660923000-1661108400@notoriousjazz.com
SUMMARY:STEVE TURRE GENERATIONS
DESCRIPTION:One of the world’s preeminent jazz innovators\, trombonist and seashellist Steve Turre swings into Keystone Korner Baltimore this August 5-7\, 2022! \nTrombone & shells – Steve Turre\nTrumpet – Wallace Roney Jr.\nTenor & Soprano Sax – Vincent Herring\nPiano – Davis Whitfield\nBass – Corcoran Holt\nDrums – Orion Turre \nSteve Turre has consistently won both the Readers’ and Critics’ polls in JazzTimes\, Downbeat\, and Jazziz for Best Trombone and for Best Miscellaneous Instrumentalist (shells). In addition to performing as a member of the Saturday Night Live Band since 1984\, Turre leads several different ensembles. Turre’s quartet and quintet provide a setting based in tradition and stretching the limits conceptually and stylistically. In the Summer of 2000\, Telarc released In The Spur of the Moment. This recording features Steve with three different quartets\, each with a different and distinct master pianist: Ray Charles\, Chucho Valdes\, and Stephen Scott. \nSteve Turre continually evolves as a musician and arranger. He has a strong command of all musical genres and when it comes to his distinct brand of jazz\, he always keeps one foot in the past and one in the future. \nShowtimes: \nStreaming: Fri\, Sat ~ August 19\, 7:30 pm\, Sun August 21\, 5:00 pm\n$10 + $1.70 fee \nLive: Fri\, Sat ~ August 19\, 7:30 pm & 10:00 pm\, Sun\, August 21\, 5:00 pm & 7:30 pm\n$35 – $45 + $3.46 – $4.16 fee
URL:https://notoriousjazz.com/event/steve-turre-generations
LOCATION:Keystone Korner Baltimore\, 1350 Lancaster Street\, Baltimore\, MD\, 21231\, United States
CATEGORIES:Club
ATTACH;FMTTYPE=image/jpeg:https://notoriousjazz.com/wp-content/uploads/2022/07/STEVE-TURRE.jpg
END:VEVENT
BEGIN:VEVENT
DTSTART;TZID=America/New_York:20220821T150000
DTEND;TZID=America/New_York:20220821T193000
DTSTAMP:20260422T060940
CREATED:20220628T024546Z
LAST-MODIFIED:20220629T131920Z
UID:30679-1661094000-1661110200@notoriousjazz.com
SUMMARY:JEN WROBLESKI QUARTET
DESCRIPTION:Having finished her education\, Jen Wrobleski honed her vocal talents beginning her singing career with the Walt Disney Company in Orlando\, FL portraying Cinderella in Cinderella’s Surprise Celebration and performed the role of Belle in Beauty & The Beast before departing for different pastures. \nIn early 2005 she formed a jazz quartet and performed throughout Florida and Georgia not limited to Churchill Grounds\, Sambuca\, House of Blues and Nikki’s Beach. Moving to New York City she performed regularly with Harold Mabern Jr.\, Joe Farnsworth\, Eric Alexander\, John Webber\, Sharp Radway\, and Anthony Wonsey. She has gone on to perform in Greece\, Austria\, Russia and Italy. She returns to the Velvet Note for another encore performance. \nShows ~ 7:00 & 9:00 pm \n 
URL:https://notoriousjazz.com/event/jen-wrobleski-quartet
LOCATION:The Velvet Note\, 4075 Old Milton Parkway\, Alpharetta\, GA\, 30005\, United States
CATEGORIES:Club
ATTACH;FMTTYPE=image/png:https://notoriousjazz.com/wp-content/uploads/2022/06/JEN-WROBLESKI.png
END:VEVENT
END:VCALENDAR