BEGIN:VCALENDAR
VERSION:2.0
PRODID:-//Notorious Jazz - ECPv6.15.17//NONSGML v1.0//EN
CALSCALE:GREGORIAN
METHOD:PUBLISH
X-WR-CALNAME:Notorious Jazz
X-ORIGINAL-URL:https://notoriousjazz.com
X-WR-CALDESC:Events for Notorious Jazz
REFRESH-INTERVAL;VALUE=DURATION:PT1H
X-Robots-Tag:noindex
X-PUBLISHED-TTL:PT1H
BEGIN:VTIMEZONE
TZID:America/New_York
BEGIN:DAYLIGHT
TZOFFSETFROM:-0500
TZOFFSETTO:-0400
TZNAME:EDT
DTSTART:20210314T070000
END:DAYLIGHT
BEGIN:STANDARD
TZOFFSETFROM:-0400
TZOFFSETTO:-0500
TZNAME:EST
DTSTART:20211107T060000
END:STANDARD
BEGIN:DAYLIGHT
TZOFFSETFROM:-0500
TZOFFSETTO:-0400
TZNAME:EDT
DTSTART:20220313T070000
END:DAYLIGHT
BEGIN:STANDARD
TZOFFSETFROM:-0400
TZOFFSETTO:-0500
TZNAME:EST
DTSTART:20221106T060000
END:STANDARD
BEGIN:DAYLIGHT
TZOFFSETFROM:-0500
TZOFFSETTO:-0400
TZNAME:EDT
DTSTART:20230312T070000
END:DAYLIGHT
BEGIN:STANDARD
TZOFFSETFROM:-0400
TZOFFSETTO:-0500
TZNAME:EST
DTSTART:20231105T060000
END:STANDARD
END:VTIMEZONE
BEGIN:VEVENT
DTSTART;TZID=America/New_York:20220826T110000
DTEND;TZID=America/New_York:20220827T170000
DTSTAMP:20260422T050936
CREATED:20220705T202956Z
LAST-MODIFIED:20220706T121427Z
UID:30916-1661511600-1661619600@notoriousjazz.com
SUMMARY:JAZZMEIA HORN & TERENCE BLANCHARD
DESCRIPTION:Friday\, August 26\, 2022 | 7:00 pm ~ 9:00 pm\nJazzmeia Horn and Her Noble Force / Calvin Booker On Tap & Friends\nSaturday\, August 27\, 2022 | 3:00 pm ~ 7:00 pm\nTerence Blanchard featuring the E-Collective and Turtle Island Quartet / Buster Williams & Something More / NIKARA presents Black Wall Street / Vuyo Sotashe
URL:https://notoriousjazz.com/event/jazzmeia-hirn-terence-blanchard
LOCATION:Marcus Garvey Park\, 6316\, Mt Morris Park W\,\, New York City\, NY\, 10027\, United States
CATEGORIES:Concert
ATTACH;FMTTYPE=image/png:https://notoriousjazz.com/wp-content/uploads/2022/07/JAZZMEIA-HORN-TERENCE-BLANCHARD.png
END:VEVENT
BEGIN:VEVENT
DTSTART;VALUE=DATE:20220827
DTEND;VALUE=DATE:20220829
DTSTAMP:20260422T050936
CREATED:20220816T141436Z
LAST-MODIFIED:20220816T141920Z
UID:31351-1661587200-1661659199@notoriousjazz.com
SUMMARY:TASTE OF 4TH AVENUE JAZZ FESTIVAL
DESCRIPTION:The 19th annual Taste of 4th Avenue Jazz Festival taking place in the Historic 4th Avenue business district. \nFree | 12:00pm~8:00pm \nPerformers: \nChelsey Green ~ Violin\, Vocal \nLogan The Entertainer ~  Vocal \nOfficial Clutch Band ~ Jazz\, R&B\, Gospel\, Pop… \nDeirdre Gaddis ~ Vocal \nVann Burchfield ~ Saxophone
URL:https://notoriousjazz.com/event/taste-of-4th-avenue-jazz-festival
LOCATION:Taste Of 4th Avenue Jazz Festival\, 1500 - 1900 4th Ave N\, Birmingham\, FL\, 35203\, United States
CATEGORIES:Festival
ATTACH;FMTTYPE=image/jpeg:https://notoriousjazz.com/wp-content/uploads/2022/08/TASTE-OF-4TH-AVENUE-JAZZ-FESTIVAL.jpg
END:VEVENT
END:VCALENDAR