BEGIN:VCALENDAR
VERSION:2.0
PRODID:-//Notorious Jazz - ECPv6.15.17//NONSGML v1.0//EN
CALSCALE:GREGORIAN
METHOD:PUBLISH
X-WR-CALNAME:Notorious Jazz
X-ORIGINAL-URL:https://notoriousjazz.com
X-WR-CALDESC:Events for Notorious Jazz
REFRESH-INTERVAL;VALUE=DURATION:PT1H
X-Robots-Tag:noindex
X-PUBLISHED-TTL:PT1H
BEGIN:VTIMEZONE
TZID:America/New_York
BEGIN:DAYLIGHT
TZOFFSETFROM:-0500
TZOFFSETTO:-0400
TZNAME:EDT
DTSTART:20210314T070000
END:DAYLIGHT
BEGIN:STANDARD
TZOFFSETFROM:-0400
TZOFFSETTO:-0500
TZNAME:EST
DTSTART:20211107T060000
END:STANDARD
BEGIN:DAYLIGHT
TZOFFSETFROM:-0500
TZOFFSETTO:-0400
TZNAME:EDT
DTSTART:20220313T070000
END:DAYLIGHT
BEGIN:STANDARD
TZOFFSETFROM:-0400
TZOFFSETTO:-0500
TZNAME:EST
DTSTART:20221106T060000
END:STANDARD
BEGIN:DAYLIGHT
TZOFFSETFROM:-0500
TZOFFSETTO:-0400
TZNAME:EDT
DTSTART:20230312T070000
END:DAYLIGHT
BEGIN:STANDARD
TZOFFSETFROM:-0400
TZOFFSETTO:-0500
TZNAME:EST
DTSTART:20231105T060000
END:STANDARD
END:VTIMEZONE
BEGIN:VTIMEZONE
TZID:America/Denver
BEGIN:DAYLIGHT
TZOFFSETFROM:-0700
TZOFFSETTO:-0600
TZNAME:MDT
DTSTART:20210314T090000
END:DAYLIGHT
BEGIN:STANDARD
TZOFFSETFROM:-0600
TZOFFSETTO:-0700
TZNAME:MST
DTSTART:20211107T080000
END:STANDARD
BEGIN:DAYLIGHT
TZOFFSETFROM:-0700
TZOFFSETTO:-0600
TZNAME:MDT
DTSTART:20220313T090000
END:DAYLIGHT
BEGIN:STANDARD
TZOFFSETFROM:-0600
TZOFFSETTO:-0700
TZNAME:MST
DTSTART:20221106T080000
END:STANDARD
BEGIN:DAYLIGHT
TZOFFSETFROM:-0700
TZOFFSETTO:-0600
TZNAME:MDT
DTSTART:20230312T090000
END:DAYLIGHT
BEGIN:STANDARD
TZOFFSETFROM:-0600
TZOFFSETTO:-0700
TZNAME:MST
DTSTART:20231105T080000
END:STANDARD
END:VTIMEZONE
BEGIN:VEVENT
DTSTART;TZID=America/New_York:20220908T150000
DTEND;TZID=America/New_York:20220911T183000
DTSTAMP:20260422T032426
CREATED:20220704T164201Z
LAST-MODIFIED:20220704T191514Z
UID:30833-1662649200-1662921000@notoriousjazz.com
SUMMARY:STANLEY JORDAN
DESCRIPTION:In a career that took flight with immediate commercial success and critical acclaim\, guitar virtuoso Stanley Jordan has consistently displayed a chameleonic musical persona of openness\, imagination\, versatility and maverick daring. Be it bold reinventions of classical masterpieces or soulful explorations through pop-rock hits\, to blazing straight ahead jazz forays and ultramodern improvisational works—solo or with a group—Jordan can always be counted on to take listeners on breathless journeys into the unexpected. \nKey to Jordan’s fast-track acclaim was his mastery of a special technique on the guitar’s fretboard. Instead of conventional strumming and picking\, Jordan’s innovative “touch technique” is an advanced form of two-handed tapping. While a handful of other players were using similar techniques\, Stanley’s fluid\, multi-layered textures and sheer virtuosity raised the bar for excellence. \nShowtimes: \n7:00 pm | Thurs\, Sun ~ $30.00\, Fri\, Sat ~ $35.00 \n9:00 pm | Thurs\, Sun ~ $20.00\, Fri\, Sat ~ $35.00 \n$15 food/beverage minimum per person not included in ticket price.
URL:https://notoriousjazz.com/event/stanley-jordan
LOCATION:Blues Alley\, 1073 Wisconsin Avenue NW\, Washington\, DC\, 20007\, United States
CATEGORIES:Club
ATTACH;FMTTYPE=image/png:https://notoriousjazz.com/wp-content/uploads/2022/07/STANLEY-JORDAN.png
END:VEVENT
BEGIN:VEVENT
DTSTART;TZID=America/Denver:20220909T150000
DTEND;TZID=America/Denver:20220909T190000
DTSTAMP:20260422T032426
CREATED:20220704T185610Z
LAST-MODIFIED:20221012T180351Z
UID:30874-1662735600-1662750000@notoriousjazz.com
SUMMARY:NICOLE HENRY
DESCRIPTION:Time To Love Again CD Release Tour \nNicole Henry’s passionate\, soulful voice and heartfelt charisma have earned her a Soul Train Award for “Best Traditional Jazz Performance\,” and four Top-10 U.S. Billboard and HMV Japan jazz albums. Heralded by The New York Times\, Wall Street Journal\, The Japan Times\, El Pais\, Jazz Times\, Essence and more\, Ms. Henry tells real stories through peerless interpretations of repertoire from the American Songbook\, classic and contemporary jazz\, popular standards\, blues and originals. \nPowerhouse jazz vocalist Nicole Henry returns to celebrate the release of her new CD\, Time to Love Again\, an eclectic mix of jazz standards and reimagined pop tunes that showcases Henry’s soulful interpretations. \n“Time To Love Again” is Henry’s 8th career CD and fourth to reach the TOP 10. Whether burning through a swing tune or gently caressing a ballad\, Henry truly makes each song uniquely her own with her dynamic range\, impeccable phrasing\, and bluesy gospel style.  \nActual Showtimes ~ 7:00 pm & 9:30 pm | Friday \nFront Stage Table ~ $40.00/$20 minimum purchase required \nGeneral Admission ~ $30.00/$20 minimum purchase required \nStudents 17 & under ~ $20.00/$10 minimum purchase required
URL:https://notoriousjazz.com/event/nicole-henry
LOCATION:Dazzle\, 1080 14th Street\, Denver\, CO\, 80202\, United States
CATEGORIES:Club
ATTACH;FMTTYPE=image/jpeg:https://notoriousjazz.com/wp-content/uploads/2022/07/NICOLE-HENRY.jpg
END:VEVENT
END:VCALENDAR