BEGIN:VCALENDAR
VERSION:2.0
PRODID:-//Notorious Jazz - ECPv6.15.17//NONSGML v1.0//EN
CALSCALE:GREGORIAN
METHOD:PUBLISH
X-WR-CALNAME:Notorious Jazz
X-ORIGINAL-URL:https://notoriousjazz.com
X-WR-CALDESC:Events for Notorious Jazz
REFRESH-INTERVAL;VALUE=DURATION:PT1H
X-Robots-Tag:noindex
X-PUBLISHED-TTL:PT1H
BEGIN:VTIMEZONE
TZID:America/New_York
BEGIN:DAYLIGHT
TZOFFSETFROM:-0500
TZOFFSETTO:-0400
TZNAME:EDT
DTSTART:20210314T070000
END:DAYLIGHT
BEGIN:STANDARD
TZOFFSETFROM:-0400
TZOFFSETTO:-0500
TZNAME:EST
DTSTART:20211107T060000
END:STANDARD
BEGIN:DAYLIGHT
TZOFFSETFROM:-0500
TZOFFSETTO:-0400
TZNAME:EDT
DTSTART:20220313T070000
END:DAYLIGHT
BEGIN:STANDARD
TZOFFSETFROM:-0400
TZOFFSETTO:-0500
TZNAME:EST
DTSTART:20221106T060000
END:STANDARD
BEGIN:DAYLIGHT
TZOFFSETFROM:-0500
TZOFFSETTO:-0400
TZNAME:EDT
DTSTART:20230312T070000
END:DAYLIGHT
BEGIN:STANDARD
TZOFFSETFROM:-0400
TZOFFSETTO:-0500
TZNAME:EST
DTSTART:20231105T060000
END:STANDARD
END:VTIMEZONE
BEGIN:VEVENT
DTSTART;TZID=America/New_York:20221005T193000
DTEND;TZID=America/New_York:20221005T230000
DTSTAMP:20260422T031853
CREATED:20220930T173356Z
LAST-MODIFIED:20220930T180756Z
UID:31938-1664998200-1665010800@notoriousjazz.com
SUMMARY:ADAM NIEWOOD & FRIENDS
DESCRIPTION:Adam Niewood / Tenor Sax\nElliot Bild / Trumpet\nMike Boone / Bass\nAnthony Pinciotti / Drums\n\nShowtimes: 7:30pm & 9:00pm\n\n\nWalk-in music charge is $25 | Reserve tickets are $35 Sunday through Thursdays and $40 on Friday and Saturday.
URL:https://notoriousjazz.com/event/adam-niewood-friends
LOCATION:Smalls\, 183 West 10th Street - Basement\, New York City\, NY\, 10014\, United States
CATEGORIES:Club
ATTACH;FMTTYPE=image/jpeg:https://notoriousjazz.com/wp-content/uploads/2022/09/ADAM-NIEWOOD-2.jpg
END:VEVENT
END:VCALENDAR