BEGIN:VCALENDAR
VERSION:2.0
PRODID:-//Notorious Jazz - ECPv6.15.17//NONSGML v1.0//EN
CALSCALE:GREGORIAN
METHOD:PUBLISH
X-ORIGINAL-URL:https://notoriousjazz.com
X-WR-CALDESC:Events for Notorious Jazz
REFRESH-INTERVAL;VALUE=DURATION:PT1H
X-Robots-Tag:noindex
X-PUBLISHED-TTL:PT1H
BEGIN:VTIMEZONE
TZID:America/New_York
BEGIN:DAYLIGHT
TZOFFSETFROM:-0500
TZOFFSETTO:-0400
TZNAME:EDT
DTSTART:20210314T070000
END:DAYLIGHT
BEGIN:STANDARD
TZOFFSETFROM:-0400
TZOFFSETTO:-0500
TZNAME:EST
DTSTART:20211107T060000
END:STANDARD
BEGIN:DAYLIGHT
TZOFFSETFROM:-0500
TZOFFSETTO:-0400
TZNAME:EDT
DTSTART:20220313T070000
END:DAYLIGHT
BEGIN:STANDARD
TZOFFSETFROM:-0400
TZOFFSETTO:-0500
TZNAME:EST
DTSTART:20221106T060000
END:STANDARD
BEGIN:DAYLIGHT
TZOFFSETFROM:-0500
TZOFFSETTO:-0400
TZNAME:EDT
DTSTART:20230312T070000
END:DAYLIGHT
BEGIN:STANDARD
TZOFFSETFROM:-0400
TZOFFSETTO:-0500
TZNAME:EST
DTSTART:20231105T060000
END:STANDARD
END:VTIMEZONE
BEGIN:VEVENT
DTSTART;TZID=America/New_York:20221025T200000
DTEND;TZID=America/New_York:20221030T233000
DTSTAMP:20260422T032700
CREATED:20221010T002557Z
LAST-MODIFIED:20221010T002557Z
UID:32065-1666728000-1667172600@notoriousjazz.com
SUMMARY:RAVI COLTRANE 3+3
DESCRIPTION:Ravi Coltrane is the son of saxophonist John Coltrane and jazz harpist Alice Coltrane and is a jazz saxophonist. Co-owner of the record label RKM Music\, he has produced pianist Luis Perdomo\, guitarist David Gilmore\, and trumpeter Ralph Alessi. \nDezron Douglas & Johnathan Blake ~ Oct 25-27 \nGadi Lehavi & Éle Howell ~ Oct 28-30
URL:https://notoriousjazz.com/event/ravi-coltrane-33
LOCATION:Village Vanguard\, 178 7th Avenue S\, New York City\, NY\, 10014\, United States
CATEGORIES:Club
ATTACH;FMTTYPE=image/png:https://notoriousjazz.com/wp-content/uploads/2022/10/RAVI-COLTRANE.png
END:VEVENT
END:VCALENDAR