BEGIN:VCALENDAR
VERSION:2.0
PRODID:-//Notorious Jazz - ECPv6.15.17//NONSGML v1.0//EN
CALSCALE:GREGORIAN
METHOD:PUBLISH
X-WR-CALNAME:Notorious Jazz
X-ORIGINAL-URL:https://notoriousjazz.com
X-WR-CALDESC:Events for Notorious Jazz
REFRESH-INTERVAL;VALUE=DURATION:PT1H
X-Robots-Tag:noindex
X-PUBLISHED-TTL:PT1H
BEGIN:VTIMEZONE
TZID:America/New_York
BEGIN:DAYLIGHT
TZOFFSETFROM:-0500
TZOFFSETTO:-0400
TZNAME:EDT
DTSTART:20210314T070000
END:DAYLIGHT
BEGIN:STANDARD
TZOFFSETFROM:-0400
TZOFFSETTO:-0500
TZNAME:EST
DTSTART:20211107T060000
END:STANDARD
BEGIN:DAYLIGHT
TZOFFSETFROM:-0500
TZOFFSETTO:-0400
TZNAME:EDT
DTSTART:20220313T070000
END:DAYLIGHT
BEGIN:STANDARD
TZOFFSETFROM:-0400
TZOFFSETTO:-0500
TZNAME:EST
DTSTART:20221106T060000
END:STANDARD
BEGIN:DAYLIGHT
TZOFFSETFROM:-0500
TZOFFSETTO:-0400
TZNAME:EDT
DTSTART:20230312T070000
END:DAYLIGHT
BEGIN:STANDARD
TZOFFSETFROM:-0400
TZOFFSETTO:-0500
TZNAME:EST
DTSTART:20231105T060000
END:STANDARD
END:VTIMEZONE
BEGIN:VTIMEZONE
TZID:America/Chicago
BEGIN:DAYLIGHT
TZOFFSETFROM:-0600
TZOFFSETTO:-0500
TZNAME:CDT
DTSTART:20210314T080000
END:DAYLIGHT
BEGIN:STANDARD
TZOFFSETFROM:-0500
TZOFFSETTO:-0600
TZNAME:CST
DTSTART:20211107T070000
END:STANDARD
BEGIN:DAYLIGHT
TZOFFSETFROM:-0600
TZOFFSETTO:-0500
TZNAME:CDT
DTSTART:20220313T080000
END:DAYLIGHT
BEGIN:STANDARD
TZOFFSETFROM:-0500
TZOFFSETTO:-0600
TZNAME:CST
DTSTART:20221106T070000
END:STANDARD
BEGIN:DAYLIGHT
TZOFFSETFROM:-0600
TZOFFSETTO:-0500
TZNAME:CDT
DTSTART:20230312T080000
END:DAYLIGHT
BEGIN:STANDARD
TZOFFSETFROM:-0500
TZOFFSETTO:-0600
TZNAME:CST
DTSTART:20231105T070000
END:STANDARD
END:VTIMEZONE
BEGIN:VEVENT
DTSTART;TZID=America/New_York:20221025T200000
DTEND;TZID=America/New_York:20221030T233000
DTSTAMP:20260422T031852
CREATED:20221010T002557Z
LAST-MODIFIED:20221010T002557Z
UID:32065-1666728000-1667172600@notoriousjazz.com
SUMMARY:RAVI COLTRANE 3+3
DESCRIPTION:Ravi Coltrane is the son of saxophonist John Coltrane and jazz harpist Alice Coltrane and is a jazz saxophonist. Co-owner of the record label RKM Music\, he has produced pianist Luis Perdomo\, guitarist David Gilmore\, and trumpeter Ralph Alessi. \nDezron Douglas & Johnathan Blake ~ Oct 25-27 \nGadi Lehavi & Éle Howell ~ Oct 28-30
URL:https://notoriousjazz.com/event/ravi-coltrane-33
LOCATION:Village Vanguard\, 178 7th Avenue S\, New York City\, NY\, 10014\, United States
CATEGORIES:Club
ATTACH;FMTTYPE=image/png:https://notoriousjazz.com/wp-content/uploads/2022/10/RAVI-COLTRANE.png
END:VEVENT
BEGIN:VEVENT
DTSTART;TZID=America/New_York:20221027T190000
DTEND;TZID=America/New_York:20221030T230000
DTSTAMP:20260422T031852
CREATED:20220704T172055Z
LAST-MODIFIED:20220919T233835Z
UID:30844-1666897200-1667170800@notoriousjazz.com
SUMMARY:ARTURO SANDOVAL
DESCRIPTION:“Born into poverty in Cuba and held back by his government\, he risked everything to share his gifts with the world. In the decades since\, this astonishing trumpeter\, pianist and composer has inspired audiences in every corner of the world and awakened a new generation of great performers. He remains one of the best ever to play.” \n~ Barack Obama (presenting The Presidential Medal of Freedom to Arturo Sandoval) \nA protégé of the legendary jazz master Dizzy Gillespie\, Sandoval was born in Artemisa\, a small town in the outskirts of Havana\, Cuba\, on November 6\, 1949\, just two years after Gillespie became the first musician to bring Latin influences into American Jazz. Sandoval began studying classical trumpet at the age of twelve\, but it didn’t take him long to catch the excitement of the jazz world. He has since evolved into one of the world’s most acknowledged guardians of jazz trumpet and flugelhorn\, as well as a renowned classical artist\, pianist and composer. \nShowtimes: \n7:00 pm | Thurs\, Sun~$65.00\, Fri\, Sat~$75.00 \n9:00 pm | Thurs\, Sun~$65.00\, Fri\, Sat~$75.00 \n$15 food/beverage minimum per person not included in ticket price.
URL:https://notoriousjazz.com/event/arturo-sandoval
LOCATION:Blues Alley\, 1073 Wisconsin Avenue NW\, Washington\, DC\, 20007\, United States
CATEGORIES:Club
ATTACH;FMTTYPE=image/jpeg:https://notoriousjazz.com/wp-content/uploads/2022/07/ARTURO-SANDOVAL.jpg
END:VEVENT
BEGIN:VEVENT
DTSTART;TZID=America/Chicago:20221028T193000
DTEND;TZID=America/Chicago:20221029T230000
DTSTAMP:20260422T031852
CREATED:20220920T210128Z
LAST-MODIFIED:20221012T174619Z
UID:31769-1666985400-1667084400@notoriousjazz.com
SUMMARY:TIA FULLER\, MIMI JONES & MATT WILSON
DESCRIPTION:Join saxophonist Tia Fuller\, bassist Mimi Jones\, and drummer Matt Wilson as they cap off their week in St. Louis with performances on the Ferring Jazz Bistro stage! Jazz St. Louis’s Artist Residency bands are one-of-a-kind groupings brought together for the specific purpose of securing the future of jazz through clinics\, masterclasses\, and in-school performances. Jazz St. Louis engages these artists for an entire week\, during which they visit area schools and conduct masterclasses and clinics for middle and high school students. \nValet Parking ~ $10.00 prepaid \nValet parking is available for all Jazz St. Louis performances. Discounted $10 valet parking may be purchased when ordering your tickets. Please make sure to select the correct date and time when adding parking to your cart with your tickets before purchasing. \nOctober 28 ~ 7:30pm | 9:30pm \nOctober 29 ~ 7:30pm | 9:30pm
URL:https://notoriousjazz.com/event/tia-fuller-mimi-jones-matt-wilson
LOCATION:Jazz St. Louis\, 3536 Washington Avenue\, St. Louis\, MO\, 63103\, United States
CATEGORIES:Club
ATTACH;FMTTYPE=image/jpeg:https://notoriousjazz.com/wp-content/uploads/2022/09/TIA-FULLER.jpg
END:VEVENT
BEGIN:VEVENT
DTSTART;TZID=America/New_York:20221028T193000
DTEND;TZID=America/New_York:20221030T233000
DTSTAMP:20260422T031852
CREATED:20220929T234602Z
LAST-MODIFIED:20220930T180628Z
UID:31912-1666985400-1667172600@notoriousjazz.com
SUMMARY:MARCUS ELLIOT QUARTET
DESCRIPTION:Marcus Elliot (Marcus Elliot Miller) is a saxophonist\, composer\, improviser\, and educator based in Detroit\, Michigan. Marcus is a 2020 Kresge Artist Fellow\, awarded by Kresge Arts in Detroit. His compositions and improvisations have been described by the New York Times as “convincing and confident\, evolved in touch and tone…”\, and the Detroit Free Press has said\, “Marcus Elliot represents next generation of jazz”. Elliot leads and co-leads many different Detroit based bands including the Marcus Elliot Quartet\, Clockwork\, Balance\, Beyond Rebellious\, and Lanula. Elliot performs in the Shigeto Live Ensemble. He is a Fellow of the Geri Allen Gathering Orchestra. He co-founded the nonprofit Polyfold Musical Arts Collective. Elliot is the director of the Detroit Symphony Orchestra’s Civic Jazz Ensembles. Elliot received his master’s degree in improvisation from the University of Michigan.  \nElliot is a disciple of the Detroit music scene. His mentors include Rodney Whitaker\, Marcus Belgrave\, Robert Hurst\, Donald Walden\, Bennie Maupin\, Marion Hayden\, and Karriem Riggins. After graduating with a bachelors degree in Jazz Studies from Michigan State University\, Marcus began to curate weekly performances in Detroit\, showcasing some of Detroit’s young jazz musicians. He held a weekly residency at Detroit’s premiere jazz club\, Cliff Bell’s\, for four years. Marcus self-released three albums with his ensemble\, the Marcus Elliot Quartet and co-released an album with his duo project with Michael Malis\, Balance.
URL:https://notoriousjazz.com/event/marcus-elliot-quartet
LOCATION:Cliff Bell’s\, 2030 Park Avenue\, Detroit\, MI\, 48226\, United States
CATEGORIES:Club
ATTACH;FMTTYPE=image/png:https://notoriousjazz.com/wp-content/uploads/2022/09/MARCUS-ELLIOT.png
END:VEVENT
BEGIN:VEVENT
DTSTART;TZID=America/New_York:20221028T200000
DTEND;TZID=America/New_York:20221028T220000
DTSTAMP:20260422T031852
CREATED:20220905T212455Z
LAST-MODIFIED:20220919T233951Z
UID:31521-1666987200-1666994400@notoriousjazz.com
SUMMARY:BRUBECK BROTHERS QUARTET
DESCRIPTION:A CELEBRATION OF BRUBECK featuring the Brubeck Brothers Quartet with the award-winning Frost Concert Jazz Band from the Frost School of Music and special guest Catherine Russell in the Knight Concert Hall \n 
URL:https://notoriousjazz.com/event/brubeck-brothers
LOCATION:Adrienne Arsht Center | Knight Concert Hall\, 1300 Biscayne Boulevard\, Miami\, FL\, 33132\, United States
CATEGORIES:Concert
ATTACH;FMTTYPE=image/png:https://notoriousjazz.com/wp-content/uploads/2022/09/BRUBECK-BROTHERS.png
END:VEVENT
END:VCALENDAR