BEGIN:VCALENDAR
VERSION:2.0
PRODID:-//Notorious Jazz - ECPv6.15.17//NONSGML v1.0//EN
CALSCALE:GREGORIAN
METHOD:PUBLISH
X-ORIGINAL-URL:https://notoriousjazz.com
X-WR-CALDESC:Events for Notorious Jazz
REFRESH-INTERVAL;VALUE=DURATION:PT1H
X-Robots-Tag:noindex
X-PUBLISHED-TTL:PT1H
BEGIN:VTIMEZONE
TZID:America/New_York
BEGIN:DAYLIGHT
TZOFFSETFROM:-0500
TZOFFSETTO:-0400
TZNAME:EDT
DTSTART:20210314T070000
END:DAYLIGHT
BEGIN:STANDARD
TZOFFSETFROM:-0400
TZOFFSETTO:-0500
TZNAME:EST
DTSTART:20211107T060000
END:STANDARD
BEGIN:DAYLIGHT
TZOFFSETFROM:-0500
TZOFFSETTO:-0400
TZNAME:EDT
DTSTART:20220313T070000
END:DAYLIGHT
BEGIN:STANDARD
TZOFFSETFROM:-0400
TZOFFSETTO:-0500
TZNAME:EST
DTSTART:20221106T060000
END:STANDARD
BEGIN:DAYLIGHT
TZOFFSETFROM:-0500
TZOFFSETTO:-0400
TZNAME:EDT
DTSTART:20230312T070000
END:DAYLIGHT
BEGIN:STANDARD
TZOFFSETFROM:-0400
TZOFFSETTO:-0500
TZNAME:EST
DTSTART:20231105T060000
END:STANDARD
END:VTIMEZONE
BEGIN:VTIMEZONE
TZID:America/Chicago
BEGIN:DAYLIGHT
TZOFFSETFROM:-0600
TZOFFSETTO:-0500
TZNAME:CDT
DTSTART:20210314T080000
END:DAYLIGHT
BEGIN:STANDARD
TZOFFSETFROM:-0500
TZOFFSETTO:-0600
TZNAME:CST
DTSTART:20211107T070000
END:STANDARD
BEGIN:DAYLIGHT
TZOFFSETFROM:-0600
TZOFFSETTO:-0500
TZNAME:CDT
DTSTART:20220313T080000
END:DAYLIGHT
BEGIN:STANDARD
TZOFFSETFROM:-0500
TZOFFSETTO:-0600
TZNAME:CST
DTSTART:20221106T070000
END:STANDARD
BEGIN:DAYLIGHT
TZOFFSETFROM:-0600
TZOFFSETTO:-0500
TZNAME:CDT
DTSTART:20230312T080000
END:DAYLIGHT
BEGIN:STANDARD
TZOFFSETFROM:-0500
TZOFFSETTO:-0600
TZNAME:CST
DTSTART:20231105T070000
END:STANDARD
END:VTIMEZONE
BEGIN:VEVENT
DTSTART;TZID=America/New_York:20221101T200000
DTEND;TZID=America/New_York:20221106T233000
DTSTAMP:20260422T000243
CREATED:20221010T003055Z
LAST-MODIFIED:20221010T003055Z
UID:32068-1667332800-1667777400@notoriousjazz.com
SUMMARY:BEN WENDEL QUARTET
DESCRIPTION:Ben Wendel is a naturally inquisitive musician whose credentials branch out beyond jazz. He briefly toured with Snoop Dogg. He’s a member of Kneebody\, a postmillennial groove band with a sizable following\, as well as an accomplished solo artist and producer. \nBen Wendel – Saxophone\nGerald Clayton  – Piano\nLinda May Han Oh – Bass\nObed Calvaire – Drums
URL:https://notoriousjazz.com/event/ben-wendel-quartet
LOCATION:Village Vanguard\, 178 7th Avenue S\, New York City\, NY\, 10014\, United States
CATEGORIES:Club
ATTACH;FMTTYPE=image/jpeg:https://notoriousjazz.com/wp-content/uploads/2022/10/BEN-WENDEL.jpg
END:VEVENT
BEGIN:VEVENT
DTSTART;TZID=America/Chicago:20221102T193000
DTEND;TZID=America/Chicago:20221106T230000
DTSTAMP:20260422T000243
CREATED:20220920T211243Z
LAST-MODIFIED:20221012T174425Z
UID:31772-1667417400-1667775600@notoriousjazz.com
SUMMARY:JOHN PIZZARELLI
DESCRIPTION:John Pizzarelli\, the world-renowned guitarist and singer\, has established himself as a prime contemporary interpreter of the Great American Songbook and beyond\, with a repertoire that includes Joni Mitchell\, Neil Young\, Tom Waits\, Antônio Carlos Jobim\, and The Beatles. Following high-profile collaborations with Sir Paul McCartney and Michael McDonald\, Pizzarelli returns to his roots to honor his hero\, the legendary jazz/pop vocalist and pianist Nat King Cole\, whose centennial is being celebrated around the world. \nValet Parking ~ $10.00 prepaid \nValet parking is available for all Jazz St. Louis performances. Discounted $10 valet parking may be purchased when ordering your tickets. Please make sure to select the correct date and time when adding parking to your cart with your tickets before purchasing. \nPerformances \nNovember 2 ~ 7:30pm \nNovember 3 ~ 11:00am | 7:30pm \nNovember 4 ~ 7:30pm | 9:30pm \nNovember 5 ~ 7:30pm | 9:30pm \nNovember 6 ~ 6:30pm \n 
URL:https://notoriousjazz.com/event/john-pizzarelli-2
LOCATION:Jazz St. Louis\, 3536 Washington Avenue\, St. Louis\, MO\, 63103\, United States
CATEGORIES:Club
ATTACH;FMTTYPE=image/jpeg:https://notoriousjazz.com/wp-content/uploads/2022/09/JOHN-PIZZARELLI.jpg
END:VEVENT
BEGIN:VEVENT
DTSTART;TZID=America/New_York:20221103T193000
DTEND;TZID=America/New_York:20221103T230000
DTSTAMP:20260422T000243
CREATED:20221101T133641Z
LAST-MODIFIED:20221101T133641Z
UID:32454-1667503800-1667516400@notoriousjazz.com
SUMMARY:ROY HARGROVE BIG BAND
DESCRIPTION:The Jazz Gallery presents the Roy Hargrove Big Band // Live & Livestreamed // Thurs Nov 3 // 7.30pm & 9.30pm ET\n\n\n\nThe Roy Hargrove Big Band’s monthly residency at the venue where it all began\, The Jazz Gallery\, first Thursdays!\n\n\n\nTickets: $35/$10 members; cabaret seating: $45/$20 members. www.jazzgallery.org\n\n\n\n“There’s nothing like the feeling you get when you’re hearing your compositions and arrangements played by a wall of sound.” ~ Roy Hargrove
URL:https://notoriousjazz.com/event/roy-hargrove-big-band
LOCATION:Jazz Gallery\, 1158 Broadway 5th Floor\, New York City\, NY\, 10001\, United States
CATEGORIES:Club
ATTACH;FMTTYPE=image/jpeg:https://notoriousjazz.com/wp-content/uploads/2022/11/ROY-HARGROVE-BIG-BAND.jpg
END:VEVENT
END:VCALENDAR